BEGIN:VCALENDAR
VERSION:2.0
PRODID:-//St. Luke&#039;s ~ San Lucas - ECPv6.15.19//NONSGML v1.0//EN
CALSCALE:GREGORIAN
METHOD:PUBLISH
X-WR-CALNAME:St. Luke&#039;s ~ San Lucas
X-ORIGINAL-URL:https://www.stlukessanlucas.org/es
X-WR-CALDESC:Eventos para St. Luke&#039;s ~ San Lucas
REFRESH-INTERVAL;VALUE=DURATION:PT1H
X-Robots-Tag:noindex
X-PUBLISHED-TTL:PT1H
BEGIN:VTIMEZONE
TZID:America/Los_Angeles
BEGIN:DAYLIGHT
TZOFFSETFROM:-0800
TZOFFSETTO:-0700
TZNAME:PDT
DTSTART:20250309T100000
END:DAYLIGHT
BEGIN:STANDARD
TZOFFSETFROM:-0700
TZOFFSETTO:-0800
TZNAME:PST
DTSTART:20251102T090000
END:STANDARD
BEGIN:DAYLIGHT
TZOFFSETFROM:-0800
TZOFFSETTO:-0700
TZNAME:PDT
DTSTART:20260308T100000
END:DAYLIGHT
BEGIN:STANDARD
TZOFFSETFROM:-0700
TZOFFSETTO:-0800
TZNAME:PST
DTSTART:20261101T090000
END:STANDARD
BEGIN:DAYLIGHT
TZOFFSETFROM:-0800
TZOFFSETTO:-0700
TZNAME:PDT
DTSTART:20270314T100000
END:DAYLIGHT
BEGIN:STANDARD
TZOFFSETFROM:-0700
TZOFFSETTO:-0800
TZNAME:PST
DTSTART:20271107T090000
END:STANDARD
END:VTIMEZONE
BEGIN:VEVENT
DTSTART;TZID=America/Los_Angeles:20260430T080000
DTEND;TZID=America/Los_Angeles:20260430T080000
DTSTAMP:20260423T190238
CREATED:20251215T195920Z
LAST-MODIFIED:20251215T200103Z
UID:10006109-1777536000-1777536000@www.stlukessanlucas.org
SUMMARY:Thursday Crew
DESCRIPTION:This group of volunteers are made up of worker bees. Every Thursday they meet and do anything the Parish needs. Painting\, sorting\, cleaning\, plumbing\, electrical…you name it and they’ve done it. If you are a handy person\, this might be the ministry for you. We work from 8 to 10 am and then have sweets\, coffee and conversation in the library.
URL:https://www.stlukessanlucas.org/es/event/work-crew-2/2026-04-30/
END:VEVENT
BEGIN:VEVENT
DTSTART;TZID=America/Los_Angeles:20260507T080000
DTEND;TZID=America/Los_Angeles:20260507T080000
DTSTAMP:20260423T190238
CREATED:20251215T195920Z
LAST-MODIFIED:20251215T200103Z
UID:10006110-1778140800-1778140800@www.stlukessanlucas.org
SUMMARY:Thursday Crew
DESCRIPTION:This group of volunteers are made up of worker bees. Every Thursday they meet and do anything the Parish needs. Painting\, sorting\, cleaning\, plumbing\, electrical…you name it and they’ve done it. If you are a handy person\, this might be the ministry for you. We work from 8 to 10 am and then have sweets\, coffee and conversation in the library.
URL:https://www.stlukessanlucas.org/es/event/work-crew-2/2026-05-07/
END:VEVENT
BEGIN:VEVENT
DTSTART;TZID=America/Los_Angeles:20260514T080000
DTEND;TZID=America/Los_Angeles:20260514T080000
DTSTAMP:20260423T190238
CREATED:20251215T195920Z
LAST-MODIFIED:20251215T200103Z
UID:10006111-1778745600-1778745600@www.stlukessanlucas.org
SUMMARY:Thursday Crew
DESCRIPTION:This group of volunteers are made up of worker bees. Every Thursday they meet and do anything the Parish needs. Painting\, sorting\, cleaning\, plumbing\, electrical…you name it and they’ve done it. If you are a handy person\, this might be the ministry for you. We work from 8 to 10 am and then have sweets\, coffee and conversation in the library.
URL:https://www.stlukessanlucas.org/es/event/work-crew-2/2026-05-14/
END:VEVENT
BEGIN:VEVENT
DTSTART;TZID=America/Los_Angeles:20260521T080000
DTEND;TZID=America/Los_Angeles:20260521T080000
DTSTAMP:20260423T190238
CREATED:20251215T195920Z
LAST-MODIFIED:20251215T200103Z
UID:10006112-1779350400-1779350400@www.stlukessanlucas.org
SUMMARY:Thursday Crew
DESCRIPTION:This group of volunteers are made up of worker bees. Every Thursday they meet and do anything the Parish needs. Painting\, sorting\, cleaning\, plumbing\, electrical…you name it and they’ve done it. If you are a handy person\, this might be the ministry for you. We work from 8 to 10 am and then have sweets\, coffee and conversation in the library.
URL:https://www.stlukessanlucas.org/es/event/work-crew-2/2026-05-21/
END:VEVENT
BEGIN:VEVENT
DTSTART;TZID=America/Los_Angeles:20260528T080000
DTEND;TZID=America/Los_Angeles:20260528T080000
DTSTAMP:20260423T190238
CREATED:20251215T195920Z
LAST-MODIFIED:20251215T200103Z
UID:10006113-1779955200-1779955200@www.stlukessanlucas.org
SUMMARY:Thursday Crew
DESCRIPTION:This group of volunteers are made up of worker bees. Every Thursday they meet and do anything the Parish needs. Painting\, sorting\, cleaning\, plumbing\, electrical…you name it and they’ve done it. If you are a handy person\, this might be the ministry for you. We work from 8 to 10 am and then have sweets\, coffee and conversation in the library.
URL:https://www.stlukessanlucas.org/es/event/work-crew-2/2026-05-28/
END:VEVENT
BEGIN:VEVENT
DTSTART;TZID=America/Los_Angeles:20260604T080000
DTEND;TZID=America/Los_Angeles:20260604T080000
DTSTAMP:20260423T190238
CREATED:20251215T195920Z
LAST-MODIFIED:20251215T200103Z
UID:10006114-1780560000-1780560000@www.stlukessanlucas.org
SUMMARY:Thursday Crew
DESCRIPTION:This group of volunteers are made up of worker bees. Every Thursday they meet and do anything the Parish needs. Painting\, sorting\, cleaning\, plumbing\, electrical…you name it and they’ve done it. If you are a handy person\, this might be the ministry for you. We work from 8 to 10 am and then have sweets\, coffee and conversation in the library.
URL:https://www.stlukessanlucas.org/es/event/work-crew-2/2026-06-04/
END:VEVENT
BEGIN:VEVENT
DTSTART;TZID=America/Los_Angeles:20260611T080000
DTEND;TZID=America/Los_Angeles:20260611T080000
DTSTAMP:20260423T190238
CREATED:20251215T195920Z
LAST-MODIFIED:20251215T200103Z
UID:10006115-1781164800-1781164800@www.stlukessanlucas.org
SUMMARY:Thursday Crew
DESCRIPTION:This group of volunteers are made up of worker bees. Every Thursday they meet and do anything the Parish needs. Painting\, sorting\, cleaning\, plumbing\, electrical…you name it and they’ve done it. If you are a handy person\, this might be the ministry for you. We work from 8 to 10 am and then have sweets\, coffee and conversation in the library.
URL:https://www.stlukessanlucas.org/es/event/work-crew-2/2026-06-11/
END:VEVENT
BEGIN:VEVENT
DTSTART;TZID=America/Los_Angeles:20260618T080000
DTEND;TZID=America/Los_Angeles:20260618T080000
DTSTAMP:20260423T190238
CREATED:20251215T195920Z
LAST-MODIFIED:20251215T200103Z
UID:10006116-1781769600-1781769600@www.stlukessanlucas.org
SUMMARY:Thursday Crew
DESCRIPTION:This group of volunteers are made up of worker bees. Every Thursday they meet and do anything the Parish needs. Painting\, sorting\, cleaning\, plumbing\, electrical…you name it and they’ve done it. If you are a handy person\, this might be the ministry for you. We work from 8 to 10 am and then have sweets\, coffee and conversation in the library.
URL:https://www.stlukessanlucas.org/es/event/work-crew-2/2026-06-18/
END:VEVENT
BEGIN:VEVENT
DTSTART;TZID=America/Los_Angeles:20260625T080000
DTEND;TZID=America/Los_Angeles:20260625T080000
DTSTAMP:20260423T190238
CREATED:20251215T195920Z
LAST-MODIFIED:20251215T200103Z
UID:10006117-1782374400-1782374400@www.stlukessanlucas.org
SUMMARY:Thursday Crew
DESCRIPTION:This group of volunteers are made up of worker bees. Every Thursday they meet and do anything the Parish needs. Painting\, sorting\, cleaning\, plumbing\, electrical…you name it and they’ve done it. If you are a handy person\, this might be the ministry for you. We work from 8 to 10 am and then have sweets\, coffee and conversation in the library.
URL:https://www.stlukessanlucas.org/es/event/work-crew-2/2026-06-25/
END:VEVENT
BEGIN:VEVENT
DTSTART;TZID=America/Los_Angeles:20260702T080000
DTEND;TZID=America/Los_Angeles:20260702T080000
DTSTAMP:20260423T190238
CREATED:20251215T195920Z
LAST-MODIFIED:20251215T200103Z
UID:10006118-1782979200-1782979200@www.stlukessanlucas.org
SUMMARY:Thursday Crew
DESCRIPTION:This group of volunteers are made up of worker bees. Every Thursday they meet and do anything the Parish needs. Painting\, sorting\, cleaning\, plumbing\, electrical…you name it and they’ve done it. If you are a handy person\, this might be the ministry for you. We work from 8 to 10 am and then have sweets\, coffee and conversation in the library.
URL:https://www.stlukessanlucas.org/es/event/work-crew-2/2026-07-02/
END:VEVENT
BEGIN:VEVENT
DTSTART;TZID=America/Los_Angeles:20260709T080000
DTEND;TZID=America/Los_Angeles:20260709T080000
DTSTAMP:20260423T190238
CREATED:20251215T195920Z
LAST-MODIFIED:20251215T200103Z
UID:10006119-1783584000-1783584000@www.stlukessanlucas.org
SUMMARY:Thursday Crew
DESCRIPTION:This group of volunteers are made up of worker bees. Every Thursday they meet and do anything the Parish needs. Painting\, sorting\, cleaning\, plumbing\, electrical…you name it and they’ve done it. If you are a handy person\, this might be the ministry for you. We work from 8 to 10 am and then have sweets\, coffee and conversation in the library.
URL:https://www.stlukessanlucas.org/es/event/work-crew-2/2026-07-09/
END:VEVENT
BEGIN:VEVENT
DTSTART;TZID=America/Los_Angeles:20260716T080000
DTEND;TZID=America/Los_Angeles:20260716T080000
DTSTAMP:20260423T190238
CREATED:20251215T195920Z
LAST-MODIFIED:20251215T200103Z
UID:10006120-1784188800-1784188800@www.stlukessanlucas.org
SUMMARY:Thursday Crew
DESCRIPTION:This group of volunteers are made up of worker bees. Every Thursday they meet and do anything the Parish needs. Painting\, sorting\, cleaning\, plumbing\, electrical…you name it and they’ve done it. If you are a handy person\, this might be the ministry for you. We work from 8 to 10 am and then have sweets\, coffee and conversation in the library.
URL:https://www.stlukessanlucas.org/es/event/work-crew-2/2026-07-16/
END:VEVENT
BEGIN:VEVENT
DTSTART;TZID=America/Los_Angeles:20260723T080000
DTEND;TZID=America/Los_Angeles:20260723T080000
DTSTAMP:20260423T190238
CREATED:20251215T195920Z
LAST-MODIFIED:20251215T200103Z
UID:10006121-1784793600-1784793600@www.stlukessanlucas.org
SUMMARY:Thursday Crew
DESCRIPTION:This group of volunteers are made up of worker bees. Every Thursday they meet and do anything the Parish needs. Painting\, sorting\, cleaning\, plumbing\, electrical…you name it and they’ve done it. If you are a handy person\, this might be the ministry for you. We work from 8 to 10 am and then have sweets\, coffee and conversation in the library.
URL:https://www.stlukessanlucas.org/es/event/work-crew-2/2026-07-23/
END:VEVENT
BEGIN:VEVENT
DTSTART;TZID=America/Los_Angeles:20260730T080000
DTEND;TZID=America/Los_Angeles:20260730T080000
DTSTAMP:20260423T190238
CREATED:20251215T195920Z
LAST-MODIFIED:20251215T200103Z
UID:10006122-1785398400-1785398400@www.stlukessanlucas.org
SUMMARY:Thursday Crew
DESCRIPTION:This group of volunteers are made up of worker bees. Every Thursday they meet and do anything the Parish needs. Painting\, sorting\, cleaning\, plumbing\, electrical…you name it and they’ve done it. If you are a handy person\, this might be the ministry for you. We work from 8 to 10 am and then have sweets\, coffee and conversation in the library.
URL:https://www.stlukessanlucas.org/es/event/work-crew-2/2026-07-30/
END:VEVENT
BEGIN:VEVENT
DTSTART;TZID=America/Los_Angeles:20260806T080000
DTEND;TZID=America/Los_Angeles:20260806T080000
DTSTAMP:20260423T190238
CREATED:20251215T195920Z
LAST-MODIFIED:20251215T200103Z
UID:10006123-1786003200-1786003200@www.stlukessanlucas.org
SUMMARY:Thursday Crew
DESCRIPTION:This group of volunteers are made up of worker bees. Every Thursday they meet and do anything the Parish needs. Painting\, sorting\, cleaning\, plumbing\, electrical…you name it and they’ve done it. If you are a handy person\, this might be the ministry for you. We work from 8 to 10 am and then have sweets\, coffee and conversation in the library.
URL:https://www.stlukessanlucas.org/es/event/work-crew-2/2026-08-06/
END:VEVENT
BEGIN:VEVENT
DTSTART;TZID=America/Los_Angeles:20260813T080000
DTEND;TZID=America/Los_Angeles:20260813T080000
DTSTAMP:20260423T190238
CREATED:20251215T195920Z
LAST-MODIFIED:20251215T200103Z
UID:10006124-1786608000-1786608000@www.stlukessanlucas.org
SUMMARY:Thursday Crew
DESCRIPTION:This group of volunteers are made up of worker bees. Every Thursday they meet and do anything the Parish needs. Painting\, sorting\, cleaning\, plumbing\, electrical…you name it and they’ve done it. If you are a handy person\, this might be the ministry for you. We work from 8 to 10 am and then have sweets\, coffee and conversation in the library.
URL:https://www.stlukessanlucas.org/es/event/work-crew-2/2026-08-13/
END:VEVENT
BEGIN:VEVENT
DTSTART;TZID=America/Los_Angeles:20260820T080000
DTEND;TZID=America/Los_Angeles:20260820T080000
DTSTAMP:20260423T190238
CREATED:20251215T195920Z
LAST-MODIFIED:20251215T200103Z
UID:10006125-1787212800-1787212800@www.stlukessanlucas.org
SUMMARY:Thursday Crew
DESCRIPTION:This group of volunteers are made up of worker bees. Every Thursday they meet and do anything the Parish needs. Painting\, sorting\, cleaning\, plumbing\, electrical…you name it and they’ve done it. If you are a handy person\, this might be the ministry for you. We work from 8 to 10 am and then have sweets\, coffee and conversation in the library.
URL:https://www.stlukessanlucas.org/es/event/work-crew-2/2026-08-20/
END:VEVENT
BEGIN:VEVENT
DTSTART;TZID=America/Los_Angeles:20260827T080000
DTEND;TZID=America/Los_Angeles:20260827T080000
DTSTAMP:20260423T190238
CREATED:20251215T195920Z
LAST-MODIFIED:20251215T200103Z
UID:10006126-1787817600-1787817600@www.stlukessanlucas.org
SUMMARY:Thursday Crew
DESCRIPTION:This group of volunteers are made up of worker bees. Every Thursday they meet and do anything the Parish needs. Painting\, sorting\, cleaning\, plumbing\, electrical…you name it and they’ve done it. If you are a handy person\, this might be the ministry for you. We work from 8 to 10 am and then have sweets\, coffee and conversation in the library.
URL:https://www.stlukessanlucas.org/es/event/work-crew-2/2026-08-27/
END:VEVENT
BEGIN:VEVENT
DTSTART;TZID=America/Los_Angeles:20260903T080000
DTEND;TZID=America/Los_Angeles:20260903T080000
DTSTAMP:20260423T190238
CREATED:20251215T195920Z
LAST-MODIFIED:20251215T200103Z
UID:10006127-1788422400-1788422400@www.stlukessanlucas.org
SUMMARY:Thursday Crew
DESCRIPTION:This group of volunteers are made up of worker bees. Every Thursday they meet and do anything the Parish needs. Painting\, sorting\, cleaning\, plumbing\, electrical…you name it and they’ve done it. If you are a handy person\, this might be the ministry for you. We work from 8 to 10 am and then have sweets\, coffee and conversation in the library.
URL:https://www.stlukessanlucas.org/es/event/work-crew-2/2026-09-03/
END:VEVENT
BEGIN:VEVENT
DTSTART;TZID=America/Los_Angeles:20260910T080000
DTEND;TZID=America/Los_Angeles:20260910T080000
DTSTAMP:20260423T190238
CREATED:20251215T195920Z
LAST-MODIFIED:20251215T200103Z
UID:10006128-1789027200-1789027200@www.stlukessanlucas.org
SUMMARY:Thursday Crew
DESCRIPTION:This group of volunteers are made up of worker bees. Every Thursday they meet and do anything the Parish needs. Painting\, sorting\, cleaning\, plumbing\, electrical…you name it and they’ve done it. If you are a handy person\, this might be the ministry for you. We work from 8 to 10 am and then have sweets\, coffee and conversation in the library.
URL:https://www.stlukessanlucas.org/es/event/work-crew-2/2026-09-10/
END:VEVENT
BEGIN:VEVENT
DTSTART;TZID=America/Los_Angeles:20260917T080000
DTEND;TZID=America/Los_Angeles:20260917T080000
DTSTAMP:20260423T190238
CREATED:20251215T195920Z
LAST-MODIFIED:20251215T200103Z
UID:10006129-1789632000-1789632000@www.stlukessanlucas.org
SUMMARY:Thursday Crew
DESCRIPTION:This group of volunteers are made up of worker bees. Every Thursday they meet and do anything the Parish needs. Painting\, sorting\, cleaning\, plumbing\, electrical…you name it and they’ve done it. If you are a handy person\, this might be the ministry for you. We work from 8 to 10 am and then have sweets\, coffee and conversation in the library.
URL:https://www.stlukessanlucas.org/es/event/work-crew-2/2026-09-17/
END:VEVENT
BEGIN:VEVENT
DTSTART;TZID=America/Los_Angeles:20260924T080000
DTEND;TZID=America/Los_Angeles:20260924T080000
DTSTAMP:20260423T190238
CREATED:20251215T195920Z
LAST-MODIFIED:20251215T200103Z
UID:10006130-1790236800-1790236800@www.stlukessanlucas.org
SUMMARY:Thursday Crew
DESCRIPTION:This group of volunteers are made up of worker bees. Every Thursday they meet and do anything the Parish needs. Painting\, sorting\, cleaning\, plumbing\, electrical…you name it and they’ve done it. If you are a handy person\, this might be the ministry for you. We work from 8 to 10 am and then have sweets\, coffee and conversation in the library.
URL:https://www.stlukessanlucas.org/es/event/work-crew-2/2026-09-24/
END:VEVENT
BEGIN:VEVENT
DTSTART;TZID=America/Los_Angeles:20261001T080000
DTEND;TZID=America/Los_Angeles:20261001T080000
DTSTAMP:20260423T190238
CREATED:20251215T195920Z
LAST-MODIFIED:20251215T200103Z
UID:10006131-1790841600-1790841600@www.stlukessanlucas.org
SUMMARY:Thursday Crew
DESCRIPTION:This group of volunteers are made up of worker bees. Every Thursday they meet and do anything the Parish needs. Painting\, sorting\, cleaning\, plumbing\, electrical…you name it and they’ve done it. If you are a handy person\, this might be the ministry for you. We work from 8 to 10 am and then have sweets\, coffee and conversation in the library.
URL:https://www.stlukessanlucas.org/es/event/work-crew-2/2026-10-01/
END:VEVENT
BEGIN:VEVENT
DTSTART;TZID=America/Los_Angeles:20261008T080000
DTEND;TZID=America/Los_Angeles:20261008T080000
DTSTAMP:20260423T190238
CREATED:20251215T195920Z
LAST-MODIFIED:20251215T200103Z
UID:10006132-1791446400-1791446400@www.stlukessanlucas.org
SUMMARY:Thursday Crew
DESCRIPTION:This group of volunteers are made up of worker bees. Every Thursday they meet and do anything the Parish needs. Painting\, sorting\, cleaning\, plumbing\, electrical…you name it and they’ve done it. If you are a handy person\, this might be the ministry for you. We work from 8 to 10 am and then have sweets\, coffee and conversation in the library.
URL:https://www.stlukessanlucas.org/es/event/work-crew-2/2026-10-08/
END:VEVENT
BEGIN:VEVENT
DTSTART;TZID=America/Los_Angeles:20261015T080000
DTEND;TZID=America/Los_Angeles:20261015T080000
DTSTAMP:20260423T190238
CREATED:20251215T195920Z
LAST-MODIFIED:20251215T200103Z
UID:10006133-1792051200-1792051200@www.stlukessanlucas.org
SUMMARY:Thursday Crew
DESCRIPTION:This group of volunteers are made up of worker bees. Every Thursday they meet and do anything the Parish needs. Painting\, sorting\, cleaning\, plumbing\, electrical…you name it and they’ve done it. If you are a handy person\, this might be the ministry for you. We work from 8 to 10 am and then have sweets\, coffee and conversation in the library.
URL:https://www.stlukessanlucas.org/es/event/work-crew-2/2026-10-15/
END:VEVENT
BEGIN:VEVENT
DTSTART;TZID=America/Los_Angeles:20261022T080000
DTEND;TZID=America/Los_Angeles:20261022T080000
DTSTAMP:20260423T190238
CREATED:20251215T195920Z
LAST-MODIFIED:20251215T200103Z
UID:10006134-1792656000-1792656000@www.stlukessanlucas.org
SUMMARY:Thursday Crew
DESCRIPTION:This group of volunteers are made up of worker bees. Every Thursday they meet and do anything the Parish needs. Painting\, sorting\, cleaning\, plumbing\, electrical…you name it and they’ve done it. If you are a handy person\, this might be the ministry for you. We work from 8 to 10 am and then have sweets\, coffee and conversation in the library.
URL:https://www.stlukessanlucas.org/es/event/work-crew-2/2026-10-22/
END:VEVENT
BEGIN:VEVENT
DTSTART;TZID=America/Los_Angeles:20261029T080000
DTEND;TZID=America/Los_Angeles:20261029T080000
DTSTAMP:20260423T190238
CREATED:20251215T195920Z
LAST-MODIFIED:20251215T200103Z
UID:10006135-1793260800-1793260800@www.stlukessanlucas.org
SUMMARY:Thursday Crew
DESCRIPTION:This group of volunteers are made up of worker bees. Every Thursday they meet and do anything the Parish needs. Painting\, sorting\, cleaning\, plumbing\, electrical…you name it and they’ve done it. If you are a handy person\, this might be the ministry for you. We work from 8 to 10 am and then have sweets\, coffee and conversation in the library.
URL:https://www.stlukessanlucas.org/es/event/work-crew-2/2026-10-29/
END:VEVENT
BEGIN:VEVENT
DTSTART;TZID=America/Los_Angeles:20261105T080000
DTEND;TZID=America/Los_Angeles:20261105T080000
DTSTAMP:20260423T190238
CREATED:20251215T195920Z
LAST-MODIFIED:20251215T200103Z
UID:10006136-1793865600-1793865600@www.stlukessanlucas.org
SUMMARY:Thursday Crew
DESCRIPTION:This group of volunteers are made up of worker bees. Every Thursday they meet and do anything the Parish needs. Painting\, sorting\, cleaning\, plumbing\, electrical…you name it and they’ve done it. If you are a handy person\, this might be the ministry for you. We work from 8 to 10 am and then have sweets\, coffee and conversation in the library.
URL:https://www.stlukessanlucas.org/es/event/work-crew-2/2026-11-05/
END:VEVENT
BEGIN:VEVENT
DTSTART;TZID=America/Los_Angeles:20261112T080000
DTEND;TZID=America/Los_Angeles:20261112T080000
DTSTAMP:20260423T190238
CREATED:20251215T195920Z
LAST-MODIFIED:20251215T200103Z
UID:10006137-1794470400-1794470400@www.stlukessanlucas.org
SUMMARY:Thursday Crew
DESCRIPTION:This group of volunteers are made up of worker bees. Every Thursday they meet and do anything the Parish needs. Painting\, sorting\, cleaning\, plumbing\, electrical…you name it and they’ve done it. If you are a handy person\, this might be the ministry for you. We work from 8 to 10 am and then have sweets\, coffee and conversation in the library.
URL:https://www.stlukessanlucas.org/es/event/work-crew-2/2026-11-12/
END:VEVENT
BEGIN:VEVENT
DTSTART;TZID=America/Los_Angeles:20261119T080000
DTEND;TZID=America/Los_Angeles:20261119T080000
DTSTAMP:20260423T190238
CREATED:20251215T195920Z
LAST-MODIFIED:20251215T200103Z
UID:10006138-1795075200-1795075200@www.stlukessanlucas.org
SUMMARY:Thursday Crew
DESCRIPTION:This group of volunteers are made up of worker bees. Every Thursday they meet and do anything the Parish needs. Painting\, sorting\, cleaning\, plumbing\, electrical…you name it and they’ve done it. If you are a handy person\, this might be the ministry for you. We work from 8 to 10 am and then have sweets\, coffee and conversation in the library.
URL:https://www.stlukessanlucas.org/es/event/work-crew-2/2026-11-19/
END:VEVENT
END:VCALENDAR