BEGIN:VCALENDAR
VERSION:2.0
PRODID:-//St. Luke&#039;s ~ San Lucas - ECPv6.15.19//NONSGML v1.0//EN
CALSCALE:GREGORIAN
METHOD:PUBLISH
X-WR-CALNAME:St. Luke&#039;s ~ San Lucas
X-ORIGINAL-URL:https://www.stlukessanlucas.org/es
X-WR-CALDESC:Eventos para St. Luke&#039;s ~ San Lucas
REFRESH-INTERVAL;VALUE=DURATION:PT1H
X-Robots-Tag:noindex
X-PUBLISHED-TTL:PT1H
BEGIN:VTIMEZONE
TZID:America/Los_Angeles
BEGIN:DAYLIGHT
TZOFFSETFROM:-0800
TZOFFSETTO:-0700
TZNAME:PDT
DTSTART:20250309T100000
END:DAYLIGHT
BEGIN:STANDARD
TZOFFSETFROM:-0700
TZOFFSETTO:-0800
TZNAME:PST
DTSTART:20251102T090000
END:STANDARD
BEGIN:DAYLIGHT
TZOFFSETFROM:-0800
TZOFFSETTO:-0700
TZNAME:PDT
DTSTART:20260308T100000
END:DAYLIGHT
BEGIN:STANDARD
TZOFFSETFROM:-0700
TZOFFSETTO:-0800
TZNAME:PST
DTSTART:20261101T090000
END:STANDARD
BEGIN:DAYLIGHT
TZOFFSETFROM:-0800
TZOFFSETTO:-0700
TZNAME:PDT
DTSTART:20270314T100000
END:DAYLIGHT
BEGIN:STANDARD
TZOFFSETFROM:-0700
TZOFFSETTO:-0800
TZNAME:PST
DTSTART:20271107T090000
END:STANDARD
END:VTIMEZONE
BEGIN:VEVENT
DTSTART;TZID=America/Los_Angeles:20260428T100000
DTEND;TZID=America/Los_Angeles:20260428T110000
DTSTAMP:20260423T211616
CREATED:20250403T224713Z
LAST-MODIFIED:20251215T193025Z
UID:10002208-1777370400-1777374000@www.stlukessanlucas.org
SUMMARY:Book Club I
DESCRIPTION:We have two book groups that are open to all. Copies of the current book can be found in the library.
URL:https://www.stlukessanlucas.org/es/event/book-group-ii-2/2026-04-28/
LOCATION:Church Library
END:VEVENT
BEGIN:VEVENT
DTSTART;TZID=America/Los_Angeles:20260505T100000
DTEND;TZID=America/Los_Angeles:20260505T110000
DTSTAMP:20260423T211616
CREATED:20250403T224713Z
LAST-MODIFIED:20251215T193025Z
UID:10002209-1777975200-1777978800@www.stlukessanlucas.org
SUMMARY:Book Club I
DESCRIPTION:We have two book groups that are open to all. Copies of the current book can be found in the library.
URL:https://www.stlukessanlucas.org/es/event/book-group-ii-2/2026-05-05/
LOCATION:Church Library
END:VEVENT
BEGIN:VEVENT
DTSTART;TZID=America/Los_Angeles:20260512T100000
DTEND;TZID=America/Los_Angeles:20260512T110000
DTSTAMP:20260423T211616
CREATED:20250403T224713Z
LAST-MODIFIED:20251215T193025Z
UID:10002210-1778580000-1778583600@www.stlukessanlucas.org
SUMMARY:Book Club I
DESCRIPTION:We have two book groups that are open to all. Copies of the current book can be found in the library.
URL:https://www.stlukessanlucas.org/es/event/book-group-ii-2/2026-05-12/
LOCATION:Church Library
END:VEVENT
BEGIN:VEVENT
DTSTART;TZID=America/Los_Angeles:20260519T100000
DTEND;TZID=America/Los_Angeles:20260519T110000
DTSTAMP:20260423T211616
CREATED:20250403T224713Z
LAST-MODIFIED:20251215T193025Z
UID:10002211-1779184800-1779188400@www.stlukessanlucas.org
SUMMARY:Book Club I
DESCRIPTION:We have two book groups that are open to all. Copies of the current book can be found in the library.
URL:https://www.stlukessanlucas.org/es/event/book-group-ii-2/2026-05-19/
LOCATION:Church Library
END:VEVENT
BEGIN:VEVENT
DTSTART;TZID=America/Los_Angeles:20260526T100000
DTEND;TZID=America/Los_Angeles:20260526T110000
DTSTAMP:20260423T211616
CREATED:20250403T224713Z
LAST-MODIFIED:20251215T193025Z
UID:10002212-1779789600-1779793200@www.stlukessanlucas.org
SUMMARY:Book Club I
DESCRIPTION:We have two book groups that are open to all. Copies of the current book can be found in the library.
URL:https://www.stlukessanlucas.org/es/event/book-group-ii-2/2026-05-26/
LOCATION:Church Library
END:VEVENT
BEGIN:VEVENT
DTSTART;TZID=America/Los_Angeles:20260602T100000
DTEND;TZID=America/Los_Angeles:20260602T110000
DTSTAMP:20260423T211616
CREATED:20250403T224713Z
LAST-MODIFIED:20251215T193025Z
UID:10002213-1780394400-1780398000@www.stlukessanlucas.org
SUMMARY:Book Club I
DESCRIPTION:We have two book groups that are open to all. Copies of the current book can be found in the library.
URL:https://www.stlukessanlucas.org/es/event/book-group-ii-2/2026-06-02/
LOCATION:Church Library
END:VEVENT
BEGIN:VEVENT
DTSTART;TZID=America/Los_Angeles:20260609T100000
DTEND;TZID=America/Los_Angeles:20260609T110000
DTSTAMP:20260423T211616
CREATED:20250403T224713Z
LAST-MODIFIED:20251215T193025Z
UID:10002214-1780999200-1781002800@www.stlukessanlucas.org
SUMMARY:Book Club I
DESCRIPTION:We have two book groups that are open to all. Copies of the current book can be found in the library.
URL:https://www.stlukessanlucas.org/es/event/book-group-ii-2/2026-06-09/
LOCATION:Church Library
END:VEVENT
BEGIN:VEVENT
DTSTART;TZID=America/Los_Angeles:20260616T100000
DTEND;TZID=America/Los_Angeles:20260616T110000
DTSTAMP:20260423T211616
CREATED:20250403T224713Z
LAST-MODIFIED:20251215T193025Z
UID:10002215-1781604000-1781607600@www.stlukessanlucas.org
SUMMARY:Book Club I
DESCRIPTION:We have two book groups that are open to all. Copies of the current book can be found in the library.
URL:https://www.stlukessanlucas.org/es/event/book-group-ii-2/2026-06-16/
LOCATION:Church Library
END:VEVENT
BEGIN:VEVENT
DTSTART;TZID=America/Los_Angeles:20260623T100000
DTEND;TZID=America/Los_Angeles:20260623T110000
DTSTAMP:20260423T211616
CREATED:20250403T224713Z
LAST-MODIFIED:20251215T193025Z
UID:10002216-1782208800-1782212400@www.stlukessanlucas.org
SUMMARY:Book Club I
DESCRIPTION:We have two book groups that are open to all. Copies of the current book can be found in the library.
URL:https://www.stlukessanlucas.org/es/event/book-group-ii-2/2026-06-23/
LOCATION:Church Library
END:VEVENT
BEGIN:VEVENT
DTSTART;TZID=America/Los_Angeles:20260630T100000
DTEND;TZID=America/Los_Angeles:20260630T110000
DTSTAMP:20260423T211616
CREATED:20250403T224713Z
LAST-MODIFIED:20251215T193025Z
UID:10002217-1782813600-1782817200@www.stlukessanlucas.org
SUMMARY:Book Club I
DESCRIPTION:We have two book groups that are open to all. Copies of the current book can be found in the library.
URL:https://www.stlukessanlucas.org/es/event/book-group-ii-2/2026-06-30/
LOCATION:Church Library
END:VEVENT
BEGIN:VEVENT
DTSTART;TZID=America/Los_Angeles:20260707T100000
DTEND;TZID=America/Los_Angeles:20260707T110000
DTSTAMP:20260423T211616
CREATED:20250403T224713Z
LAST-MODIFIED:20251215T193025Z
UID:10002218-1783418400-1783422000@www.stlukessanlucas.org
SUMMARY:Book Club I
DESCRIPTION:We have two book groups that are open to all. Copies of the current book can be found in the library.
URL:https://www.stlukessanlucas.org/es/event/book-group-ii-2/2026-07-07/
LOCATION:Church Library
END:VEVENT
BEGIN:VEVENT
DTSTART;TZID=America/Los_Angeles:20260714T100000
DTEND;TZID=America/Los_Angeles:20260714T110000
DTSTAMP:20260423T211616
CREATED:20250403T224713Z
LAST-MODIFIED:20251215T193025Z
UID:10002219-1784023200-1784026800@www.stlukessanlucas.org
SUMMARY:Book Club I
DESCRIPTION:We have two book groups that are open to all. Copies of the current book can be found in the library.
URL:https://www.stlukessanlucas.org/es/event/book-group-ii-2/2026-07-14/
LOCATION:Church Library
END:VEVENT
BEGIN:VEVENT
DTSTART;TZID=America/Los_Angeles:20260721T100000
DTEND;TZID=America/Los_Angeles:20260721T110000
DTSTAMP:20260423T211616
CREATED:20250403T224713Z
LAST-MODIFIED:20251215T193025Z
UID:10002220-1784628000-1784631600@www.stlukessanlucas.org
SUMMARY:Book Club I
DESCRIPTION:We have two book groups that are open to all. Copies of the current book can be found in the library.
URL:https://www.stlukessanlucas.org/es/event/book-group-ii-2/2026-07-21/
LOCATION:Church Library
END:VEVENT
BEGIN:VEVENT
DTSTART;TZID=America/Los_Angeles:20260728T100000
DTEND;TZID=America/Los_Angeles:20260728T110000
DTSTAMP:20260423T211616
CREATED:20250403T224713Z
LAST-MODIFIED:20251215T193025Z
UID:10002221-1785232800-1785236400@www.stlukessanlucas.org
SUMMARY:Book Club I
DESCRIPTION:We have two book groups that are open to all. Copies of the current book can be found in the library.
URL:https://www.stlukessanlucas.org/es/event/book-group-ii-2/2026-07-28/
LOCATION:Church Library
END:VEVENT
BEGIN:VEVENT
DTSTART;TZID=America/Los_Angeles:20260804T100000
DTEND;TZID=America/Los_Angeles:20260804T110000
DTSTAMP:20260423T211616
CREATED:20250403T224713Z
LAST-MODIFIED:20251215T193025Z
UID:10002222-1785837600-1785841200@www.stlukessanlucas.org
SUMMARY:Book Club I
DESCRIPTION:We have two book groups that are open to all. Copies of the current book can be found in the library.
URL:https://www.stlukessanlucas.org/es/event/book-group-ii-2/2026-08-04/
LOCATION:Church Library
END:VEVENT
BEGIN:VEVENT
DTSTART;TZID=America/Los_Angeles:20260811T100000
DTEND;TZID=America/Los_Angeles:20260811T110000
DTSTAMP:20260423T211616
CREATED:20250403T224713Z
LAST-MODIFIED:20251215T193025Z
UID:10002223-1786442400-1786446000@www.stlukessanlucas.org
SUMMARY:Book Club I
DESCRIPTION:We have two book groups that are open to all. Copies of the current book can be found in the library.
URL:https://www.stlukessanlucas.org/es/event/book-group-ii-2/2026-08-11/
LOCATION:Church Library
END:VEVENT
BEGIN:VEVENT
DTSTART;TZID=America/Los_Angeles:20260818T100000
DTEND;TZID=America/Los_Angeles:20260818T110000
DTSTAMP:20260423T211616
CREATED:20250403T224713Z
LAST-MODIFIED:20251215T193025Z
UID:10002224-1787047200-1787050800@www.stlukessanlucas.org
SUMMARY:Book Club I
DESCRIPTION:We have two book groups that are open to all. Copies of the current book can be found in the library.
URL:https://www.stlukessanlucas.org/es/event/book-group-ii-2/2026-08-18/
LOCATION:Church Library
END:VEVENT
BEGIN:VEVENT
DTSTART;TZID=America/Los_Angeles:20260825T100000
DTEND;TZID=America/Los_Angeles:20260825T110000
DTSTAMP:20260423T211616
CREATED:20250403T224713Z
LAST-MODIFIED:20251215T193025Z
UID:10002225-1787652000-1787655600@www.stlukessanlucas.org
SUMMARY:Book Club I
DESCRIPTION:We have two book groups that are open to all. Copies of the current book can be found in the library.
URL:https://www.stlukessanlucas.org/es/event/book-group-ii-2/2026-08-25/
LOCATION:Church Library
END:VEVENT
BEGIN:VEVENT
DTSTART;TZID=America/Los_Angeles:20260901T100000
DTEND;TZID=America/Los_Angeles:20260901T110000
DTSTAMP:20260423T211616
CREATED:20250403T224713Z
LAST-MODIFIED:20251215T193025Z
UID:10002226-1788256800-1788260400@www.stlukessanlucas.org
SUMMARY:Book Club I
DESCRIPTION:We have two book groups that are open to all. Copies of the current book can be found in the library.
URL:https://www.stlukessanlucas.org/es/event/book-group-ii-2/2026-09-01/
LOCATION:Church Library
END:VEVENT
BEGIN:VEVENT
DTSTART;TZID=America/Los_Angeles:20260908T100000
DTEND;TZID=America/Los_Angeles:20260908T110000
DTSTAMP:20260423T211616
CREATED:20250403T224713Z
LAST-MODIFIED:20251215T193025Z
UID:10002227-1788861600-1788865200@www.stlukessanlucas.org
SUMMARY:Book Club I
DESCRIPTION:We have two book groups that are open to all. Copies of the current book can be found in the library.
URL:https://www.stlukessanlucas.org/es/event/book-group-ii-2/2026-09-08/
LOCATION:Church Library
END:VEVENT
BEGIN:VEVENT
DTSTART;TZID=America/Los_Angeles:20260915T100000
DTEND;TZID=America/Los_Angeles:20260915T110000
DTSTAMP:20260423T211616
CREATED:20250403T224713Z
LAST-MODIFIED:20251215T193025Z
UID:10002228-1789466400-1789470000@www.stlukessanlucas.org
SUMMARY:Book Club I
DESCRIPTION:We have two book groups that are open to all. Copies of the current book can be found in the library.
URL:https://www.stlukessanlucas.org/es/event/book-group-ii-2/2026-09-15/
LOCATION:Church Library
END:VEVENT
BEGIN:VEVENT
DTSTART;TZID=America/Los_Angeles:20260922T100000
DTEND;TZID=America/Los_Angeles:20260922T110000
DTSTAMP:20260423T211616
CREATED:20250403T224713Z
LAST-MODIFIED:20251215T193025Z
UID:10002229-1790071200-1790074800@www.stlukessanlucas.org
SUMMARY:Book Club I
DESCRIPTION:We have two book groups that are open to all. Copies of the current book can be found in the library.
URL:https://www.stlukessanlucas.org/es/event/book-group-ii-2/2026-09-22/
LOCATION:Church Library
END:VEVENT
BEGIN:VEVENT
DTSTART;TZID=America/Los_Angeles:20260929T100000
DTEND;TZID=America/Los_Angeles:20260929T110000
DTSTAMP:20260423T211616
CREATED:20250403T224713Z
LAST-MODIFIED:20251215T193025Z
UID:10002230-1790676000-1790679600@www.stlukessanlucas.org
SUMMARY:Book Club I
DESCRIPTION:We have two book groups that are open to all. Copies of the current book can be found in the library.
URL:https://www.stlukessanlucas.org/es/event/book-group-ii-2/2026-09-29/
LOCATION:Church Library
END:VEVENT
BEGIN:VEVENT
DTSTART;TZID=America/Los_Angeles:20261006T100000
DTEND;TZID=America/Los_Angeles:20261006T110000
DTSTAMP:20260423T211616
CREATED:20250403T224713Z
LAST-MODIFIED:20251215T193025Z
UID:10002231-1791280800-1791284400@www.stlukessanlucas.org
SUMMARY:Book Club I
DESCRIPTION:We have two book groups that are open to all. Copies of the current book can be found in the library.
URL:https://www.stlukessanlucas.org/es/event/book-group-ii-2/2026-10-06/
LOCATION:Church Library
END:VEVENT
BEGIN:VEVENT
DTSTART;TZID=America/Los_Angeles:20261013T100000
DTEND;TZID=America/Los_Angeles:20261013T110000
DTSTAMP:20260423T211616
CREATED:20250403T224713Z
LAST-MODIFIED:20251215T193025Z
UID:10002232-1791885600-1791889200@www.stlukessanlucas.org
SUMMARY:Book Club I
DESCRIPTION:We have two book groups that are open to all. Copies of the current book can be found in the library.
URL:https://www.stlukessanlucas.org/es/event/book-group-ii-2/2026-10-13/
LOCATION:Church Library
END:VEVENT
BEGIN:VEVENT
DTSTART;TZID=America/Los_Angeles:20261020T100000
DTEND;TZID=America/Los_Angeles:20261020T110000
DTSTAMP:20260423T211616
CREATED:20250403T224713Z
LAST-MODIFIED:20251215T193025Z
UID:10002233-1792490400-1792494000@www.stlukessanlucas.org
SUMMARY:Book Club I
DESCRIPTION:We have two book groups that are open to all. Copies of the current book can be found in the library.
URL:https://www.stlukessanlucas.org/es/event/book-group-ii-2/2026-10-20/
LOCATION:Church Library
END:VEVENT
BEGIN:VEVENT
DTSTART;TZID=America/Los_Angeles:20261027T100000
DTEND;TZID=America/Los_Angeles:20261027T110000
DTSTAMP:20260423T211616
CREATED:20250403T224713Z
LAST-MODIFIED:20251215T193025Z
UID:10002234-1793095200-1793098800@www.stlukessanlucas.org
SUMMARY:Book Club I
DESCRIPTION:We have two book groups that are open to all. Copies of the current book can be found in the library.
URL:https://www.stlukessanlucas.org/es/event/book-group-ii-2/2026-10-27/
LOCATION:Church Library
END:VEVENT
BEGIN:VEVENT
DTSTART;TZID=America/Los_Angeles:20261103T100000
DTEND;TZID=America/Los_Angeles:20261103T110000
DTSTAMP:20260423T211616
CREATED:20250403T224713Z
LAST-MODIFIED:20251215T193025Z
UID:10002235-1793700000-1793703600@www.stlukessanlucas.org
SUMMARY:Book Club I
DESCRIPTION:We have two book groups that are open to all. Copies of the current book can be found in the library.
URL:https://www.stlukessanlucas.org/es/event/book-group-ii-2/2026-11-03/
LOCATION:Church Library
END:VEVENT
BEGIN:VEVENT
DTSTART;TZID=America/Los_Angeles:20261110T100000
DTEND;TZID=America/Los_Angeles:20261110T110000
DTSTAMP:20260423T211616
CREATED:20250403T224713Z
LAST-MODIFIED:20251215T193025Z
UID:10002236-1794304800-1794308400@www.stlukessanlucas.org
SUMMARY:Book Club I
DESCRIPTION:We have two book groups that are open to all. Copies of the current book can be found in the library.
URL:https://www.stlukessanlucas.org/es/event/book-group-ii-2/2026-11-10/
LOCATION:Church Library
END:VEVENT
BEGIN:VEVENT
DTSTART;TZID=America/Los_Angeles:20261117T100000
DTEND;TZID=America/Los_Angeles:20261117T110000
DTSTAMP:20260423T211616
CREATED:20250403T224713Z
LAST-MODIFIED:20251215T193025Z
UID:10002237-1794909600-1794913200@www.stlukessanlucas.org
SUMMARY:Book Club I
DESCRIPTION:We have two book groups that are open to all. Copies of the current book can be found in the library.
URL:https://www.stlukessanlucas.org/es/event/book-group-ii-2/2026-11-17/
LOCATION:Church Library
END:VEVENT
END:VCALENDAR