BEGIN:VCALENDAR
VERSION:2.0
PRODID:-//St. Luke&#039;s ~ San Lucas - ECPv6.15.19//NONSGML v1.0//EN
CALSCALE:GREGORIAN
METHOD:PUBLISH
X-WR-CALNAME:St. Luke&#039;s ~ San Lucas
X-ORIGINAL-URL:https://www.stlukessanlucas.org/es
X-WR-CALDESC:Eventos para St. Luke&#039;s ~ San Lucas
REFRESH-INTERVAL;VALUE=DURATION:PT1H
X-Robots-Tag:noindex
X-PUBLISHED-TTL:PT1H
BEGIN:VTIMEZONE
TZID:America/Los_Angeles
BEGIN:DAYLIGHT
TZOFFSETFROM:-0800
TZOFFSETTO:-0700
TZNAME:PDT
DTSTART:20250309T100000
END:DAYLIGHT
BEGIN:STANDARD
TZOFFSETFROM:-0700
TZOFFSETTO:-0800
TZNAME:PST
DTSTART:20251102T090000
END:STANDARD
BEGIN:DAYLIGHT
TZOFFSETFROM:-0800
TZOFFSETTO:-0700
TZNAME:PDT
DTSTART:20260308T100000
END:DAYLIGHT
BEGIN:STANDARD
TZOFFSETFROM:-0700
TZOFFSETTO:-0800
TZNAME:PST
DTSTART:20261101T090000
END:STANDARD
BEGIN:DAYLIGHT
TZOFFSETFROM:-0800
TZOFFSETTO:-0700
TZNAME:PDT
DTSTART:20270314T100000
END:DAYLIGHT
BEGIN:STANDARD
TZOFFSETFROM:-0700
TZOFFSETTO:-0800
TZNAME:PST
DTSTART:20271107T090000
END:STANDARD
END:VTIMEZONE
BEGIN:VEVENT
DTSTART;TZID=America/Los_Angeles:20260426T100000
DTEND;TZID=America/Los_Angeles:20260426T110000
DTSTAMP:20260425T191317
CREATED:20260203T004951Z
LAST-MODIFIED:20260203T004952Z
UID:10003169-1777197600-1777201200@www.stlukessanlucas.org
SUMMARY:Sunday Worship Service in English with music
DESCRIPTION:A traditional Episcopal service with live music. Childcare and nursery are available during the service. Immediately following the service there is a social hour with tea\, coffee and a light snack.
URL:https://www.stlukessanlucas.org/es/event/sunday-worship-service-in-english-with-music-2-2/2026-04-26/
LOCATION:St. Luke’s Episcopal Church\, 426 E 4th Plain Blvd. (360) 696-0181\, Vancouver\, WA\, 98663\, United States
CATEGORIES:Worship
END:VEVENT
BEGIN:VEVENT
DTSTART;TZID=America/Los_Angeles:20260503T100000
DTEND;TZID=America/Los_Angeles:20260503T110000
DTSTAMP:20260425T191317
CREATED:20260203T004951Z
LAST-MODIFIED:20260203T004952Z
UID:10003170-1777802400-1777806000@www.stlukessanlucas.org
SUMMARY:Sunday Worship Service in English with music
DESCRIPTION:A traditional Episcopal service with live music. Childcare and nursery are available during the service. Immediately following the service there is a social hour with tea\, coffee and a light snack.
URL:https://www.stlukessanlucas.org/es/event/sunday-worship-service-in-english-with-music-2-2/2026-05-03/
LOCATION:St. Luke’s Episcopal Church\, 426 E 4th Plain Blvd. (360) 696-0181\, Vancouver\, WA\, 98663\, United States
CATEGORIES:Worship
END:VEVENT
BEGIN:VEVENT
DTSTART;TZID=America/Los_Angeles:20260510T100000
DTEND;TZID=America/Los_Angeles:20260510T110000
DTSTAMP:20260425T191317
CREATED:20260203T004951Z
LAST-MODIFIED:20260203T004952Z
UID:10003171-1778407200-1778410800@www.stlukessanlucas.org
SUMMARY:Sunday Worship Service in English with music
DESCRIPTION:A traditional Episcopal service with live music. Childcare and nursery are available during the service. Immediately following the service there is a social hour with tea\, coffee and a light snack.
URL:https://www.stlukessanlucas.org/es/event/sunday-worship-service-in-english-with-music-2-2/2026-05-10/
LOCATION:St. Luke’s Episcopal Church\, 426 E 4th Plain Blvd. (360) 696-0181\, Vancouver\, WA\, 98663\, United States
CATEGORIES:Worship
END:VEVENT
BEGIN:VEVENT
DTSTART;TZID=America/Los_Angeles:20260517T100000
DTEND;TZID=America/Los_Angeles:20260517T110000
DTSTAMP:20260425T191317
CREATED:20260203T004951Z
LAST-MODIFIED:20260203T004952Z
UID:10003172-1779012000-1779015600@www.stlukessanlucas.org
SUMMARY:Sunday Worship Service in English with music
DESCRIPTION:A traditional Episcopal service with live music. Childcare and nursery are available during the service. Immediately following the service there is a social hour with tea\, coffee and a light snack.
URL:https://www.stlukessanlucas.org/es/event/sunday-worship-service-in-english-with-music-2-2/2026-05-17/
LOCATION:St. Luke’s Episcopal Church\, 426 E 4th Plain Blvd. (360) 696-0181\, Vancouver\, WA\, 98663\, United States
CATEGORIES:Worship
END:VEVENT
BEGIN:VEVENT
DTSTART;TZID=America/Los_Angeles:20260524T100000
DTEND;TZID=America/Los_Angeles:20260524T110000
DTSTAMP:20260425T191317
CREATED:20260203T004951Z
LAST-MODIFIED:20260203T004952Z
UID:10003173-1779616800-1779620400@www.stlukessanlucas.org
SUMMARY:Sunday Worship Service in English with music
DESCRIPTION:A traditional Episcopal service with live music. Childcare and nursery are available during the service. Immediately following the service there is a social hour with tea\, coffee and a light snack.
URL:https://www.stlukessanlucas.org/es/event/sunday-worship-service-in-english-with-music-2-2/2026-05-24/
LOCATION:St. Luke’s Episcopal Church\, 426 E 4th Plain Blvd. (360) 696-0181\, Vancouver\, WA\, 98663\, United States
CATEGORIES:Worship
END:VEVENT
BEGIN:VEVENT
DTSTART;TZID=America/Los_Angeles:20260531T100000
DTEND;TZID=America/Los_Angeles:20260531T110000
DTSTAMP:20260425T191317
CREATED:20260203T004951Z
LAST-MODIFIED:20260203T004952Z
UID:10003174-1780221600-1780225200@www.stlukessanlucas.org
SUMMARY:Sunday Worship Service in English with music
DESCRIPTION:A traditional Episcopal service with live music. Childcare and nursery are available during the service. Immediately following the service there is a social hour with tea\, coffee and a light snack.
URL:https://www.stlukessanlucas.org/es/event/sunday-worship-service-in-english-with-music-2-2/2026-05-31/
LOCATION:St. Luke’s Episcopal Church\, 426 E 4th Plain Blvd. (360) 696-0181\, Vancouver\, WA\, 98663\, United States
CATEGORIES:Worship
END:VEVENT
BEGIN:VEVENT
DTSTART;TZID=America/Los_Angeles:20260607T100000
DTEND;TZID=America/Los_Angeles:20260607T110000
DTSTAMP:20260425T191317
CREATED:20260203T004951Z
LAST-MODIFIED:20260203T004952Z
UID:10003175-1780826400-1780830000@www.stlukessanlucas.org
SUMMARY:Sunday Worship Service in English with music
DESCRIPTION:A traditional Episcopal service with live music. Childcare and nursery are available during the service. Immediately following the service there is a social hour with tea\, coffee and a light snack.
URL:https://www.stlukessanlucas.org/es/event/sunday-worship-service-in-english-with-music-2-2/2026-06-07/
LOCATION:St. Luke’s Episcopal Church\, 426 E 4th Plain Blvd. (360) 696-0181\, Vancouver\, WA\, 98663\, United States
CATEGORIES:Worship
END:VEVENT
BEGIN:VEVENT
DTSTART;TZID=America/Los_Angeles:20260614T100000
DTEND;TZID=America/Los_Angeles:20260614T110000
DTSTAMP:20260425T191317
CREATED:20260203T004951Z
LAST-MODIFIED:20260203T004952Z
UID:10003176-1781431200-1781434800@www.stlukessanlucas.org
SUMMARY:Sunday Worship Service in English with music
DESCRIPTION:A traditional Episcopal service with live music. Childcare and nursery are available during the service. Immediately following the service there is a social hour with tea\, coffee and a light snack.
URL:https://www.stlukessanlucas.org/es/event/sunday-worship-service-in-english-with-music-2-2/2026-06-14/
LOCATION:St. Luke’s Episcopal Church\, 426 E 4th Plain Blvd. (360) 696-0181\, Vancouver\, WA\, 98663\, United States
CATEGORIES:Worship
END:VEVENT
BEGIN:VEVENT
DTSTART;TZID=America/Los_Angeles:20260621T100000
DTEND;TZID=America/Los_Angeles:20260621T110000
DTSTAMP:20260425T191317
CREATED:20260203T004951Z
LAST-MODIFIED:20260203T004952Z
UID:10003177-1782036000-1782039600@www.stlukessanlucas.org
SUMMARY:Sunday Worship Service in English with music
DESCRIPTION:A traditional Episcopal service with live music. Childcare and nursery are available during the service. Immediately following the service there is a social hour with tea\, coffee and a light snack.
URL:https://www.stlukessanlucas.org/es/event/sunday-worship-service-in-english-with-music-2-2/2026-06-21/
LOCATION:St. Luke’s Episcopal Church\, 426 E 4th Plain Blvd. (360) 696-0181\, Vancouver\, WA\, 98663\, United States
CATEGORIES:Worship
END:VEVENT
BEGIN:VEVENT
DTSTART;TZID=America/Los_Angeles:20260628T100000
DTEND;TZID=America/Los_Angeles:20260628T110000
DTSTAMP:20260425T191317
CREATED:20260203T004951Z
LAST-MODIFIED:20260203T004952Z
UID:10003178-1782640800-1782644400@www.stlukessanlucas.org
SUMMARY:Sunday Worship Service in English with music
DESCRIPTION:A traditional Episcopal service with live music. Childcare and nursery are available during the service. Immediately following the service there is a social hour with tea\, coffee and a light snack.
URL:https://www.stlukessanlucas.org/es/event/sunday-worship-service-in-english-with-music-2-2/2026-06-28/
LOCATION:St. Luke’s Episcopal Church\, 426 E 4th Plain Blvd. (360) 696-0181\, Vancouver\, WA\, 98663\, United States
CATEGORIES:Worship
END:VEVENT
BEGIN:VEVENT
DTSTART;TZID=America/Los_Angeles:20260705T100000
DTEND;TZID=America/Los_Angeles:20260705T110000
DTSTAMP:20260425T191317
CREATED:20260203T004951Z
LAST-MODIFIED:20260203T004952Z
UID:10003179-1783245600-1783249200@www.stlukessanlucas.org
SUMMARY:Sunday Worship Service in English with music
DESCRIPTION:A traditional Episcopal service with live music. Childcare and nursery are available during the service. Immediately following the service there is a social hour with tea\, coffee and a light snack.
URL:https://www.stlukessanlucas.org/es/event/sunday-worship-service-in-english-with-music-2-2/2026-07-05/
LOCATION:St. Luke’s Episcopal Church\, 426 E 4th Plain Blvd. (360) 696-0181\, Vancouver\, WA\, 98663\, United States
CATEGORIES:Worship
END:VEVENT
BEGIN:VEVENT
DTSTART;TZID=America/Los_Angeles:20260712T100000
DTEND;TZID=America/Los_Angeles:20260712T110000
DTSTAMP:20260425T191317
CREATED:20260203T004951Z
LAST-MODIFIED:20260203T004952Z
UID:10003180-1783850400-1783854000@www.stlukessanlucas.org
SUMMARY:Sunday Worship Service in English with music
DESCRIPTION:A traditional Episcopal service with live music. Childcare and nursery are available during the service. Immediately following the service there is a social hour with tea\, coffee and a light snack.
URL:https://www.stlukessanlucas.org/es/event/sunday-worship-service-in-english-with-music-2-2/2026-07-12/
LOCATION:St. Luke’s Episcopal Church\, 426 E 4th Plain Blvd. (360) 696-0181\, Vancouver\, WA\, 98663\, United States
CATEGORIES:Worship
END:VEVENT
BEGIN:VEVENT
DTSTART;TZID=America/Los_Angeles:20260719T100000
DTEND;TZID=America/Los_Angeles:20260719T110000
DTSTAMP:20260425T191317
CREATED:20260203T004951Z
LAST-MODIFIED:20260203T004952Z
UID:10003181-1784455200-1784458800@www.stlukessanlucas.org
SUMMARY:Sunday Worship Service in English with music
DESCRIPTION:A traditional Episcopal service with live music. Childcare and nursery are available during the service. Immediately following the service there is a social hour with tea\, coffee and a light snack.
URL:https://www.stlukessanlucas.org/es/event/sunday-worship-service-in-english-with-music-2-2/2026-07-19/
LOCATION:St. Luke’s Episcopal Church\, 426 E 4th Plain Blvd. (360) 696-0181\, Vancouver\, WA\, 98663\, United States
CATEGORIES:Worship
END:VEVENT
BEGIN:VEVENT
DTSTART;TZID=America/Los_Angeles:20260726T100000
DTEND;TZID=America/Los_Angeles:20260726T110000
DTSTAMP:20260425T191317
CREATED:20260203T004951Z
LAST-MODIFIED:20260203T004952Z
UID:10003182-1785060000-1785063600@www.stlukessanlucas.org
SUMMARY:Sunday Worship Service in English with music
DESCRIPTION:A traditional Episcopal service with live music. Childcare and nursery are available during the service. Immediately following the service there is a social hour with tea\, coffee and a light snack.
URL:https://www.stlukessanlucas.org/es/event/sunday-worship-service-in-english-with-music-2-2/2026-07-26/
LOCATION:St. Luke’s Episcopal Church\, 426 E 4th Plain Blvd. (360) 696-0181\, Vancouver\, WA\, 98663\, United States
CATEGORIES:Worship
END:VEVENT
BEGIN:VEVENT
DTSTART;TZID=America/Los_Angeles:20260802T100000
DTEND;TZID=America/Los_Angeles:20260802T110000
DTSTAMP:20260425T191317
CREATED:20260203T004951Z
LAST-MODIFIED:20260203T004952Z
UID:10003183-1785664800-1785668400@www.stlukessanlucas.org
SUMMARY:Sunday Worship Service in English with music
DESCRIPTION:A traditional Episcopal service with live music. Childcare and nursery are available during the service. Immediately following the service there is a social hour with tea\, coffee and a light snack.
URL:https://www.stlukessanlucas.org/es/event/sunday-worship-service-in-english-with-music-2-2/2026-08-02/
LOCATION:St. Luke’s Episcopal Church\, 426 E 4th Plain Blvd. (360) 696-0181\, Vancouver\, WA\, 98663\, United States
CATEGORIES:Worship
END:VEVENT
BEGIN:VEVENT
DTSTART;TZID=America/Los_Angeles:20260809T100000
DTEND;TZID=America/Los_Angeles:20260809T110000
DTSTAMP:20260425T191317
CREATED:20260203T004951Z
LAST-MODIFIED:20260203T004952Z
UID:10003184-1786269600-1786273200@www.stlukessanlucas.org
SUMMARY:Sunday Worship Service in English with music
DESCRIPTION:A traditional Episcopal service with live music. Childcare and nursery are available during the service. Immediately following the service there is a social hour with tea\, coffee and a light snack.
URL:https://www.stlukessanlucas.org/es/event/sunday-worship-service-in-english-with-music-2-2/2026-08-09/
LOCATION:St. Luke’s Episcopal Church\, 426 E 4th Plain Blvd. (360) 696-0181\, Vancouver\, WA\, 98663\, United States
CATEGORIES:Worship
END:VEVENT
BEGIN:VEVENT
DTSTART;TZID=America/Los_Angeles:20260816T100000
DTEND;TZID=America/Los_Angeles:20260816T110000
DTSTAMP:20260425T191317
CREATED:20260203T004951Z
LAST-MODIFIED:20260203T004952Z
UID:10003185-1786874400-1786878000@www.stlukessanlucas.org
SUMMARY:Sunday Worship Service in English with music
DESCRIPTION:A traditional Episcopal service with live music. Childcare and nursery are available during the service. Immediately following the service there is a social hour with tea\, coffee and a light snack.
URL:https://www.stlukessanlucas.org/es/event/sunday-worship-service-in-english-with-music-2-2/2026-08-16/
LOCATION:St. Luke’s Episcopal Church\, 426 E 4th Plain Blvd. (360) 696-0181\, Vancouver\, WA\, 98663\, United States
CATEGORIES:Worship
END:VEVENT
BEGIN:VEVENT
DTSTART;TZID=America/Los_Angeles:20260823T100000
DTEND;TZID=America/Los_Angeles:20260823T110000
DTSTAMP:20260425T191317
CREATED:20260203T004951Z
LAST-MODIFIED:20260203T004952Z
UID:10003186-1787479200-1787482800@www.stlukessanlucas.org
SUMMARY:Sunday Worship Service in English with music
DESCRIPTION:A traditional Episcopal service with live music. Childcare and nursery are available during the service. Immediately following the service there is a social hour with tea\, coffee and a light snack.
URL:https://www.stlukessanlucas.org/es/event/sunday-worship-service-in-english-with-music-2-2/2026-08-23/
LOCATION:St. Luke’s Episcopal Church\, 426 E 4th Plain Blvd. (360) 696-0181\, Vancouver\, WA\, 98663\, United States
CATEGORIES:Worship
END:VEVENT
BEGIN:VEVENT
DTSTART;TZID=America/Los_Angeles:20260830T100000
DTEND;TZID=America/Los_Angeles:20260830T110000
DTSTAMP:20260425T191317
CREATED:20260203T004951Z
LAST-MODIFIED:20260203T004952Z
UID:10003187-1788084000-1788087600@www.stlukessanlucas.org
SUMMARY:Sunday Worship Service in English with music
DESCRIPTION:A traditional Episcopal service with live music. Childcare and nursery are available during the service. Immediately following the service there is a social hour with tea\, coffee and a light snack.
URL:https://www.stlukessanlucas.org/es/event/sunday-worship-service-in-english-with-music-2-2/2026-08-30/
LOCATION:St. Luke’s Episcopal Church\, 426 E 4th Plain Blvd. (360) 696-0181\, Vancouver\, WA\, 98663\, United States
CATEGORIES:Worship
END:VEVENT
BEGIN:VEVENT
DTSTART;TZID=America/Los_Angeles:20260906T100000
DTEND;TZID=America/Los_Angeles:20260906T110000
DTSTAMP:20260425T191317
CREATED:20260203T004951Z
LAST-MODIFIED:20260203T004952Z
UID:10003188-1788688800-1788692400@www.stlukessanlucas.org
SUMMARY:Sunday Worship Service in English with music
DESCRIPTION:A traditional Episcopal service with live music. Childcare and nursery are available during the service. Immediately following the service there is a social hour with tea\, coffee and a light snack.
URL:https://www.stlukessanlucas.org/es/event/sunday-worship-service-in-english-with-music-2-2/2026-09-06/
LOCATION:St. Luke’s Episcopal Church\, 426 E 4th Plain Blvd. (360) 696-0181\, Vancouver\, WA\, 98663\, United States
CATEGORIES:Worship
END:VEVENT
BEGIN:VEVENT
DTSTART;TZID=America/Los_Angeles:20260913T100000
DTEND;TZID=America/Los_Angeles:20260913T110000
DTSTAMP:20260425T191317
CREATED:20260203T004951Z
LAST-MODIFIED:20260203T004952Z
UID:10003189-1789293600-1789297200@www.stlukessanlucas.org
SUMMARY:Sunday Worship Service in English with music
DESCRIPTION:A traditional Episcopal service with live music. Childcare and nursery are available during the service. Immediately following the service there is a social hour with tea\, coffee and a light snack.
URL:https://www.stlukessanlucas.org/es/event/sunday-worship-service-in-english-with-music-2-2/2026-09-13/
LOCATION:St. Luke’s Episcopal Church\, 426 E 4th Plain Blvd. (360) 696-0181\, Vancouver\, WA\, 98663\, United States
CATEGORIES:Worship
END:VEVENT
BEGIN:VEVENT
DTSTART;TZID=America/Los_Angeles:20260920T100000
DTEND;TZID=America/Los_Angeles:20260920T110000
DTSTAMP:20260425T191317
CREATED:20260203T004951Z
LAST-MODIFIED:20260203T004952Z
UID:10003190-1789898400-1789902000@www.stlukessanlucas.org
SUMMARY:Sunday Worship Service in English with music
DESCRIPTION:A traditional Episcopal service with live music. Childcare and nursery are available during the service. Immediately following the service there is a social hour with tea\, coffee and a light snack.
URL:https://www.stlukessanlucas.org/es/event/sunday-worship-service-in-english-with-music-2-2/2026-09-20/
LOCATION:St. Luke’s Episcopal Church\, 426 E 4th Plain Blvd. (360) 696-0181\, Vancouver\, WA\, 98663\, United States
CATEGORIES:Worship
END:VEVENT
BEGIN:VEVENT
DTSTART;TZID=America/Los_Angeles:20260927T100000
DTEND;TZID=America/Los_Angeles:20260927T110000
DTSTAMP:20260425T191317
CREATED:20260203T004951Z
LAST-MODIFIED:20260203T004952Z
UID:10003191-1790503200-1790506800@www.stlukessanlucas.org
SUMMARY:Sunday Worship Service in English with music
DESCRIPTION:A traditional Episcopal service with live music. Childcare and nursery are available during the service. Immediately following the service there is a social hour with tea\, coffee and a light snack.
URL:https://www.stlukessanlucas.org/es/event/sunday-worship-service-in-english-with-music-2-2/2026-09-27/
LOCATION:St. Luke’s Episcopal Church\, 426 E 4th Plain Blvd. (360) 696-0181\, Vancouver\, WA\, 98663\, United States
CATEGORIES:Worship
END:VEVENT
BEGIN:VEVENT
DTSTART;TZID=America/Los_Angeles:20261004T100000
DTEND;TZID=America/Los_Angeles:20261004T110000
DTSTAMP:20260425T191317
CREATED:20260203T004951Z
LAST-MODIFIED:20260203T004952Z
UID:10003192-1791108000-1791111600@www.stlukessanlucas.org
SUMMARY:Sunday Worship Service in English with music
DESCRIPTION:A traditional Episcopal service with live music. Childcare and nursery are available during the service. Immediately following the service there is a social hour with tea\, coffee and a light snack.
URL:https://www.stlukessanlucas.org/es/event/sunday-worship-service-in-english-with-music-2-2/2026-10-04/
LOCATION:St. Luke’s Episcopal Church\, 426 E 4th Plain Blvd. (360) 696-0181\, Vancouver\, WA\, 98663\, United States
CATEGORIES:Worship
END:VEVENT
BEGIN:VEVENT
DTSTART;TZID=America/Los_Angeles:20261011T100000
DTEND;TZID=America/Los_Angeles:20261011T110000
DTSTAMP:20260425T191317
CREATED:20260203T004951Z
LAST-MODIFIED:20260203T004952Z
UID:10003193-1791712800-1791716400@www.stlukessanlucas.org
SUMMARY:Sunday Worship Service in English with music
DESCRIPTION:A traditional Episcopal service with live music. Childcare and nursery are available during the service. Immediately following the service there is a social hour with tea\, coffee and a light snack.
URL:https://www.stlukessanlucas.org/es/event/sunday-worship-service-in-english-with-music-2-2/2026-10-11/
LOCATION:St. Luke’s Episcopal Church\, 426 E 4th Plain Blvd. (360) 696-0181\, Vancouver\, WA\, 98663\, United States
CATEGORIES:Worship
END:VEVENT
BEGIN:VEVENT
DTSTART;TZID=America/Los_Angeles:20261018T100000
DTEND;TZID=America/Los_Angeles:20261018T110000
DTSTAMP:20260425T191317
CREATED:20260203T004951Z
LAST-MODIFIED:20260203T004952Z
UID:10003194-1792317600-1792321200@www.stlukessanlucas.org
SUMMARY:Sunday Worship Service in English with music
DESCRIPTION:A traditional Episcopal service with live music. Childcare and nursery are available during the service. Immediately following the service there is a social hour with tea\, coffee and a light snack.
URL:https://www.stlukessanlucas.org/es/event/sunday-worship-service-in-english-with-music-2-2/2026-10-18/
LOCATION:St. Luke’s Episcopal Church\, 426 E 4th Plain Blvd. (360) 696-0181\, Vancouver\, WA\, 98663\, United States
CATEGORIES:Worship
END:VEVENT
BEGIN:VEVENT
DTSTART;TZID=America/Los_Angeles:20261025T100000
DTEND;TZID=America/Los_Angeles:20261025T110000
DTSTAMP:20260425T191317
CREATED:20260203T004951Z
LAST-MODIFIED:20260203T004952Z
UID:10003195-1792922400-1792926000@www.stlukessanlucas.org
SUMMARY:Sunday Worship Service in English with music
DESCRIPTION:A traditional Episcopal service with live music. Childcare and nursery are available during the service. Immediately following the service there is a social hour with tea\, coffee and a light snack.
URL:https://www.stlukessanlucas.org/es/event/sunday-worship-service-in-english-with-music-2-2/2026-10-25/
LOCATION:St. Luke’s Episcopal Church\, 426 E 4th Plain Blvd. (360) 696-0181\, Vancouver\, WA\, 98663\, United States
CATEGORIES:Worship
END:VEVENT
BEGIN:VEVENT
DTSTART;TZID=America/Los_Angeles:20261101T100000
DTEND;TZID=America/Los_Angeles:20261101T110000
DTSTAMP:20260425T191317
CREATED:20260203T004951Z
LAST-MODIFIED:20260203T004952Z
UID:10003196-1793527200-1793530800@www.stlukessanlucas.org
SUMMARY:Sunday Worship Service in English with music
DESCRIPTION:A traditional Episcopal service with live music. Childcare and nursery are available during the service. Immediately following the service there is a social hour with tea\, coffee and a light snack.
URL:https://www.stlukessanlucas.org/es/event/sunday-worship-service-in-english-with-music-2-2/2026-11-01/
LOCATION:St. Luke’s Episcopal Church\, 426 E 4th Plain Blvd. (360) 696-0181\, Vancouver\, WA\, 98663\, United States
CATEGORIES:Worship
END:VEVENT
BEGIN:VEVENT
DTSTART;TZID=America/Los_Angeles:20261108T100000
DTEND;TZID=America/Los_Angeles:20261108T110000
DTSTAMP:20260425T191317
CREATED:20260203T004951Z
LAST-MODIFIED:20260203T004952Z
UID:10003197-1794132000-1794135600@www.stlukessanlucas.org
SUMMARY:Sunday Worship Service in English with music
DESCRIPTION:A traditional Episcopal service with live music. Childcare and nursery are available during the service. Immediately following the service there is a social hour with tea\, coffee and a light snack.
URL:https://www.stlukessanlucas.org/es/event/sunday-worship-service-in-english-with-music-2-2/2026-11-08/
LOCATION:St. Luke’s Episcopal Church\, 426 E 4th Plain Blvd. (360) 696-0181\, Vancouver\, WA\, 98663\, United States
CATEGORIES:Worship
END:VEVENT
BEGIN:VEVENT
DTSTART;TZID=America/Los_Angeles:20261115T100000
DTEND;TZID=America/Los_Angeles:20261115T110000
DTSTAMP:20260425T191317
CREATED:20260203T004951Z
LAST-MODIFIED:20260203T004952Z
UID:10003198-1794736800-1794740400@www.stlukessanlucas.org
SUMMARY:Sunday Worship Service in English with music
DESCRIPTION:A traditional Episcopal service with live music. Childcare and nursery are available during the service. Immediately following the service there is a social hour with tea\, coffee and a light snack.
URL:https://www.stlukessanlucas.org/es/event/sunday-worship-service-in-english-with-music-2-2/2026-11-15/
LOCATION:St. Luke’s Episcopal Church\, 426 E 4th Plain Blvd. (360) 696-0181\, Vancouver\, WA\, 98663\, United States
CATEGORIES:Worship
END:VEVENT
END:VCALENDAR