BEGIN:VCALENDAR
VERSION:2.0
PRODID:-//St. Luke&#039;s ~ San Lucas - ECPv6.15.19//NONSGML v1.0//EN
CALSCALE:GREGORIAN
METHOD:PUBLISH
X-WR-CALNAME:St. Luke&#039;s ~ San Lucas
X-ORIGINAL-URL:https://www.stlukessanlucas.org/es
X-WR-CALDESC:Eventos para St. Luke&#039;s ~ San Lucas
REFRESH-INTERVAL;VALUE=DURATION:PT1H
X-Robots-Tag:noindex
X-PUBLISHED-TTL:PT1H
BEGIN:VTIMEZONE
TZID:America/Los_Angeles
BEGIN:DAYLIGHT
TZOFFSETFROM:-0800
TZOFFSETTO:-0700
TZNAME:PDT
DTSTART:20250309T100000
END:DAYLIGHT
BEGIN:STANDARD
TZOFFSETFROM:-0700
TZOFFSETTO:-0800
TZNAME:PST
DTSTART:20251102T090000
END:STANDARD
BEGIN:DAYLIGHT
TZOFFSETFROM:-0800
TZOFFSETTO:-0700
TZNAME:PDT
DTSTART:20260308T100000
END:DAYLIGHT
BEGIN:STANDARD
TZOFFSETFROM:-0700
TZOFFSETTO:-0800
TZNAME:PST
DTSTART:20261101T090000
END:STANDARD
BEGIN:DAYLIGHT
TZOFFSETFROM:-0800
TZOFFSETTO:-0700
TZNAME:PDT
DTSTART:20270314T100000
END:DAYLIGHT
BEGIN:STANDARD
TZOFFSETFROM:-0700
TZOFFSETTO:-0800
TZNAME:PST
DTSTART:20271107T090000
END:STANDARD
END:VTIMEZONE
BEGIN:VEVENT
DTSTART;TZID=America/Los_Angeles:20260426T123000
DTEND;TZID=America/Los_Angeles:20260426T133000
DTSTAMP:20260425T191639
CREATED:20260203T005044Z
LAST-MODIFIED:20260203T005044Z
UID:10003429-1777206600-1777210200@www.stlukessanlucas.org
SUMMARY:Sunday Worship Service in Spanish
DESCRIPTION:A traditional Episcopal service presented in Spanish with music led by Willy Silva. A social hour takes place in the Parish Hall after the service
URL:https://www.stlukessanlucas.org/es/event/sunday-worship-service-in-spanish-2-2/2026-04-26/
LOCATION:St. Luke’s Episcopal Church\, 426 E 4th Plain Blvd. (360) 696-0181\, Vancouver\, WA\, 98663\, United States
CATEGORIES:Worship
END:VEVENT
BEGIN:VEVENT
DTSTART;TZID=America/Los_Angeles:20260503T123000
DTEND;TZID=America/Los_Angeles:20260503T133000
DTSTAMP:20260425T191639
CREATED:20260203T005044Z
LAST-MODIFIED:20260203T005044Z
UID:10003430-1777811400-1777815000@www.stlukessanlucas.org
SUMMARY:Sunday Worship Service in Spanish
DESCRIPTION:A traditional Episcopal service presented in Spanish with music led by Willy Silva. A social hour takes place in the Parish Hall after the service
URL:https://www.stlukessanlucas.org/es/event/sunday-worship-service-in-spanish-2-2/2026-05-03/
LOCATION:St. Luke’s Episcopal Church\, 426 E 4th Plain Blvd. (360) 696-0181\, Vancouver\, WA\, 98663\, United States
CATEGORIES:Worship
END:VEVENT
BEGIN:VEVENT
DTSTART;TZID=America/Los_Angeles:20260510T123000
DTEND;TZID=America/Los_Angeles:20260510T133000
DTSTAMP:20260425T191639
CREATED:20260203T005044Z
LAST-MODIFIED:20260203T005044Z
UID:10003431-1778416200-1778419800@www.stlukessanlucas.org
SUMMARY:Sunday Worship Service in Spanish
DESCRIPTION:A traditional Episcopal service presented in Spanish with music led by Willy Silva. A social hour takes place in the Parish Hall after the service
URL:https://www.stlukessanlucas.org/es/event/sunday-worship-service-in-spanish-2-2/2026-05-10/
LOCATION:St. Luke’s Episcopal Church\, 426 E 4th Plain Blvd. (360) 696-0181\, Vancouver\, WA\, 98663\, United States
CATEGORIES:Worship
END:VEVENT
BEGIN:VEVENT
DTSTART;TZID=America/Los_Angeles:20260517T123000
DTEND;TZID=America/Los_Angeles:20260517T133000
DTSTAMP:20260425T191639
CREATED:20260203T005044Z
LAST-MODIFIED:20260203T005044Z
UID:10003432-1779021000-1779024600@www.stlukessanlucas.org
SUMMARY:Sunday Worship Service in Spanish
DESCRIPTION:A traditional Episcopal service presented in Spanish with music led by Willy Silva. A social hour takes place in the Parish Hall after the service
URL:https://www.stlukessanlucas.org/es/event/sunday-worship-service-in-spanish-2-2/2026-05-17/
LOCATION:St. Luke’s Episcopal Church\, 426 E 4th Plain Blvd. (360) 696-0181\, Vancouver\, WA\, 98663\, United States
CATEGORIES:Worship
END:VEVENT
BEGIN:VEVENT
DTSTART;TZID=America/Los_Angeles:20260524T123000
DTEND;TZID=America/Los_Angeles:20260524T133000
DTSTAMP:20260425T191639
CREATED:20260203T005044Z
LAST-MODIFIED:20260203T005044Z
UID:10003433-1779625800-1779629400@www.stlukessanlucas.org
SUMMARY:Sunday Worship Service in Spanish
DESCRIPTION:A traditional Episcopal service presented in Spanish with music led by Willy Silva. A social hour takes place in the Parish Hall after the service
URL:https://www.stlukessanlucas.org/es/event/sunday-worship-service-in-spanish-2-2/2026-05-24/
LOCATION:St. Luke’s Episcopal Church\, 426 E 4th Plain Blvd. (360) 696-0181\, Vancouver\, WA\, 98663\, United States
CATEGORIES:Worship
END:VEVENT
BEGIN:VEVENT
DTSTART;TZID=America/Los_Angeles:20260531T123000
DTEND;TZID=America/Los_Angeles:20260531T133000
DTSTAMP:20260425T191639
CREATED:20260203T005044Z
LAST-MODIFIED:20260203T005044Z
UID:10003434-1780230600-1780234200@www.stlukessanlucas.org
SUMMARY:Sunday Worship Service in Spanish
DESCRIPTION:A traditional Episcopal service presented in Spanish with music led by Willy Silva. A social hour takes place in the Parish Hall after the service
URL:https://www.stlukessanlucas.org/es/event/sunday-worship-service-in-spanish-2-2/2026-05-31/
LOCATION:St. Luke’s Episcopal Church\, 426 E 4th Plain Blvd. (360) 696-0181\, Vancouver\, WA\, 98663\, United States
CATEGORIES:Worship
END:VEVENT
BEGIN:VEVENT
DTSTART;TZID=America/Los_Angeles:20260607T123000
DTEND;TZID=America/Los_Angeles:20260607T133000
DTSTAMP:20260425T191639
CREATED:20260203T005044Z
LAST-MODIFIED:20260203T005044Z
UID:10003435-1780835400-1780839000@www.stlukessanlucas.org
SUMMARY:Sunday Worship Service in Spanish
DESCRIPTION:A traditional Episcopal service presented in Spanish with music led by Willy Silva. A social hour takes place in the Parish Hall after the service
URL:https://www.stlukessanlucas.org/es/event/sunday-worship-service-in-spanish-2-2/2026-06-07/
LOCATION:St. Luke’s Episcopal Church\, 426 E 4th Plain Blvd. (360) 696-0181\, Vancouver\, WA\, 98663\, United States
CATEGORIES:Worship
END:VEVENT
BEGIN:VEVENT
DTSTART;TZID=America/Los_Angeles:20260614T123000
DTEND;TZID=America/Los_Angeles:20260614T133000
DTSTAMP:20260425T191639
CREATED:20260203T005044Z
LAST-MODIFIED:20260203T005044Z
UID:10003436-1781440200-1781443800@www.stlukessanlucas.org
SUMMARY:Sunday Worship Service in Spanish
DESCRIPTION:A traditional Episcopal service presented in Spanish with music led by Willy Silva. A social hour takes place in the Parish Hall after the service
URL:https://www.stlukessanlucas.org/es/event/sunday-worship-service-in-spanish-2-2/2026-06-14/
LOCATION:St. Luke’s Episcopal Church\, 426 E 4th Plain Blvd. (360) 696-0181\, Vancouver\, WA\, 98663\, United States
CATEGORIES:Worship
END:VEVENT
BEGIN:VEVENT
DTSTART;TZID=America/Los_Angeles:20260621T123000
DTEND;TZID=America/Los_Angeles:20260621T133000
DTSTAMP:20260425T191639
CREATED:20260203T005044Z
LAST-MODIFIED:20260203T005044Z
UID:10003437-1782045000-1782048600@www.stlukessanlucas.org
SUMMARY:Sunday Worship Service in Spanish
DESCRIPTION:A traditional Episcopal service presented in Spanish with music led by Willy Silva. A social hour takes place in the Parish Hall after the service
URL:https://www.stlukessanlucas.org/es/event/sunday-worship-service-in-spanish-2-2/2026-06-21/
LOCATION:St. Luke’s Episcopal Church\, 426 E 4th Plain Blvd. (360) 696-0181\, Vancouver\, WA\, 98663\, United States
CATEGORIES:Worship
END:VEVENT
BEGIN:VEVENT
DTSTART;TZID=America/Los_Angeles:20260628T123000
DTEND;TZID=America/Los_Angeles:20260628T133000
DTSTAMP:20260425T191639
CREATED:20260203T005044Z
LAST-MODIFIED:20260203T005044Z
UID:10003438-1782649800-1782653400@www.stlukessanlucas.org
SUMMARY:Sunday Worship Service in Spanish
DESCRIPTION:A traditional Episcopal service presented in Spanish with music led by Willy Silva. A social hour takes place in the Parish Hall after the service
URL:https://www.stlukessanlucas.org/es/event/sunday-worship-service-in-spanish-2-2/2026-06-28/
LOCATION:St. Luke’s Episcopal Church\, 426 E 4th Plain Blvd. (360) 696-0181\, Vancouver\, WA\, 98663\, United States
CATEGORIES:Worship
END:VEVENT
BEGIN:VEVENT
DTSTART;TZID=America/Los_Angeles:20260705T123000
DTEND;TZID=America/Los_Angeles:20260705T133000
DTSTAMP:20260425T191639
CREATED:20260203T005044Z
LAST-MODIFIED:20260203T005044Z
UID:10003439-1783254600-1783258200@www.stlukessanlucas.org
SUMMARY:Sunday Worship Service in Spanish
DESCRIPTION:A traditional Episcopal service presented in Spanish with music led by Willy Silva. A social hour takes place in the Parish Hall after the service
URL:https://www.stlukessanlucas.org/es/event/sunday-worship-service-in-spanish-2-2/2026-07-05/
LOCATION:St. Luke’s Episcopal Church\, 426 E 4th Plain Blvd. (360) 696-0181\, Vancouver\, WA\, 98663\, United States
CATEGORIES:Worship
END:VEVENT
BEGIN:VEVENT
DTSTART;TZID=America/Los_Angeles:20260712T123000
DTEND;TZID=America/Los_Angeles:20260712T133000
DTSTAMP:20260425T191639
CREATED:20260203T005044Z
LAST-MODIFIED:20260203T005044Z
UID:10003440-1783859400-1783863000@www.stlukessanlucas.org
SUMMARY:Sunday Worship Service in Spanish
DESCRIPTION:A traditional Episcopal service presented in Spanish with music led by Willy Silva. A social hour takes place in the Parish Hall after the service
URL:https://www.stlukessanlucas.org/es/event/sunday-worship-service-in-spanish-2-2/2026-07-12/
LOCATION:St. Luke’s Episcopal Church\, 426 E 4th Plain Blvd. (360) 696-0181\, Vancouver\, WA\, 98663\, United States
CATEGORIES:Worship
END:VEVENT
BEGIN:VEVENT
DTSTART;TZID=America/Los_Angeles:20260719T123000
DTEND;TZID=America/Los_Angeles:20260719T133000
DTSTAMP:20260425T191639
CREATED:20260203T005044Z
LAST-MODIFIED:20260203T005044Z
UID:10003441-1784464200-1784467800@www.stlukessanlucas.org
SUMMARY:Sunday Worship Service in Spanish
DESCRIPTION:A traditional Episcopal service presented in Spanish with music led by Willy Silva. A social hour takes place in the Parish Hall after the service
URL:https://www.stlukessanlucas.org/es/event/sunday-worship-service-in-spanish-2-2/2026-07-19/
LOCATION:St. Luke’s Episcopal Church\, 426 E 4th Plain Blvd. (360) 696-0181\, Vancouver\, WA\, 98663\, United States
CATEGORIES:Worship
END:VEVENT
BEGIN:VEVENT
DTSTART;TZID=America/Los_Angeles:20260726T123000
DTEND;TZID=America/Los_Angeles:20260726T133000
DTSTAMP:20260425T191639
CREATED:20260203T005044Z
LAST-MODIFIED:20260203T005044Z
UID:10003442-1785069000-1785072600@www.stlukessanlucas.org
SUMMARY:Sunday Worship Service in Spanish
DESCRIPTION:A traditional Episcopal service presented in Spanish with music led by Willy Silva. A social hour takes place in the Parish Hall after the service
URL:https://www.stlukessanlucas.org/es/event/sunday-worship-service-in-spanish-2-2/2026-07-26/
LOCATION:St. Luke’s Episcopal Church\, 426 E 4th Plain Blvd. (360) 696-0181\, Vancouver\, WA\, 98663\, United States
CATEGORIES:Worship
END:VEVENT
BEGIN:VEVENT
DTSTART;TZID=America/Los_Angeles:20260802T123000
DTEND;TZID=America/Los_Angeles:20260802T133000
DTSTAMP:20260425T191639
CREATED:20260203T005044Z
LAST-MODIFIED:20260203T005044Z
UID:10003443-1785673800-1785677400@www.stlukessanlucas.org
SUMMARY:Sunday Worship Service in Spanish
DESCRIPTION:A traditional Episcopal service presented in Spanish with music led by Willy Silva. A social hour takes place in the Parish Hall after the service
URL:https://www.stlukessanlucas.org/es/event/sunday-worship-service-in-spanish-2-2/2026-08-02/
LOCATION:St. Luke’s Episcopal Church\, 426 E 4th Plain Blvd. (360) 696-0181\, Vancouver\, WA\, 98663\, United States
CATEGORIES:Worship
END:VEVENT
BEGIN:VEVENT
DTSTART;TZID=America/Los_Angeles:20260809T123000
DTEND;TZID=America/Los_Angeles:20260809T133000
DTSTAMP:20260425T191639
CREATED:20260203T005044Z
LAST-MODIFIED:20260203T005044Z
UID:10003444-1786278600-1786282200@www.stlukessanlucas.org
SUMMARY:Sunday Worship Service in Spanish
DESCRIPTION:A traditional Episcopal service presented in Spanish with music led by Willy Silva. A social hour takes place in the Parish Hall after the service
URL:https://www.stlukessanlucas.org/es/event/sunday-worship-service-in-spanish-2-2/2026-08-09/
LOCATION:St. Luke’s Episcopal Church\, 426 E 4th Plain Blvd. (360) 696-0181\, Vancouver\, WA\, 98663\, United States
CATEGORIES:Worship
END:VEVENT
BEGIN:VEVENT
DTSTART;TZID=America/Los_Angeles:20260816T123000
DTEND;TZID=America/Los_Angeles:20260816T133000
DTSTAMP:20260425T191639
CREATED:20260203T005044Z
LAST-MODIFIED:20260203T005044Z
UID:10003445-1786883400-1786887000@www.stlukessanlucas.org
SUMMARY:Sunday Worship Service in Spanish
DESCRIPTION:A traditional Episcopal service presented in Spanish with music led by Willy Silva. A social hour takes place in the Parish Hall after the service
URL:https://www.stlukessanlucas.org/es/event/sunday-worship-service-in-spanish-2-2/2026-08-16/
LOCATION:St. Luke’s Episcopal Church\, 426 E 4th Plain Blvd. (360) 696-0181\, Vancouver\, WA\, 98663\, United States
CATEGORIES:Worship
END:VEVENT
BEGIN:VEVENT
DTSTART;TZID=America/Los_Angeles:20260823T123000
DTEND;TZID=America/Los_Angeles:20260823T133000
DTSTAMP:20260425T191639
CREATED:20260203T005044Z
LAST-MODIFIED:20260203T005044Z
UID:10003446-1787488200-1787491800@www.stlukessanlucas.org
SUMMARY:Sunday Worship Service in Spanish
DESCRIPTION:A traditional Episcopal service presented in Spanish with music led by Willy Silva. A social hour takes place in the Parish Hall after the service
URL:https://www.stlukessanlucas.org/es/event/sunday-worship-service-in-spanish-2-2/2026-08-23/
LOCATION:St. Luke’s Episcopal Church\, 426 E 4th Plain Blvd. (360) 696-0181\, Vancouver\, WA\, 98663\, United States
CATEGORIES:Worship
END:VEVENT
BEGIN:VEVENT
DTSTART;TZID=America/Los_Angeles:20260830T123000
DTEND;TZID=America/Los_Angeles:20260830T133000
DTSTAMP:20260425T191639
CREATED:20260203T005044Z
LAST-MODIFIED:20260203T005044Z
UID:10003447-1788093000-1788096600@www.stlukessanlucas.org
SUMMARY:Sunday Worship Service in Spanish
DESCRIPTION:A traditional Episcopal service presented in Spanish with music led by Willy Silva. A social hour takes place in the Parish Hall after the service
URL:https://www.stlukessanlucas.org/es/event/sunday-worship-service-in-spanish-2-2/2026-08-30/
LOCATION:St. Luke’s Episcopal Church\, 426 E 4th Plain Blvd. (360) 696-0181\, Vancouver\, WA\, 98663\, United States
CATEGORIES:Worship
END:VEVENT
BEGIN:VEVENT
DTSTART;TZID=America/Los_Angeles:20260906T123000
DTEND;TZID=America/Los_Angeles:20260906T133000
DTSTAMP:20260425T191639
CREATED:20260203T005044Z
LAST-MODIFIED:20260203T005044Z
UID:10003448-1788697800-1788701400@www.stlukessanlucas.org
SUMMARY:Sunday Worship Service in Spanish
DESCRIPTION:A traditional Episcopal service presented in Spanish with music led by Willy Silva. A social hour takes place in the Parish Hall after the service
URL:https://www.stlukessanlucas.org/es/event/sunday-worship-service-in-spanish-2-2/2026-09-06/
LOCATION:St. Luke’s Episcopal Church\, 426 E 4th Plain Blvd. (360) 696-0181\, Vancouver\, WA\, 98663\, United States
CATEGORIES:Worship
END:VEVENT
BEGIN:VEVENT
DTSTART;TZID=America/Los_Angeles:20260913T123000
DTEND;TZID=America/Los_Angeles:20260913T133000
DTSTAMP:20260425T191639
CREATED:20260203T005044Z
LAST-MODIFIED:20260203T005044Z
UID:10003449-1789302600-1789306200@www.stlukessanlucas.org
SUMMARY:Sunday Worship Service in Spanish
DESCRIPTION:A traditional Episcopal service presented in Spanish with music led by Willy Silva. A social hour takes place in the Parish Hall after the service
URL:https://www.stlukessanlucas.org/es/event/sunday-worship-service-in-spanish-2-2/2026-09-13/
LOCATION:St. Luke’s Episcopal Church\, 426 E 4th Plain Blvd. (360) 696-0181\, Vancouver\, WA\, 98663\, United States
CATEGORIES:Worship
END:VEVENT
BEGIN:VEVENT
DTSTART;TZID=America/Los_Angeles:20260920T123000
DTEND;TZID=America/Los_Angeles:20260920T133000
DTSTAMP:20260425T191639
CREATED:20260203T005044Z
LAST-MODIFIED:20260203T005044Z
UID:10003450-1789907400-1789911000@www.stlukessanlucas.org
SUMMARY:Sunday Worship Service in Spanish
DESCRIPTION:A traditional Episcopal service presented in Spanish with music led by Willy Silva. A social hour takes place in the Parish Hall after the service
URL:https://www.stlukessanlucas.org/es/event/sunday-worship-service-in-spanish-2-2/2026-09-20/
LOCATION:St. Luke’s Episcopal Church\, 426 E 4th Plain Blvd. (360) 696-0181\, Vancouver\, WA\, 98663\, United States
CATEGORIES:Worship
END:VEVENT
BEGIN:VEVENT
DTSTART;TZID=America/Los_Angeles:20260927T123000
DTEND;TZID=America/Los_Angeles:20260927T133000
DTSTAMP:20260425T191639
CREATED:20260203T005044Z
LAST-MODIFIED:20260203T005044Z
UID:10003451-1790512200-1790515800@www.stlukessanlucas.org
SUMMARY:Sunday Worship Service in Spanish
DESCRIPTION:A traditional Episcopal service presented in Spanish with music led by Willy Silva. A social hour takes place in the Parish Hall after the service
URL:https://www.stlukessanlucas.org/es/event/sunday-worship-service-in-spanish-2-2/2026-09-27/
LOCATION:St. Luke’s Episcopal Church\, 426 E 4th Plain Blvd. (360) 696-0181\, Vancouver\, WA\, 98663\, United States
CATEGORIES:Worship
END:VEVENT
BEGIN:VEVENT
DTSTART;TZID=America/Los_Angeles:20261004T123000
DTEND;TZID=America/Los_Angeles:20261004T133000
DTSTAMP:20260425T191639
CREATED:20260203T005044Z
LAST-MODIFIED:20260203T005044Z
UID:10003452-1791117000-1791120600@www.stlukessanlucas.org
SUMMARY:Sunday Worship Service in Spanish
DESCRIPTION:A traditional Episcopal service presented in Spanish with music led by Willy Silva. A social hour takes place in the Parish Hall after the service
URL:https://www.stlukessanlucas.org/es/event/sunday-worship-service-in-spanish-2-2/2026-10-04/
LOCATION:St. Luke’s Episcopal Church\, 426 E 4th Plain Blvd. (360) 696-0181\, Vancouver\, WA\, 98663\, United States
CATEGORIES:Worship
END:VEVENT
BEGIN:VEVENT
DTSTART;TZID=America/Los_Angeles:20261011T123000
DTEND;TZID=America/Los_Angeles:20261011T133000
DTSTAMP:20260425T191639
CREATED:20260203T005044Z
LAST-MODIFIED:20260203T005044Z
UID:10003453-1791721800-1791725400@www.stlukessanlucas.org
SUMMARY:Sunday Worship Service in Spanish
DESCRIPTION:A traditional Episcopal service presented in Spanish with music led by Willy Silva. A social hour takes place in the Parish Hall after the service
URL:https://www.stlukessanlucas.org/es/event/sunday-worship-service-in-spanish-2-2/2026-10-11/
LOCATION:St. Luke’s Episcopal Church\, 426 E 4th Plain Blvd. (360) 696-0181\, Vancouver\, WA\, 98663\, United States
CATEGORIES:Worship
END:VEVENT
BEGIN:VEVENT
DTSTART;TZID=America/Los_Angeles:20261018T123000
DTEND;TZID=America/Los_Angeles:20261018T133000
DTSTAMP:20260425T191639
CREATED:20260203T005044Z
LAST-MODIFIED:20260203T005044Z
UID:10003454-1792326600-1792330200@www.stlukessanlucas.org
SUMMARY:Sunday Worship Service in Spanish
DESCRIPTION:A traditional Episcopal service presented in Spanish with music led by Willy Silva. A social hour takes place in the Parish Hall after the service
URL:https://www.stlukessanlucas.org/es/event/sunday-worship-service-in-spanish-2-2/2026-10-18/
LOCATION:St. Luke’s Episcopal Church\, 426 E 4th Plain Blvd. (360) 696-0181\, Vancouver\, WA\, 98663\, United States
CATEGORIES:Worship
END:VEVENT
BEGIN:VEVENT
DTSTART;TZID=America/Los_Angeles:20261025T123000
DTEND;TZID=America/Los_Angeles:20261025T133000
DTSTAMP:20260425T191639
CREATED:20260203T005044Z
LAST-MODIFIED:20260203T005044Z
UID:10003455-1792931400-1792935000@www.stlukessanlucas.org
SUMMARY:Sunday Worship Service in Spanish
DESCRIPTION:A traditional Episcopal service presented in Spanish with music led by Willy Silva. A social hour takes place in the Parish Hall after the service
URL:https://www.stlukessanlucas.org/es/event/sunday-worship-service-in-spanish-2-2/2026-10-25/
LOCATION:St. Luke’s Episcopal Church\, 426 E 4th Plain Blvd. (360) 696-0181\, Vancouver\, WA\, 98663\, United States
CATEGORIES:Worship
END:VEVENT
BEGIN:VEVENT
DTSTART;TZID=America/Los_Angeles:20261101T123000
DTEND;TZID=America/Los_Angeles:20261101T133000
DTSTAMP:20260425T191639
CREATED:20260203T005044Z
LAST-MODIFIED:20260203T005044Z
UID:10003456-1793536200-1793539800@www.stlukessanlucas.org
SUMMARY:Sunday Worship Service in Spanish
DESCRIPTION:A traditional Episcopal service presented in Spanish with music led by Willy Silva. A social hour takes place in the Parish Hall after the service
URL:https://www.stlukessanlucas.org/es/event/sunday-worship-service-in-spanish-2-2/2026-11-01/
LOCATION:St. Luke’s Episcopal Church\, 426 E 4th Plain Blvd. (360) 696-0181\, Vancouver\, WA\, 98663\, United States
CATEGORIES:Worship
END:VEVENT
BEGIN:VEVENT
DTSTART;TZID=America/Los_Angeles:20261108T123000
DTEND;TZID=America/Los_Angeles:20261108T133000
DTSTAMP:20260425T191639
CREATED:20260203T005044Z
LAST-MODIFIED:20260203T005044Z
UID:10003457-1794141000-1794144600@www.stlukessanlucas.org
SUMMARY:Sunday Worship Service in Spanish
DESCRIPTION:A traditional Episcopal service presented in Spanish with music led by Willy Silva. A social hour takes place in the Parish Hall after the service
URL:https://www.stlukessanlucas.org/es/event/sunday-worship-service-in-spanish-2-2/2026-11-08/
LOCATION:St. Luke’s Episcopal Church\, 426 E 4th Plain Blvd. (360) 696-0181\, Vancouver\, WA\, 98663\, United States
CATEGORIES:Worship
END:VEVENT
BEGIN:VEVENT
DTSTART;TZID=America/Los_Angeles:20261115T123000
DTEND;TZID=America/Los_Angeles:20261115T133000
DTSTAMP:20260425T191639
CREATED:20260203T005044Z
LAST-MODIFIED:20260203T005044Z
UID:10003458-1794745800-1794749400@www.stlukessanlucas.org
SUMMARY:Sunday Worship Service in Spanish
DESCRIPTION:A traditional Episcopal service presented in Spanish with music led by Willy Silva. A social hour takes place in the Parish Hall after the service
URL:https://www.stlukessanlucas.org/es/event/sunday-worship-service-in-spanish-2-2/2026-11-15/
LOCATION:St. Luke’s Episcopal Church\, 426 E 4th Plain Blvd. (360) 696-0181\, Vancouver\, WA\, 98663\, United States
CATEGORIES:Worship
END:VEVENT
END:VCALENDAR