BEGIN:VCALENDAR
VERSION:2.0
PRODID:-//St. Luke&#039;s ~ San Lucas - ECPv6.15.19//NONSGML v1.0//EN
CALSCALE:GREGORIAN
METHOD:PUBLISH
X-WR-CALNAME:St. Luke&#039;s ~ San Lucas
X-ORIGINAL-URL:https://www.stlukessanlucas.org/es
X-WR-CALDESC:Eventos para St. Luke&#039;s ~ San Lucas
REFRESH-INTERVAL;VALUE=DURATION:PT1H
X-Robots-Tag:noindex
X-PUBLISHED-TTL:PT1H
BEGIN:VTIMEZONE
TZID:America/Los_Angeles
BEGIN:DAYLIGHT
TZOFFSETFROM:-0800
TZOFFSETTO:-0700
TZNAME:PDT
DTSTART:20250309T100000
END:DAYLIGHT
BEGIN:STANDARD
TZOFFSETFROM:-0700
TZOFFSETTO:-0800
TZNAME:PST
DTSTART:20251102T090000
END:STANDARD
BEGIN:DAYLIGHT
TZOFFSETFROM:-0800
TZOFFSETTO:-0700
TZNAME:PDT
DTSTART:20260308T100000
END:DAYLIGHT
BEGIN:STANDARD
TZOFFSETFROM:-0700
TZOFFSETTO:-0800
TZNAME:PST
DTSTART:20261101T090000
END:STANDARD
BEGIN:DAYLIGHT
TZOFFSETFROM:-0800
TZOFFSETTO:-0700
TZNAME:PDT
DTSTART:20270314T100000
END:DAYLIGHT
BEGIN:STANDARD
TZOFFSETFROM:-0700
TZOFFSETTO:-0800
TZNAME:PST
DTSTART:20271107T090000
END:STANDARD
BEGIN:DAYLIGHT
TZOFFSETFROM:-0800
TZOFFSETTO:-0700
TZNAME:PDT
DTSTART:20280312T100000
END:DAYLIGHT
BEGIN:STANDARD
TZOFFSETFROM:-0700
TZOFFSETTO:-0800
TZNAME:PST
DTSTART:20281105T090000
END:STANDARD
BEGIN:DAYLIGHT
TZOFFSETFROM:-0800
TZOFFSETTO:-0700
TZNAME:PDT
DTSTART:20290311T100000
END:DAYLIGHT
BEGIN:STANDARD
TZOFFSETFROM:-0700
TZOFFSETTO:-0800
TZNAME:PST
DTSTART:20291104T090000
END:STANDARD
END:VTIMEZONE
BEGIN:VEVENT
DTSTART;TZID=America/Los_Angeles:20260514T183000
DTEND;TZID=America/Los_Angeles:20260514T193000
DTSTAMP:20260421T075451
CREATED:20260302T190343Z
LAST-MODIFIED:20260302T223109Z
UID:10006995-1778783400-1778787000@www.stlukessanlucas.org
SUMMARY:Vestry Meeting
DESCRIPTION:
URL:https://www.stlukessanlucas.org/es/event/vestry-meeting-3/2026-05-14/
END:VEVENT
BEGIN:VEVENT
DTSTART;TZID=America/Los_Angeles:20260611T183000
DTEND;TZID=America/Los_Angeles:20260611T193000
DTSTAMP:20260421T075451
CREATED:20260302T190343Z
LAST-MODIFIED:20260302T223109Z
UID:10006996-1781202600-1781206200@www.stlukessanlucas.org
SUMMARY:Vestry Meeting
DESCRIPTION:
URL:https://www.stlukessanlucas.org/es/event/vestry-meeting-3/2026-06-11/
END:VEVENT
BEGIN:VEVENT
DTSTART;TZID=America/Los_Angeles:20260709T183000
DTEND;TZID=America/Los_Angeles:20260709T193000
DTSTAMP:20260421T075451
CREATED:20260302T190343Z
LAST-MODIFIED:20260302T223109Z
UID:10006997-1783621800-1783625400@www.stlukessanlucas.org
SUMMARY:Vestry Meeting
DESCRIPTION:
URL:https://www.stlukessanlucas.org/es/event/vestry-meeting-3/2026-07-09/
END:VEVENT
BEGIN:VEVENT
DTSTART;TZID=America/Los_Angeles:20260813T183000
DTEND;TZID=America/Los_Angeles:20260813T193000
DTSTAMP:20260421T075451
CREATED:20260302T190343Z
LAST-MODIFIED:20260302T223109Z
UID:10006998-1786645800-1786649400@www.stlukessanlucas.org
SUMMARY:Vestry Meeting
DESCRIPTION:
URL:https://www.stlukessanlucas.org/es/event/vestry-meeting-3/2026-08-13/
END:VEVENT
BEGIN:VEVENT
DTSTART;TZID=America/Los_Angeles:20260910T183000
DTEND;TZID=America/Los_Angeles:20260910T193000
DTSTAMP:20260421T075451
CREATED:20260302T190343Z
LAST-MODIFIED:20260302T223109Z
UID:10006999-1789065000-1789068600@www.stlukessanlucas.org
SUMMARY:Vestry Meeting
DESCRIPTION:
URL:https://www.stlukessanlucas.org/es/event/vestry-meeting-3/2026-09-10/
END:VEVENT
BEGIN:VEVENT
DTSTART;TZID=America/Los_Angeles:20261008T183000
DTEND;TZID=America/Los_Angeles:20261008T193000
DTSTAMP:20260421T075451
CREATED:20260302T190343Z
LAST-MODIFIED:20260302T223109Z
UID:10007000-1791484200-1791487800@www.stlukessanlucas.org
SUMMARY:Vestry Meeting
DESCRIPTION:
URL:https://www.stlukessanlucas.org/es/event/vestry-meeting-3/2026-10-08/
END:VEVENT
BEGIN:VEVENT
DTSTART;TZID=America/Los_Angeles:20261112T183000
DTEND;TZID=America/Los_Angeles:20261112T193000
DTSTAMP:20260421T075451
CREATED:20260302T190343Z
LAST-MODIFIED:20260302T223109Z
UID:10007001-1794508200-1794511800@www.stlukessanlucas.org
SUMMARY:Vestry Meeting
DESCRIPTION:
URL:https://www.stlukessanlucas.org/es/event/vestry-meeting-3/2026-11-12/
END:VEVENT
BEGIN:VEVENT
DTSTART;TZID=America/Los_Angeles:20261210T183000
DTEND;TZID=America/Los_Angeles:20261210T193000
DTSTAMP:20260421T075451
CREATED:20260302T190343Z
LAST-MODIFIED:20260302T223109Z
UID:10007002-1796927400-1796931000@www.stlukessanlucas.org
SUMMARY:Vestry Meeting
DESCRIPTION:
URL:https://www.stlukessanlucas.org/es/event/vestry-meeting-3/2026-12-10/
END:VEVENT
BEGIN:VEVENT
DTSTART;TZID=America/Los_Angeles:20270114T183000
DTEND;TZID=America/Los_Angeles:20270114T193000
DTSTAMP:20260421T075451
CREATED:20260302T190343Z
LAST-MODIFIED:20260302T223109Z
UID:10007003-1799951400-1799955000@www.stlukessanlucas.org
SUMMARY:Vestry Meeting
DESCRIPTION:
URL:https://www.stlukessanlucas.org/es/event/vestry-meeting-3/2027-01-14/
END:VEVENT
BEGIN:VEVENT
DTSTART;TZID=America/Los_Angeles:20270211T183000
DTEND;TZID=America/Los_Angeles:20270211T193000
DTSTAMP:20260421T075451
CREATED:20260302T190343Z
LAST-MODIFIED:20260302T223109Z
UID:10007004-1802370600-1802374200@www.stlukessanlucas.org
SUMMARY:Vestry Meeting
DESCRIPTION:
URL:https://www.stlukessanlucas.org/es/event/vestry-meeting-3/2027-02-11/
END:VEVENT
BEGIN:VEVENT
DTSTART;TZID=America/Los_Angeles:20270311T183000
DTEND;TZID=America/Los_Angeles:20270311T193000
DTSTAMP:20260421T075451
CREATED:20260302T190343Z
LAST-MODIFIED:20260302T223109Z
UID:10007005-1804789800-1804793400@www.stlukessanlucas.org
SUMMARY:Vestry Meeting
DESCRIPTION:
URL:https://www.stlukessanlucas.org/es/event/vestry-meeting-3/2027-03-11/
END:VEVENT
BEGIN:VEVENT
DTSTART;TZID=America/Los_Angeles:20270408T183000
DTEND;TZID=America/Los_Angeles:20270408T193000
DTSTAMP:20260421T075451
CREATED:20260302T190343Z
LAST-MODIFIED:20260302T223109Z
UID:10007006-1807209000-1807212600@www.stlukessanlucas.org
SUMMARY:Vestry Meeting
DESCRIPTION:
URL:https://www.stlukessanlucas.org/es/event/vestry-meeting-3/2027-04-08/
END:VEVENT
BEGIN:VEVENT
DTSTART;TZID=America/Los_Angeles:20270513T183000
DTEND;TZID=America/Los_Angeles:20270513T193000
DTSTAMP:20260421T075451
CREATED:20260302T190343Z
LAST-MODIFIED:20260302T223109Z
UID:10007007-1810233000-1810236600@www.stlukessanlucas.org
SUMMARY:Vestry Meeting
DESCRIPTION:
URL:https://www.stlukessanlucas.org/es/event/vestry-meeting-3/2027-05-13/
END:VEVENT
BEGIN:VEVENT
DTSTART;TZID=America/Los_Angeles:20270610T183000
DTEND;TZID=America/Los_Angeles:20270610T193000
DTSTAMP:20260421T075451
CREATED:20260302T190343Z
LAST-MODIFIED:20260302T223109Z
UID:10007008-1812652200-1812655800@www.stlukessanlucas.org
SUMMARY:Vestry Meeting
DESCRIPTION:
URL:https://www.stlukessanlucas.org/es/event/vestry-meeting-3/2027-06-10/
END:VEVENT
BEGIN:VEVENT
DTSTART;TZID=America/Los_Angeles:20270708T183000
DTEND;TZID=America/Los_Angeles:20270708T193000
DTSTAMP:20260421T075451
CREATED:20260302T190343Z
LAST-MODIFIED:20260302T223109Z
UID:10007009-1815071400-1815075000@www.stlukessanlucas.org
SUMMARY:Vestry Meeting
DESCRIPTION:
URL:https://www.stlukessanlucas.org/es/event/vestry-meeting-3/2027-07-08/
END:VEVENT
BEGIN:VEVENT
DTSTART;TZID=America/Los_Angeles:20270812T183000
DTEND;TZID=America/Los_Angeles:20270812T193000
DTSTAMP:20260421T075451
CREATED:20260302T190343Z
LAST-MODIFIED:20260302T223109Z
UID:10007010-1818095400-1818099000@www.stlukessanlucas.org
SUMMARY:Vestry Meeting
DESCRIPTION:
URL:https://www.stlukessanlucas.org/es/event/vestry-meeting-3/2027-08-12/
END:VEVENT
BEGIN:VEVENT
DTSTART;TZID=America/Los_Angeles:20270909T183000
DTEND;TZID=America/Los_Angeles:20270909T193000
DTSTAMP:20260421T075451
CREATED:20260302T190343Z
LAST-MODIFIED:20260302T223109Z
UID:10007011-1820514600-1820518200@www.stlukessanlucas.org
SUMMARY:Vestry Meeting
DESCRIPTION:
URL:https://www.stlukessanlucas.org/es/event/vestry-meeting-3/2027-09-09/
END:VEVENT
BEGIN:VEVENT
DTSTART;TZID=America/Los_Angeles:20271014T183000
DTEND;TZID=America/Los_Angeles:20271014T193000
DTSTAMP:20260421T075451
CREATED:20260302T190343Z
LAST-MODIFIED:20260302T223109Z
UID:10007012-1823538600-1823542200@www.stlukessanlucas.org
SUMMARY:Vestry Meeting
DESCRIPTION:
URL:https://www.stlukessanlucas.org/es/event/vestry-meeting-3/2027-10-14/
END:VEVENT
BEGIN:VEVENT
DTSTART;TZID=America/Los_Angeles:20271111T183000
DTEND;TZID=America/Los_Angeles:20271111T193000
DTSTAMP:20260421T075451
CREATED:20260302T190343Z
LAST-MODIFIED:20260302T223109Z
UID:10007013-1825957800-1825961400@www.stlukessanlucas.org
SUMMARY:Vestry Meeting
DESCRIPTION:
URL:https://www.stlukessanlucas.org/es/event/vestry-meeting-3/2027-11-11/
END:VEVENT
BEGIN:VEVENT
DTSTART;TZID=America/Los_Angeles:20271209T183000
DTEND;TZID=America/Los_Angeles:20271209T193000
DTSTAMP:20260421T075451
CREATED:20260302T190343Z
LAST-MODIFIED:20260302T223109Z
UID:10007014-1828377000-1828380600@www.stlukessanlucas.org
SUMMARY:Vestry Meeting
DESCRIPTION:
URL:https://www.stlukessanlucas.org/es/event/vestry-meeting-3/2027-12-09/
END:VEVENT
BEGIN:VEVENT
DTSTART;TZID=America/Los_Angeles:20280113T183000
DTEND;TZID=America/Los_Angeles:20280113T193000
DTSTAMP:20260421T075451
CREATED:20260302T190343Z
LAST-MODIFIED:20260302T223109Z
UID:10007015-1831401000-1831404600@www.stlukessanlucas.org
SUMMARY:Vestry Meeting
DESCRIPTION:
URL:https://www.stlukessanlucas.org/es/event/vestry-meeting-3/2028-01-13/
END:VEVENT
BEGIN:VEVENT
DTSTART;TZID=America/Los_Angeles:20280210T183000
DTEND;TZID=America/Los_Angeles:20280210T193000
DTSTAMP:20260421T075451
CREATED:20260302T190343Z
LAST-MODIFIED:20260302T223109Z
UID:10007016-1833820200-1833823800@www.stlukessanlucas.org
SUMMARY:Vestry Meeting
DESCRIPTION:
URL:https://www.stlukessanlucas.org/es/event/vestry-meeting-3/2028-02-10/
END:VEVENT
BEGIN:VEVENT
DTSTART;TZID=America/Los_Angeles:20280309T183000
DTEND;TZID=America/Los_Angeles:20280309T193000
DTSTAMP:20260421T075451
CREATED:20260302T190343Z
LAST-MODIFIED:20260302T223109Z
UID:10007017-1836239400-1836243000@www.stlukessanlucas.org
SUMMARY:Vestry Meeting
DESCRIPTION:
URL:https://www.stlukessanlucas.org/es/event/vestry-meeting-3/2028-03-09/
END:VEVENT
BEGIN:VEVENT
DTSTART;TZID=America/Los_Angeles:20280413T183000
DTEND;TZID=America/Los_Angeles:20280413T193000
DTSTAMP:20260421T075451
CREATED:20260302T190343Z
LAST-MODIFIED:20260302T223109Z
UID:10007018-1839263400-1839267000@www.stlukessanlucas.org
SUMMARY:Vestry Meeting
DESCRIPTION:
URL:https://www.stlukessanlucas.org/es/event/vestry-meeting-3/2028-04-13/
END:VEVENT
BEGIN:VEVENT
DTSTART;TZID=America/Los_Angeles:20280511T183000
DTEND;TZID=America/Los_Angeles:20280511T193000
DTSTAMP:20260421T075451
CREATED:20260302T190343Z
LAST-MODIFIED:20260302T223109Z
UID:10007019-1841682600-1841686200@www.stlukessanlucas.org
SUMMARY:Vestry Meeting
DESCRIPTION:
URL:https://www.stlukessanlucas.org/es/event/vestry-meeting-3/2028-05-11/
END:VEVENT
BEGIN:VEVENT
DTSTART;TZID=America/Los_Angeles:20280608T183000
DTEND;TZID=America/Los_Angeles:20280608T193000
DTSTAMP:20260421T075451
CREATED:20260302T190343Z
LAST-MODIFIED:20260302T223109Z
UID:10007020-1844101800-1844105400@www.stlukessanlucas.org
SUMMARY:Vestry Meeting
DESCRIPTION:
URL:https://www.stlukessanlucas.org/es/event/vestry-meeting-3/2028-06-08/
END:VEVENT
BEGIN:VEVENT
DTSTART;TZID=America/Los_Angeles:20280713T183000
DTEND;TZID=America/Los_Angeles:20280713T193000
DTSTAMP:20260421T075451
CREATED:20260302T190343Z
LAST-MODIFIED:20260302T223109Z
UID:10007021-1847125800-1847129400@www.stlukessanlucas.org
SUMMARY:Vestry Meeting
DESCRIPTION:
URL:https://www.stlukessanlucas.org/es/event/vestry-meeting-3/2028-07-13/
END:VEVENT
BEGIN:VEVENT
DTSTART;TZID=America/Los_Angeles:20280810T183000
DTEND;TZID=America/Los_Angeles:20280810T193000
DTSTAMP:20260421T075451
CREATED:20260302T190343Z
LAST-MODIFIED:20260302T223109Z
UID:10007022-1849545000-1849548600@www.stlukessanlucas.org
SUMMARY:Vestry Meeting
DESCRIPTION:
URL:https://www.stlukessanlucas.org/es/event/vestry-meeting-3/2028-08-10/
END:VEVENT
BEGIN:VEVENT
DTSTART;TZID=America/Los_Angeles:20280914T183000
DTEND;TZID=America/Los_Angeles:20280914T193000
DTSTAMP:20260421T075451
CREATED:20260302T190343Z
LAST-MODIFIED:20260302T223109Z
UID:10007023-1852569000-1852572600@www.stlukessanlucas.org
SUMMARY:Vestry Meeting
DESCRIPTION:
URL:https://www.stlukessanlucas.org/es/event/vestry-meeting-3/2028-09-14/
END:VEVENT
BEGIN:VEVENT
DTSTART;TZID=America/Los_Angeles:20281012T183000
DTEND;TZID=America/Los_Angeles:20281012T193000
DTSTAMP:20260421T075451
CREATED:20260302T190343Z
LAST-MODIFIED:20260302T223109Z
UID:10007024-1854988200-1854991800@www.stlukessanlucas.org
SUMMARY:Vestry Meeting
DESCRIPTION:
URL:https://www.stlukessanlucas.org/es/event/vestry-meeting-3/2028-10-12/
END:VEVENT
END:VCALENDAR