BEGIN:VCALENDAR
VERSION:2.0
PRODID:-//St. Luke&#039;s ~ San Lucas - ECPv6.15.19//NONSGML v1.0//EN
CALSCALE:GREGORIAN
METHOD:PUBLISH
X-ORIGINAL-URL:https://www.stlukessanlucas.org
X-WR-CALDESC:Events for St. Luke&#039;s ~ San Lucas
REFRESH-INTERVAL;VALUE=DURATION:PT1H
X-Robots-Tag:noindex
X-PUBLISHED-TTL:PT1H
BEGIN:VTIMEZONE
TZID:America/Los_Angeles
BEGIN:DAYLIGHT
TZOFFSETFROM:-0800
TZOFFSETTO:-0700
TZNAME:PDT
DTSTART:20270314T100000
END:DAYLIGHT
BEGIN:STANDARD
TZOFFSETFROM:-0700
TZOFFSETTO:-0800
TZNAME:PST
DTSTART:20271107T090000
END:STANDARD
BEGIN:DAYLIGHT
TZOFFSETFROM:-0800
TZOFFSETTO:-0700
TZNAME:PDT
DTSTART:20280312T100000
END:DAYLIGHT
BEGIN:STANDARD
TZOFFSETFROM:-0700
TZOFFSETTO:-0800
TZNAME:PST
DTSTART:20281105T090000
END:STANDARD
BEGIN:DAYLIGHT
TZOFFSETFROM:-0800
TZOFFSETTO:-0700
TZNAME:PDT
DTSTART:20290311T100000
END:DAYLIGHT
BEGIN:STANDARD
TZOFFSETFROM:-0700
TZOFFSETTO:-0800
TZNAME:PST
DTSTART:20291104T090000
END:STANDARD
END:VTIMEZONE
BEGIN:VEVENT
DTSTART;TZID=America/Los_Angeles:20280119T110000
DTEND;TZID=America/Los_Angeles:20280119T120000
DTSTAMP:20260424T133654
CREATED:20260325T225715Z
LAST-MODIFIED:20260325T225715Z
UID:10001282-1831892400-1831896000@www.stlukessanlucas.org
SUMMARY:Bible Study
DESCRIPTION:
URL:https://www.stlukessanlucas.org/event/bible-study-2/2028-01-19/
LOCATION:Chapel of the Holy Spirit
END:VEVENT
BEGIN:VEVENT
DTSTART;TZID=America/Los_Angeles:20280126T110000
DTEND;TZID=America/Los_Angeles:20280126T120000
DTSTAMP:20260424T133654
CREATED:20260325T225715Z
LAST-MODIFIED:20260325T225715Z
UID:10001283-1832497200-1832500800@www.stlukessanlucas.org
SUMMARY:Bible Study
DESCRIPTION:
URL:https://www.stlukessanlucas.org/event/bible-study-2/2028-01-26/
LOCATION:Chapel of the Holy Spirit
END:VEVENT
BEGIN:VEVENT
DTSTART;TZID=America/Los_Angeles:20280202T110000
DTEND;TZID=America/Los_Angeles:20280202T120000
DTSTAMP:20260424T133654
CREATED:20260325T225715Z
LAST-MODIFIED:20260325T225715Z
UID:10001284-1833102000-1833105600@www.stlukessanlucas.org
SUMMARY:Bible Study
DESCRIPTION:
URL:https://www.stlukessanlucas.org/event/bible-study-2/2028-02-02/
LOCATION:Chapel of the Holy Spirit
END:VEVENT
BEGIN:VEVENT
DTSTART;TZID=America/Los_Angeles:20280209T110000
DTEND;TZID=America/Los_Angeles:20280209T120000
DTSTAMP:20260424T133654
CREATED:20260325T225715Z
LAST-MODIFIED:20260325T225715Z
UID:10001285-1833706800-1833710400@www.stlukessanlucas.org
SUMMARY:Bible Study
DESCRIPTION:
URL:https://www.stlukessanlucas.org/event/bible-study-2/2028-02-09/
LOCATION:Chapel of the Holy Spirit
END:VEVENT
BEGIN:VEVENT
DTSTART;TZID=America/Los_Angeles:20280216T110000
DTEND;TZID=America/Los_Angeles:20280216T120000
DTSTAMP:20260424T133654
CREATED:20260325T225715Z
LAST-MODIFIED:20260325T225715Z
UID:10001286-1834311600-1834315200@www.stlukessanlucas.org
SUMMARY:Bible Study
DESCRIPTION:
URL:https://www.stlukessanlucas.org/event/bible-study-2/2028-02-16/
LOCATION:Chapel of the Holy Spirit
END:VEVENT
BEGIN:VEVENT
DTSTART;TZID=America/Los_Angeles:20280223T110000
DTEND;TZID=America/Los_Angeles:20280223T120000
DTSTAMP:20260424T133654
CREATED:20260325T225715Z
LAST-MODIFIED:20260325T225715Z
UID:10001287-1834916400-1834920000@www.stlukessanlucas.org
SUMMARY:Bible Study
DESCRIPTION:
URL:https://www.stlukessanlucas.org/event/bible-study-2/2028-02-23/
LOCATION:Chapel of the Holy Spirit
END:VEVENT
BEGIN:VEVENT
DTSTART;TZID=America/Los_Angeles:20280301T110000
DTEND;TZID=America/Los_Angeles:20280301T120000
DTSTAMP:20260424T133654
CREATED:20260325T225715Z
LAST-MODIFIED:20260325T225715Z
UID:10001288-1835521200-1835524800@www.stlukessanlucas.org
SUMMARY:Bible Study
DESCRIPTION:
URL:https://www.stlukessanlucas.org/event/bible-study-2/2028-03-01/
LOCATION:Chapel of the Holy Spirit
END:VEVENT
BEGIN:VEVENT
DTSTART;TZID=America/Los_Angeles:20280308T110000
DTEND;TZID=America/Los_Angeles:20280308T120000
DTSTAMP:20260424T133654
CREATED:20260325T225715Z
LAST-MODIFIED:20260325T225715Z
UID:10001289-1836126000-1836129600@www.stlukessanlucas.org
SUMMARY:Bible Study
DESCRIPTION:
URL:https://www.stlukessanlucas.org/event/bible-study-2/2028-03-08/
LOCATION:Chapel of the Holy Spirit
END:VEVENT
BEGIN:VEVENT
DTSTART;TZID=America/Los_Angeles:20280315T110000
DTEND;TZID=America/Los_Angeles:20280315T120000
DTSTAMP:20260424T133654
CREATED:20260325T225715Z
LAST-MODIFIED:20260325T225715Z
UID:10001290-1836730800-1836734400@www.stlukessanlucas.org
SUMMARY:Bible Study
DESCRIPTION:
URL:https://www.stlukessanlucas.org/event/bible-study-2/2028-03-15/
LOCATION:Chapel of the Holy Spirit
END:VEVENT
BEGIN:VEVENT
DTSTART;TZID=America/Los_Angeles:20280322T110000
DTEND;TZID=America/Los_Angeles:20280322T120000
DTSTAMP:20260424T133654
CREATED:20260325T225715Z
LAST-MODIFIED:20260325T225715Z
UID:10001291-1837335600-1837339200@www.stlukessanlucas.org
SUMMARY:Bible Study
DESCRIPTION:
URL:https://www.stlukessanlucas.org/event/bible-study-2/2028-03-22/
LOCATION:Chapel of the Holy Spirit
END:VEVENT
BEGIN:VEVENT
DTSTART;TZID=America/Los_Angeles:20280329T110000
DTEND;TZID=America/Los_Angeles:20280329T120000
DTSTAMP:20260424T133654
CREATED:20260325T225715Z
LAST-MODIFIED:20260325T225715Z
UID:10001292-1837940400-1837944000@www.stlukessanlucas.org
SUMMARY:Bible Study
DESCRIPTION:
URL:https://www.stlukessanlucas.org/event/bible-study-2/2028-03-29/
LOCATION:Chapel of the Holy Spirit
END:VEVENT
BEGIN:VEVENT
DTSTART;TZID=America/Los_Angeles:20280405T110000
DTEND;TZID=America/Los_Angeles:20280405T120000
DTSTAMP:20260424T133654
CREATED:20260325T225715Z
LAST-MODIFIED:20260325T225715Z
UID:10001293-1838545200-1838548800@www.stlukessanlucas.org
SUMMARY:Bible Study
DESCRIPTION:
URL:https://www.stlukessanlucas.org/event/bible-study-2/2028-04-05/
LOCATION:Chapel of the Holy Spirit
END:VEVENT
BEGIN:VEVENT
DTSTART;TZID=America/Los_Angeles:20280412T110000
DTEND;TZID=America/Los_Angeles:20280412T120000
DTSTAMP:20260424T133654
CREATED:20260325T225715Z
LAST-MODIFIED:20260325T225715Z
UID:10001294-1839150000-1839153600@www.stlukessanlucas.org
SUMMARY:Bible Study
DESCRIPTION:
URL:https://www.stlukessanlucas.org/event/bible-study-2/2028-04-12/
LOCATION:Chapel of the Holy Spirit
END:VEVENT
BEGIN:VEVENT
DTSTART;TZID=America/Los_Angeles:20280419T110000
DTEND;TZID=America/Los_Angeles:20280419T120000
DTSTAMP:20260424T133654
CREATED:20260325T225715Z
LAST-MODIFIED:20260325T225715Z
UID:10001295-1839754800-1839758400@www.stlukessanlucas.org
SUMMARY:Bible Study
DESCRIPTION:
URL:https://www.stlukessanlucas.org/event/bible-study-2/2028-04-19/
LOCATION:Chapel of the Holy Spirit
END:VEVENT
BEGIN:VEVENT
DTSTART;TZID=America/Los_Angeles:20280426T110000
DTEND;TZID=America/Los_Angeles:20280426T120000
DTSTAMP:20260424T133654
CREATED:20260325T225715Z
LAST-MODIFIED:20260325T225715Z
UID:10001296-1840359600-1840363200@www.stlukessanlucas.org
SUMMARY:Bible Study
DESCRIPTION:
URL:https://www.stlukessanlucas.org/event/bible-study-2/2028-04-26/
LOCATION:Chapel of the Holy Spirit
END:VEVENT
BEGIN:VEVENT
DTSTART;TZID=America/Los_Angeles:20280503T110000
DTEND;TZID=America/Los_Angeles:20280503T120000
DTSTAMP:20260424T133654
CREATED:20260325T225715Z
LAST-MODIFIED:20260325T225715Z
UID:10001297-1840964400-1840968000@www.stlukessanlucas.org
SUMMARY:Bible Study
DESCRIPTION:
URL:https://www.stlukessanlucas.org/event/bible-study-2/2028-05-03/
LOCATION:Chapel of the Holy Spirit
END:VEVENT
BEGIN:VEVENT
DTSTART;TZID=America/Los_Angeles:20280510T110000
DTEND;TZID=America/Los_Angeles:20280510T120000
DTSTAMP:20260424T133654
CREATED:20260325T225715Z
LAST-MODIFIED:20260325T225715Z
UID:10001298-1841569200-1841572800@www.stlukessanlucas.org
SUMMARY:Bible Study
DESCRIPTION:
URL:https://www.stlukessanlucas.org/event/bible-study-2/2028-05-10/
LOCATION:Chapel of the Holy Spirit
END:VEVENT
BEGIN:VEVENT
DTSTART;TZID=America/Los_Angeles:20280517T110000
DTEND;TZID=America/Los_Angeles:20280517T120000
DTSTAMP:20260424T133654
CREATED:20260325T225715Z
LAST-MODIFIED:20260325T225715Z
UID:10001299-1842174000-1842177600@www.stlukessanlucas.org
SUMMARY:Bible Study
DESCRIPTION:
URL:https://www.stlukessanlucas.org/event/bible-study-2/2028-05-17/
LOCATION:Chapel of the Holy Spirit
END:VEVENT
BEGIN:VEVENT
DTSTART;TZID=America/Los_Angeles:20280524T110000
DTEND;TZID=America/Los_Angeles:20280524T120000
DTSTAMP:20260424T133654
CREATED:20260325T225715Z
LAST-MODIFIED:20260325T225715Z
UID:10001300-1842778800-1842782400@www.stlukessanlucas.org
SUMMARY:Bible Study
DESCRIPTION:
URL:https://www.stlukessanlucas.org/event/bible-study-2/2028-05-24/
LOCATION:Chapel of the Holy Spirit
END:VEVENT
BEGIN:VEVENT
DTSTART;TZID=America/Los_Angeles:20280531T110000
DTEND;TZID=America/Los_Angeles:20280531T120000
DTSTAMP:20260424T133654
CREATED:20260325T225715Z
LAST-MODIFIED:20260325T225715Z
UID:10001301-1843383600-1843387200@www.stlukessanlucas.org
SUMMARY:Bible Study
DESCRIPTION:
URL:https://www.stlukessanlucas.org/event/bible-study-2/2028-05-31/
LOCATION:Chapel of the Holy Spirit
END:VEVENT
BEGIN:VEVENT
DTSTART;TZID=America/Los_Angeles:20280607T110000
DTEND;TZID=America/Los_Angeles:20280607T120000
DTSTAMP:20260424T133654
CREATED:20260325T225715Z
LAST-MODIFIED:20260325T225715Z
UID:10001302-1843988400-1843992000@www.stlukessanlucas.org
SUMMARY:Bible Study
DESCRIPTION:
URL:https://www.stlukessanlucas.org/event/bible-study-2/2028-06-07/
LOCATION:Chapel of the Holy Spirit
END:VEVENT
BEGIN:VEVENT
DTSTART;TZID=America/Los_Angeles:20280614T110000
DTEND;TZID=America/Los_Angeles:20280614T120000
DTSTAMP:20260424T133654
CREATED:20260325T225715Z
LAST-MODIFIED:20260325T225715Z
UID:10001303-1844593200-1844596800@www.stlukessanlucas.org
SUMMARY:Bible Study
DESCRIPTION:
URL:https://www.stlukessanlucas.org/event/bible-study-2/2028-06-14/
LOCATION:Chapel of the Holy Spirit
END:VEVENT
BEGIN:VEVENT
DTSTART;TZID=America/Los_Angeles:20280621T110000
DTEND;TZID=America/Los_Angeles:20280621T120000
DTSTAMP:20260424T133654
CREATED:20260325T225715Z
LAST-MODIFIED:20260325T225715Z
UID:10001304-1845198000-1845201600@www.stlukessanlucas.org
SUMMARY:Bible Study
DESCRIPTION:
URL:https://www.stlukessanlucas.org/event/bible-study-2/2028-06-21/
LOCATION:Chapel of the Holy Spirit
END:VEVENT
BEGIN:VEVENT
DTSTART;TZID=America/Los_Angeles:20280628T110000
DTEND;TZID=America/Los_Angeles:20280628T120000
DTSTAMP:20260424T133654
CREATED:20260325T225715Z
LAST-MODIFIED:20260325T225715Z
UID:10001305-1845802800-1845806400@www.stlukessanlucas.org
SUMMARY:Bible Study
DESCRIPTION:
URL:https://www.stlukessanlucas.org/event/bible-study-2/2028-06-28/
LOCATION:Chapel of the Holy Spirit
END:VEVENT
BEGIN:VEVENT
DTSTART;TZID=America/Los_Angeles:20280705T110000
DTEND;TZID=America/Los_Angeles:20280705T120000
DTSTAMP:20260424T133654
CREATED:20260325T225715Z
LAST-MODIFIED:20260325T225715Z
UID:10001306-1846407600-1846411200@www.stlukessanlucas.org
SUMMARY:Bible Study
DESCRIPTION:
URL:https://www.stlukessanlucas.org/event/bible-study-2/2028-07-05/
LOCATION:Chapel of the Holy Spirit
END:VEVENT
BEGIN:VEVENT
DTSTART;TZID=America/Los_Angeles:20280712T110000
DTEND;TZID=America/Los_Angeles:20280712T120000
DTSTAMP:20260424T133654
CREATED:20260325T225715Z
LAST-MODIFIED:20260325T225715Z
UID:10001307-1847012400-1847016000@www.stlukessanlucas.org
SUMMARY:Bible Study
DESCRIPTION:
URL:https://www.stlukessanlucas.org/event/bible-study-2/2028-07-12/
LOCATION:Chapel of the Holy Spirit
END:VEVENT
BEGIN:VEVENT
DTSTART;TZID=America/Los_Angeles:20280719T110000
DTEND;TZID=America/Los_Angeles:20280719T120000
DTSTAMP:20260424T133654
CREATED:20260325T225715Z
LAST-MODIFIED:20260325T225715Z
UID:10001308-1847617200-1847620800@www.stlukessanlucas.org
SUMMARY:Bible Study
DESCRIPTION:
URL:https://www.stlukessanlucas.org/event/bible-study-2/2028-07-19/
LOCATION:Chapel of the Holy Spirit
END:VEVENT
BEGIN:VEVENT
DTSTART;TZID=America/Los_Angeles:20280726T110000
DTEND;TZID=America/Los_Angeles:20280726T120000
DTSTAMP:20260424T133654
CREATED:20260325T225715Z
LAST-MODIFIED:20260325T225715Z
UID:10001309-1848222000-1848225600@www.stlukessanlucas.org
SUMMARY:Bible Study
DESCRIPTION:
URL:https://www.stlukessanlucas.org/event/bible-study-2/2028-07-26/
LOCATION:Chapel of the Holy Spirit
END:VEVENT
BEGIN:VEVENT
DTSTART;TZID=America/Los_Angeles:20280802T110000
DTEND;TZID=America/Los_Angeles:20280802T120000
DTSTAMP:20260424T133654
CREATED:20260325T225715Z
LAST-MODIFIED:20260325T225715Z
UID:10001310-1848826800-1848830400@www.stlukessanlucas.org
SUMMARY:Bible Study
DESCRIPTION:
URL:https://www.stlukessanlucas.org/event/bible-study-2/2028-08-02/
LOCATION:Chapel of the Holy Spirit
END:VEVENT
BEGIN:VEVENT
DTSTART;TZID=America/Los_Angeles:20280809T110000
DTEND;TZID=America/Los_Angeles:20280809T120000
DTSTAMP:20260424T133654
CREATED:20260325T225715Z
LAST-MODIFIED:20260325T225715Z
UID:10001311-1849431600-1849435200@www.stlukessanlucas.org
SUMMARY:Bible Study
DESCRIPTION:
URL:https://www.stlukessanlucas.org/event/bible-study-2/2028-08-09/
LOCATION:Chapel of the Holy Spirit
END:VEVENT
END:VCALENDAR