BEGIN:VCALENDAR
VERSION:2.0
PRODID:-//St. Luke&#039;s ~ San Lucas - ECPv6.15.19//NONSGML v1.0//EN
CALSCALE:GREGORIAN
METHOD:PUBLISH
X-ORIGINAL-URL:https://www.stlukessanlucas.org
X-WR-CALDESC:Events for St. Luke&#039;s ~ San Lucas
REFRESH-INTERVAL;VALUE=DURATION:PT1H
X-Robots-Tag:noindex
X-PUBLISHED-TTL:PT1H
BEGIN:VTIMEZONE
TZID:America/Los_Angeles
BEGIN:DAYLIGHT
TZOFFSETFROM:-0800
TZOFFSETTO:-0700
TZNAME:PDT
DTSTART:20270314T100000
END:DAYLIGHT
BEGIN:STANDARD
TZOFFSETFROM:-0700
TZOFFSETTO:-0800
TZNAME:PST
DTSTART:20271107T090000
END:STANDARD
BEGIN:DAYLIGHT
TZOFFSETFROM:-0800
TZOFFSETTO:-0700
TZNAME:PDT
DTSTART:20280312T100000
END:DAYLIGHT
BEGIN:STANDARD
TZOFFSETFROM:-0700
TZOFFSETTO:-0800
TZNAME:PST
DTSTART:20281105T090000
END:STANDARD
BEGIN:DAYLIGHT
TZOFFSETFROM:-0800
TZOFFSETTO:-0700
TZNAME:PDT
DTSTART:20290311T100000
END:DAYLIGHT
BEGIN:STANDARD
TZOFFSETFROM:-0700
TZOFFSETTO:-0800
TZNAME:PST
DTSTART:20291104T090000
END:STANDARD
BEGIN:DAYLIGHT
TZOFFSETFROM:-0800
TZOFFSETTO:-0700
TZNAME:PDT
DTSTART:20300310T100000
END:DAYLIGHT
BEGIN:STANDARD
TZOFFSETFROM:-0700
TZOFFSETTO:-0800
TZNAME:PST
DTSTART:20301103T090000
END:STANDARD
END:VTIMEZONE
BEGIN:VEVENT
DTSTART;TZID=America/Los_Angeles:20280816T110000
DTEND;TZID=America/Los_Angeles:20280816T120000
DTSTAMP:20260424T173201
CREATED:20260325T225715Z
LAST-MODIFIED:20260325T225715Z
UID:10001312-1850036400-1850040000@www.stlukessanlucas.org
SUMMARY:Bible Study
DESCRIPTION:
URL:https://www.stlukessanlucas.org/event/bible-study-2/2028-08-16/
LOCATION:Chapel of the Holy Spirit
END:VEVENT
BEGIN:VEVENT
DTSTART;TZID=America/Los_Angeles:20280823T110000
DTEND;TZID=America/Los_Angeles:20280823T120000
DTSTAMP:20260424T173201
CREATED:20260325T225715Z
LAST-MODIFIED:20260325T225715Z
UID:10001313-1850641200-1850644800@www.stlukessanlucas.org
SUMMARY:Bible Study
DESCRIPTION:
URL:https://www.stlukessanlucas.org/event/bible-study-2/2028-08-23/
LOCATION:Chapel of the Holy Spirit
END:VEVENT
BEGIN:VEVENT
DTSTART;TZID=America/Los_Angeles:20280830T110000
DTEND;TZID=America/Los_Angeles:20280830T120000
DTSTAMP:20260424T173201
CREATED:20260325T225715Z
LAST-MODIFIED:20260325T225715Z
UID:10001314-1851246000-1851249600@www.stlukessanlucas.org
SUMMARY:Bible Study
DESCRIPTION:
URL:https://www.stlukessanlucas.org/event/bible-study-2/2028-08-30/
LOCATION:Chapel of the Holy Spirit
END:VEVENT
BEGIN:VEVENT
DTSTART;TZID=America/Los_Angeles:20280906T110000
DTEND;TZID=America/Los_Angeles:20280906T120000
DTSTAMP:20260424T173201
CREATED:20260325T225715Z
LAST-MODIFIED:20260325T225715Z
UID:10001315-1851850800-1851854400@www.stlukessanlucas.org
SUMMARY:Bible Study
DESCRIPTION:
URL:https://www.stlukessanlucas.org/event/bible-study-2/2028-09-06/
LOCATION:Chapel of the Holy Spirit
END:VEVENT
BEGIN:VEVENT
DTSTART;TZID=America/Los_Angeles:20280913T110000
DTEND;TZID=America/Los_Angeles:20280913T120000
DTSTAMP:20260424T173201
CREATED:20260325T225715Z
LAST-MODIFIED:20260325T225715Z
UID:10001316-1852455600-1852459200@www.stlukessanlucas.org
SUMMARY:Bible Study
DESCRIPTION:
URL:https://www.stlukessanlucas.org/event/bible-study-2/2028-09-13/
LOCATION:Chapel of the Holy Spirit
END:VEVENT
BEGIN:VEVENT
DTSTART;TZID=America/Los_Angeles:20280920T110000
DTEND;TZID=America/Los_Angeles:20280920T120000
DTSTAMP:20260424T173201
CREATED:20260325T225715Z
LAST-MODIFIED:20260325T225715Z
UID:10001317-1853060400-1853064000@www.stlukessanlucas.org
SUMMARY:Bible Study
DESCRIPTION:
URL:https://www.stlukessanlucas.org/event/bible-study-2/2028-09-20/
LOCATION:Chapel of the Holy Spirit
END:VEVENT
BEGIN:VEVENT
DTSTART;TZID=America/Los_Angeles:20280927T110000
DTEND;TZID=America/Los_Angeles:20280927T120000
DTSTAMP:20260424T173201
CREATED:20260325T225715Z
LAST-MODIFIED:20260325T225715Z
UID:10001318-1853665200-1853668800@www.stlukessanlucas.org
SUMMARY:Bible Study
DESCRIPTION:
URL:https://www.stlukessanlucas.org/event/bible-study-2/2028-09-27/
LOCATION:Chapel of the Holy Spirit
END:VEVENT
BEGIN:VEVENT
DTSTART;TZID=America/Los_Angeles:20281004T110000
DTEND;TZID=America/Los_Angeles:20281004T120000
DTSTAMP:20260424T173201
CREATED:20260325T225715Z
LAST-MODIFIED:20260325T225715Z
UID:10001319-1854270000-1854273600@www.stlukessanlucas.org
SUMMARY:Bible Study
DESCRIPTION:
URL:https://www.stlukessanlucas.org/event/bible-study-2/2028-10-04/
LOCATION:Chapel of the Holy Spirit
END:VEVENT
BEGIN:VEVENT
DTSTART;TZID=America/Los_Angeles:20281011T110000
DTEND;TZID=America/Los_Angeles:20281011T120000
DTSTAMP:20260424T173201
CREATED:20260325T225715Z
LAST-MODIFIED:20260325T225715Z
UID:10001320-1854874800-1854878400@www.stlukessanlucas.org
SUMMARY:Bible Study
DESCRIPTION:
URL:https://www.stlukessanlucas.org/event/bible-study-2/2028-10-11/
LOCATION:Chapel of the Holy Spirit
END:VEVENT
BEGIN:VEVENT
DTSTART;TZID=America/Los_Angeles:20281018T110000
DTEND;TZID=America/Los_Angeles:20281018T120000
DTSTAMP:20260424T173201
CREATED:20260325T225715Z
LAST-MODIFIED:20260325T225715Z
UID:10001321-1855479600-1855483200@www.stlukessanlucas.org
SUMMARY:Bible Study
DESCRIPTION:
URL:https://www.stlukessanlucas.org/event/bible-study-2/2028-10-18/
LOCATION:Chapel of the Holy Spirit
END:VEVENT
BEGIN:VEVENT
DTSTART;TZID=America/Los_Angeles:20281025T110000
DTEND;TZID=America/Los_Angeles:20281025T120000
DTSTAMP:20260424T173201
CREATED:20260325T225715Z
LAST-MODIFIED:20260325T225715Z
UID:10001322-1856084400-1856088000@www.stlukessanlucas.org
SUMMARY:Bible Study
DESCRIPTION:
URL:https://www.stlukessanlucas.org/event/bible-study-2/2028-10-25/
LOCATION:Chapel of the Holy Spirit
END:VEVENT
BEGIN:VEVENT
DTSTART;TZID=America/Los_Angeles:20281101T110000
DTEND;TZID=America/Los_Angeles:20281101T120000
DTSTAMP:20260424T173201
CREATED:20260325T225715Z
LAST-MODIFIED:20260325T225715Z
UID:10001323-1856689200-1856692800@www.stlukessanlucas.org
SUMMARY:Bible Study
DESCRIPTION:
URL:https://www.stlukessanlucas.org/event/bible-study-2/2028-11-01/
LOCATION:Chapel of the Holy Spirit
END:VEVENT
BEGIN:VEVENT
DTSTART;TZID=America/Los_Angeles:20281108T110000
DTEND;TZID=America/Los_Angeles:20281108T120000
DTSTAMP:20260424T173201
CREATED:20260325T225715Z
LAST-MODIFIED:20260325T225715Z
UID:10001324-1857294000-1857297600@www.stlukessanlucas.org
SUMMARY:Bible Study
DESCRIPTION:
URL:https://www.stlukessanlucas.org/event/bible-study-2/2028-11-08/
LOCATION:Chapel of the Holy Spirit
END:VEVENT
BEGIN:VEVENT
DTSTART;TZID=America/Los_Angeles:20281115T110000
DTEND;TZID=America/Los_Angeles:20281115T120000
DTSTAMP:20260424T173201
CREATED:20260325T225715Z
LAST-MODIFIED:20260325T225715Z
UID:10001325-1857898800-1857902400@www.stlukessanlucas.org
SUMMARY:Bible Study
DESCRIPTION:
URL:https://www.stlukessanlucas.org/event/bible-study-2/2028-11-15/
LOCATION:Chapel of the Holy Spirit
END:VEVENT
BEGIN:VEVENT
DTSTART;TZID=America/Los_Angeles:20281122T110000
DTEND;TZID=America/Los_Angeles:20281122T120000
DTSTAMP:20260424T173201
CREATED:20260325T225715Z
LAST-MODIFIED:20260325T225715Z
UID:10001326-1858503600-1858507200@www.stlukessanlucas.org
SUMMARY:Bible Study
DESCRIPTION:
URL:https://www.stlukessanlucas.org/event/bible-study-2/2028-11-22/
LOCATION:Chapel of the Holy Spirit
END:VEVENT
BEGIN:VEVENT
DTSTART;TZID=America/Los_Angeles:20281129T110000
DTEND;TZID=America/Los_Angeles:20281129T120000
DTSTAMP:20260424T173201
CREATED:20260325T225715Z
LAST-MODIFIED:20260325T225715Z
UID:10001327-1859108400-1859112000@www.stlukessanlucas.org
SUMMARY:Bible Study
DESCRIPTION:
URL:https://www.stlukessanlucas.org/event/bible-study-2/2028-11-29/
LOCATION:Chapel of the Holy Spirit
END:VEVENT
BEGIN:VEVENT
DTSTART;TZID=America/Los_Angeles:20281206T110000
DTEND;TZID=America/Los_Angeles:20281206T120000
DTSTAMP:20260424T173201
CREATED:20260325T225715Z
LAST-MODIFIED:20260325T225715Z
UID:10001328-1859713200-1859716800@www.stlukessanlucas.org
SUMMARY:Bible Study
DESCRIPTION:
URL:https://www.stlukessanlucas.org/event/bible-study-2/2028-12-06/
LOCATION:Chapel of the Holy Spirit
END:VEVENT
BEGIN:VEVENT
DTSTART;TZID=America/Los_Angeles:20281213T110000
DTEND;TZID=America/Los_Angeles:20281213T120000
DTSTAMP:20260424T173201
CREATED:20260325T225715Z
LAST-MODIFIED:20260325T225715Z
UID:10001329-1860318000-1860321600@www.stlukessanlucas.org
SUMMARY:Bible Study
DESCRIPTION:
URL:https://www.stlukessanlucas.org/event/bible-study-2/2028-12-13/
LOCATION:Chapel of the Holy Spirit
END:VEVENT
BEGIN:VEVENT
DTSTART;TZID=America/Los_Angeles:20281220T110000
DTEND;TZID=America/Los_Angeles:20281220T120000
DTSTAMP:20260424T173201
CREATED:20260325T225715Z
LAST-MODIFIED:20260325T225715Z
UID:10001330-1860922800-1860926400@www.stlukessanlucas.org
SUMMARY:Bible Study
DESCRIPTION:
URL:https://www.stlukessanlucas.org/event/bible-study-2/2028-12-20/
LOCATION:Chapel of the Holy Spirit
END:VEVENT
BEGIN:VEVENT
DTSTART;TZID=America/Los_Angeles:20281227T110000
DTEND;TZID=America/Los_Angeles:20281227T120000
DTSTAMP:20260424T173201
CREATED:20260325T225715Z
LAST-MODIFIED:20260325T225715Z
UID:10001331-1861527600-1861531200@www.stlukessanlucas.org
SUMMARY:Bible Study
DESCRIPTION:
URL:https://www.stlukessanlucas.org/event/bible-study-2/2028-12-27/
LOCATION:Chapel of the Holy Spirit
END:VEVENT
BEGIN:VEVENT
DTSTART;TZID=America/Los_Angeles:20290103T110000
DTEND;TZID=America/Los_Angeles:20290103T120000
DTSTAMP:20260424T173201
CREATED:20260325T225715Z
LAST-MODIFIED:20260325T225715Z
UID:10001332-1862132400-1862136000@www.stlukessanlucas.org
SUMMARY:Bible Study
DESCRIPTION:
URL:https://www.stlukessanlucas.org/event/bible-study-2/2029-01-03/
LOCATION:Chapel of the Holy Spirit
END:VEVENT
BEGIN:VEVENT
DTSTART;TZID=America/Los_Angeles:20290110T110000
DTEND;TZID=America/Los_Angeles:20290110T120000
DTSTAMP:20260424T173201
CREATED:20260325T225715Z
LAST-MODIFIED:20260325T225715Z
UID:10001333-1862737200-1862740800@www.stlukessanlucas.org
SUMMARY:Bible Study
DESCRIPTION:
URL:https://www.stlukessanlucas.org/event/bible-study-2/2029-01-10/
LOCATION:Chapel of the Holy Spirit
END:VEVENT
BEGIN:VEVENT
DTSTART;TZID=America/Los_Angeles:20290117T110000
DTEND;TZID=America/Los_Angeles:20290117T120000
DTSTAMP:20260424T173201
CREATED:20260325T225715Z
LAST-MODIFIED:20260325T225715Z
UID:10001334-1863342000-1863345600@www.stlukessanlucas.org
SUMMARY:Bible Study
DESCRIPTION:
URL:https://www.stlukessanlucas.org/event/bible-study-2/2029-01-17/
LOCATION:Chapel of the Holy Spirit
END:VEVENT
BEGIN:VEVENT
DTSTART;TZID=America/Los_Angeles:20290124T110000
DTEND;TZID=America/Los_Angeles:20290124T120000
DTSTAMP:20260424T173201
CREATED:20260325T225715Z
LAST-MODIFIED:20260325T225715Z
UID:10001335-1863946800-1863950400@www.stlukessanlucas.org
SUMMARY:Bible Study
DESCRIPTION:
URL:https://www.stlukessanlucas.org/event/bible-study-2/2029-01-24/
LOCATION:Chapel of the Holy Spirit
END:VEVENT
BEGIN:VEVENT
DTSTART;TZID=America/Los_Angeles:20290131T110000
DTEND;TZID=America/Los_Angeles:20290131T120000
DTSTAMP:20260424T173201
CREATED:20260325T225715Z
LAST-MODIFIED:20260325T225715Z
UID:10001336-1864551600-1864555200@www.stlukessanlucas.org
SUMMARY:Bible Study
DESCRIPTION:
URL:https://www.stlukessanlucas.org/event/bible-study-2/2029-01-31/
LOCATION:Chapel of the Holy Spirit
END:VEVENT
BEGIN:VEVENT
DTSTART;TZID=America/Los_Angeles:20290207T110000
DTEND;TZID=America/Los_Angeles:20290207T120000
DTSTAMP:20260424T173201
CREATED:20260325T225715Z
LAST-MODIFIED:20260325T225715Z
UID:10001337-1865156400-1865160000@www.stlukessanlucas.org
SUMMARY:Bible Study
DESCRIPTION:
URL:https://www.stlukessanlucas.org/event/bible-study-2/2029-02-07/
LOCATION:Chapel of the Holy Spirit
END:VEVENT
BEGIN:VEVENT
DTSTART;TZID=America/Los_Angeles:20290214T110000
DTEND;TZID=America/Los_Angeles:20290214T120000
DTSTAMP:20260424T173201
CREATED:20260325T225715Z
LAST-MODIFIED:20260325T225715Z
UID:10001338-1865761200-1865764800@www.stlukessanlucas.org
SUMMARY:Bible Study
DESCRIPTION:
URL:https://www.stlukessanlucas.org/event/bible-study-2/2029-02-14/
LOCATION:Chapel of the Holy Spirit
END:VEVENT
BEGIN:VEVENT
DTSTART;TZID=America/Los_Angeles:20290221T110000
DTEND;TZID=America/Los_Angeles:20290221T120000
DTSTAMP:20260424T173201
CREATED:20260325T225715Z
LAST-MODIFIED:20260325T225715Z
UID:10001339-1866366000-1866369600@www.stlukessanlucas.org
SUMMARY:Bible Study
DESCRIPTION:
URL:https://www.stlukessanlucas.org/event/bible-study-2/2029-02-21/
LOCATION:Chapel of the Holy Spirit
END:VEVENT
BEGIN:VEVENT
DTSTART;TZID=America/Los_Angeles:20290228T110000
DTEND;TZID=America/Los_Angeles:20290228T120000
DTSTAMP:20260424T173201
CREATED:20260325T225715Z
LAST-MODIFIED:20260325T225715Z
UID:10001340-1866970800-1866974400@www.stlukessanlucas.org
SUMMARY:Bible Study
DESCRIPTION:
URL:https://www.stlukessanlucas.org/event/bible-study-2/2029-02-28/
LOCATION:Chapel of the Holy Spirit
END:VEVENT
BEGIN:VEVENT
DTSTART;TZID=America/Los_Angeles:20290307T110000
DTEND;TZID=America/Los_Angeles:20290307T120000
DTSTAMP:20260424T173201
CREATED:20260325T225715Z
LAST-MODIFIED:20260325T225715Z
UID:10001341-1867575600-1867579200@www.stlukessanlucas.org
SUMMARY:Bible Study
DESCRIPTION:
URL:https://www.stlukessanlucas.org/event/bible-study-2/2029-03-07/
LOCATION:Chapel of the Holy Spirit
END:VEVENT
END:VCALENDAR