BEGIN:VCALENDAR
VERSION:2.0
PRODID:-//St. Luke&#039;s ~ San Lucas - ECPv6.15.19//NONSGML v1.0//EN
CALSCALE:GREGORIAN
METHOD:PUBLISH
X-WR-CALNAME:St. Luke&#039;s ~ San Lucas
X-ORIGINAL-URL:https://www.stlukessanlucas.org
X-WR-CALDESC:Events for St. Luke&#039;s ~ San Lucas
REFRESH-INTERVAL;VALUE=DURATION:PT1H
X-Robots-Tag:noindex
X-PUBLISHED-TTL:PT1H
BEGIN:VTIMEZONE
TZID:America/Los_Angeles
BEGIN:DAYLIGHT
TZOFFSETFROM:-0800
TZOFFSETTO:-0700
TZNAME:PDT
DTSTART:20280312T100000
END:DAYLIGHT
BEGIN:STANDARD
TZOFFSETFROM:-0700
TZOFFSETTO:-0800
TZNAME:PST
DTSTART:20281105T090000
END:STANDARD
BEGIN:DAYLIGHT
TZOFFSETFROM:-0800
TZOFFSETTO:-0700
TZNAME:PDT
DTSTART:20290311T100000
END:DAYLIGHT
BEGIN:STANDARD
TZOFFSETFROM:-0700
TZOFFSETTO:-0800
TZNAME:PST
DTSTART:20291104T090000
END:STANDARD
BEGIN:DAYLIGHT
TZOFFSETFROM:-0800
TZOFFSETTO:-0700
TZNAME:PDT
DTSTART:20300310T100000
END:DAYLIGHT
BEGIN:STANDARD
TZOFFSETFROM:-0700
TZOFFSETTO:-0800
TZNAME:PST
DTSTART:20301103T090000
END:STANDARD
END:VTIMEZONE
BEGIN:VEVENT
DTSTART;TZID=America/Los_Angeles:20290103T110000
DTEND;TZID=America/Los_Angeles:20290103T120000
DTSTAMP:20260424T200016
CREATED:20260325T225715Z
LAST-MODIFIED:20260325T225715Z
UID:10001332-1862132400-1862136000@www.stlukessanlucas.org
SUMMARY:Bible Study
DESCRIPTION:
URL:https://www.stlukessanlucas.org/event/bible-study-2/2029-01-03/
LOCATION:Chapel of the Holy Spirit
END:VEVENT
BEGIN:VEVENT
DTSTART;TZID=America/Los_Angeles:20290110T110000
DTEND;TZID=America/Los_Angeles:20290110T120000
DTSTAMP:20260424T200016
CREATED:20260325T225715Z
LAST-MODIFIED:20260325T225715Z
UID:10001333-1862737200-1862740800@www.stlukessanlucas.org
SUMMARY:Bible Study
DESCRIPTION:
URL:https://www.stlukessanlucas.org/event/bible-study-2/2029-01-10/
LOCATION:Chapel of the Holy Spirit
END:VEVENT
BEGIN:VEVENT
DTSTART;TZID=America/Los_Angeles:20290117T110000
DTEND;TZID=America/Los_Angeles:20290117T120000
DTSTAMP:20260424T200016
CREATED:20260325T225715Z
LAST-MODIFIED:20260325T225715Z
UID:10001334-1863342000-1863345600@www.stlukessanlucas.org
SUMMARY:Bible Study
DESCRIPTION:
URL:https://www.stlukessanlucas.org/event/bible-study-2/2029-01-17/
LOCATION:Chapel of the Holy Spirit
END:VEVENT
BEGIN:VEVENT
DTSTART;TZID=America/Los_Angeles:20290124T110000
DTEND;TZID=America/Los_Angeles:20290124T120000
DTSTAMP:20260424T200016
CREATED:20260325T225715Z
LAST-MODIFIED:20260325T225715Z
UID:10001335-1863946800-1863950400@www.stlukessanlucas.org
SUMMARY:Bible Study
DESCRIPTION:
URL:https://www.stlukessanlucas.org/event/bible-study-2/2029-01-24/
LOCATION:Chapel of the Holy Spirit
END:VEVENT
BEGIN:VEVENT
DTSTART;TZID=America/Los_Angeles:20290131T110000
DTEND;TZID=America/Los_Angeles:20290131T120000
DTSTAMP:20260424T200016
CREATED:20260325T225715Z
LAST-MODIFIED:20260325T225715Z
UID:10001336-1864551600-1864555200@www.stlukessanlucas.org
SUMMARY:Bible Study
DESCRIPTION:
URL:https://www.stlukessanlucas.org/event/bible-study-2/2029-01-31/
LOCATION:Chapel of the Holy Spirit
END:VEVENT
BEGIN:VEVENT
DTSTART;TZID=America/Los_Angeles:20290207T110000
DTEND;TZID=America/Los_Angeles:20290207T120000
DTSTAMP:20260424T200016
CREATED:20260325T225715Z
LAST-MODIFIED:20260325T225715Z
UID:10001337-1865156400-1865160000@www.stlukessanlucas.org
SUMMARY:Bible Study
DESCRIPTION:
URL:https://www.stlukessanlucas.org/event/bible-study-2/2029-02-07/
LOCATION:Chapel of the Holy Spirit
END:VEVENT
BEGIN:VEVENT
DTSTART;TZID=America/Los_Angeles:20290214T110000
DTEND;TZID=America/Los_Angeles:20290214T120000
DTSTAMP:20260424T200016
CREATED:20260325T225715Z
LAST-MODIFIED:20260325T225715Z
UID:10001338-1865761200-1865764800@www.stlukessanlucas.org
SUMMARY:Bible Study
DESCRIPTION:
URL:https://www.stlukessanlucas.org/event/bible-study-2/2029-02-14/
LOCATION:Chapel of the Holy Spirit
END:VEVENT
BEGIN:VEVENT
DTSTART;TZID=America/Los_Angeles:20290221T110000
DTEND;TZID=America/Los_Angeles:20290221T120000
DTSTAMP:20260424T200016
CREATED:20260325T225715Z
LAST-MODIFIED:20260325T225715Z
UID:10001339-1866366000-1866369600@www.stlukessanlucas.org
SUMMARY:Bible Study
DESCRIPTION:
URL:https://www.stlukessanlucas.org/event/bible-study-2/2029-02-21/
LOCATION:Chapel of the Holy Spirit
END:VEVENT
BEGIN:VEVENT
DTSTART;TZID=America/Los_Angeles:20290228T110000
DTEND;TZID=America/Los_Angeles:20290228T120000
DTSTAMP:20260424T200016
CREATED:20260325T225715Z
LAST-MODIFIED:20260325T225715Z
UID:10001340-1866970800-1866974400@www.stlukessanlucas.org
SUMMARY:Bible Study
DESCRIPTION:
URL:https://www.stlukessanlucas.org/event/bible-study-2/2029-02-28/
LOCATION:Chapel of the Holy Spirit
END:VEVENT
BEGIN:VEVENT
DTSTART;TZID=America/Los_Angeles:20290307T110000
DTEND;TZID=America/Los_Angeles:20290307T120000
DTSTAMP:20260424T200016
CREATED:20260325T225715Z
LAST-MODIFIED:20260325T225715Z
UID:10001341-1867575600-1867579200@www.stlukessanlucas.org
SUMMARY:Bible Study
DESCRIPTION:
URL:https://www.stlukessanlucas.org/event/bible-study-2/2029-03-07/
LOCATION:Chapel of the Holy Spirit
END:VEVENT
BEGIN:VEVENT
DTSTART;TZID=America/Los_Angeles:20290314T110000
DTEND;TZID=America/Los_Angeles:20290314T120000
DTSTAMP:20260424T200016
CREATED:20260325T225715Z
LAST-MODIFIED:20260325T225715Z
UID:10001342-1868180400-1868184000@www.stlukessanlucas.org
SUMMARY:Bible Study
DESCRIPTION:
URL:https://www.stlukessanlucas.org/event/bible-study-2/2029-03-14/
LOCATION:Chapel of the Holy Spirit
END:VEVENT
BEGIN:VEVENT
DTSTART;TZID=America/Los_Angeles:20290321T110000
DTEND;TZID=America/Los_Angeles:20290321T120000
DTSTAMP:20260424T200016
CREATED:20260325T225715Z
LAST-MODIFIED:20260325T225715Z
UID:10001343-1868785200-1868788800@www.stlukessanlucas.org
SUMMARY:Bible Study
DESCRIPTION:
URL:https://www.stlukessanlucas.org/event/bible-study-2/2029-03-21/
LOCATION:Chapel of the Holy Spirit
END:VEVENT
BEGIN:VEVENT
DTSTART;TZID=America/Los_Angeles:20290328T110000
DTEND;TZID=America/Los_Angeles:20290328T120000
DTSTAMP:20260424T200016
CREATED:20260325T225715Z
LAST-MODIFIED:20260325T225715Z
UID:10001344-1869390000-1869393600@www.stlukessanlucas.org
SUMMARY:Bible Study
DESCRIPTION:
URL:https://www.stlukessanlucas.org/event/bible-study-2/2029-03-28/
LOCATION:Chapel of the Holy Spirit
END:VEVENT
BEGIN:VEVENT
DTSTART;TZID=America/Los_Angeles:20290404T110000
DTEND;TZID=America/Los_Angeles:20290404T120000
DTSTAMP:20260424T200016
CREATED:20260325T225715Z
LAST-MODIFIED:20260325T225715Z
UID:10001345-1869994800-1869998400@www.stlukessanlucas.org
SUMMARY:Bible Study
DESCRIPTION:
URL:https://www.stlukessanlucas.org/event/bible-study-2/2029-04-04/
LOCATION:Chapel of the Holy Spirit
END:VEVENT
BEGIN:VEVENT
DTSTART;TZID=America/Los_Angeles:20290411T110000
DTEND;TZID=America/Los_Angeles:20290411T120000
DTSTAMP:20260424T200016
CREATED:20260325T225715Z
LAST-MODIFIED:20260325T225715Z
UID:10001346-1870599600-1870603200@www.stlukessanlucas.org
SUMMARY:Bible Study
DESCRIPTION:
URL:https://www.stlukessanlucas.org/event/bible-study-2/2029-04-11/
LOCATION:Chapel of the Holy Spirit
END:VEVENT
BEGIN:VEVENT
DTSTART;TZID=America/Los_Angeles:20290418T110000
DTEND;TZID=America/Los_Angeles:20290418T120000
DTSTAMP:20260424T200016
CREATED:20260325T225715Z
LAST-MODIFIED:20260325T225715Z
UID:10001347-1871204400-1871208000@www.stlukessanlucas.org
SUMMARY:Bible Study
DESCRIPTION:
URL:https://www.stlukessanlucas.org/event/bible-study-2/2029-04-18/
LOCATION:Chapel of the Holy Spirit
END:VEVENT
BEGIN:VEVENT
DTSTART;TZID=America/Los_Angeles:20290425T110000
DTEND;TZID=America/Los_Angeles:20290425T120000
DTSTAMP:20260424T200016
CREATED:20260325T225715Z
LAST-MODIFIED:20260325T225715Z
UID:10001348-1871809200-1871812800@www.stlukessanlucas.org
SUMMARY:Bible Study
DESCRIPTION:
URL:https://www.stlukessanlucas.org/event/bible-study-2/2029-04-25/
LOCATION:Chapel of the Holy Spirit
END:VEVENT
BEGIN:VEVENT
DTSTART;TZID=America/Los_Angeles:20290502T110000
DTEND;TZID=America/Los_Angeles:20290502T120000
DTSTAMP:20260424T200016
CREATED:20260325T225715Z
LAST-MODIFIED:20260325T225715Z
UID:10001349-1872414000-1872417600@www.stlukessanlucas.org
SUMMARY:Bible Study
DESCRIPTION:
URL:https://www.stlukessanlucas.org/event/bible-study-2/2029-05-02/
LOCATION:Chapel of the Holy Spirit
END:VEVENT
BEGIN:VEVENT
DTSTART;TZID=America/Los_Angeles:20290509T110000
DTEND;TZID=America/Los_Angeles:20290509T120000
DTSTAMP:20260424T200016
CREATED:20260325T225715Z
LAST-MODIFIED:20260325T225715Z
UID:10001350-1873018800-1873022400@www.stlukessanlucas.org
SUMMARY:Bible Study
DESCRIPTION:
URL:https://www.stlukessanlucas.org/event/bible-study-2/2029-05-09/
LOCATION:Chapel of the Holy Spirit
END:VEVENT
BEGIN:VEVENT
DTSTART;TZID=America/Los_Angeles:20290516T110000
DTEND;TZID=America/Los_Angeles:20290516T120000
DTSTAMP:20260424T200016
CREATED:20260325T225715Z
LAST-MODIFIED:20260325T225715Z
UID:10001351-1873623600-1873627200@www.stlukessanlucas.org
SUMMARY:Bible Study
DESCRIPTION:
URL:https://www.stlukessanlucas.org/event/bible-study-2/2029-05-16/
LOCATION:Chapel of the Holy Spirit
END:VEVENT
BEGIN:VEVENT
DTSTART;TZID=America/Los_Angeles:20290523T110000
DTEND;TZID=America/Los_Angeles:20290523T120000
DTSTAMP:20260424T200016
CREATED:20260325T225715Z
LAST-MODIFIED:20260325T225715Z
UID:10001352-1874228400-1874232000@www.stlukessanlucas.org
SUMMARY:Bible Study
DESCRIPTION:
URL:https://www.stlukessanlucas.org/event/bible-study-2/2029-05-23/
LOCATION:Chapel of the Holy Spirit
END:VEVENT
BEGIN:VEVENT
DTSTART;TZID=America/Los_Angeles:20290530T110000
DTEND;TZID=America/Los_Angeles:20290530T120000
DTSTAMP:20260424T200016
CREATED:20260325T225715Z
LAST-MODIFIED:20260325T225715Z
UID:10001353-1874833200-1874836800@www.stlukessanlucas.org
SUMMARY:Bible Study
DESCRIPTION:
URL:https://www.stlukessanlucas.org/event/bible-study-2/2029-05-30/
LOCATION:Chapel of the Holy Spirit
END:VEVENT
BEGIN:VEVENT
DTSTART;TZID=America/Los_Angeles:20290606T110000
DTEND;TZID=America/Los_Angeles:20290606T120000
DTSTAMP:20260424T200016
CREATED:20260325T225715Z
LAST-MODIFIED:20260325T225715Z
UID:10001354-1875438000-1875441600@www.stlukessanlucas.org
SUMMARY:Bible Study
DESCRIPTION:
URL:https://www.stlukessanlucas.org/event/bible-study-2/2029-06-06/
LOCATION:Chapel of the Holy Spirit
END:VEVENT
BEGIN:VEVENT
DTSTART;TZID=America/Los_Angeles:20290613T110000
DTEND;TZID=America/Los_Angeles:20290613T120000
DTSTAMP:20260424T200016
CREATED:20260325T225715Z
LAST-MODIFIED:20260325T225715Z
UID:10001355-1876042800-1876046400@www.stlukessanlucas.org
SUMMARY:Bible Study
DESCRIPTION:
URL:https://www.stlukessanlucas.org/event/bible-study-2/2029-06-13/
LOCATION:Chapel of the Holy Spirit
END:VEVENT
BEGIN:VEVENT
DTSTART;TZID=America/Los_Angeles:20290620T110000
DTEND;TZID=America/Los_Angeles:20290620T120000
DTSTAMP:20260424T200016
CREATED:20260325T225715Z
LAST-MODIFIED:20260325T225715Z
UID:10001356-1876647600-1876651200@www.stlukessanlucas.org
SUMMARY:Bible Study
DESCRIPTION:
URL:https://www.stlukessanlucas.org/event/bible-study-2/2029-06-20/
LOCATION:Chapel of the Holy Spirit
END:VEVENT
BEGIN:VEVENT
DTSTART;TZID=America/Los_Angeles:20290627T110000
DTEND;TZID=America/Los_Angeles:20290627T120000
DTSTAMP:20260424T200016
CREATED:20260325T225715Z
LAST-MODIFIED:20260325T225715Z
UID:10001357-1877252400-1877256000@www.stlukessanlucas.org
SUMMARY:Bible Study
DESCRIPTION:
URL:https://www.stlukessanlucas.org/event/bible-study-2/2029-06-27/
LOCATION:Chapel of the Holy Spirit
END:VEVENT
BEGIN:VEVENT
DTSTART;TZID=America/Los_Angeles:20290704T110000
DTEND;TZID=America/Los_Angeles:20290704T120000
DTSTAMP:20260424T200016
CREATED:20260325T225715Z
LAST-MODIFIED:20260325T225715Z
UID:10001358-1877857200-1877860800@www.stlukessanlucas.org
SUMMARY:Bible Study
DESCRIPTION:
URL:https://www.stlukessanlucas.org/event/bible-study-2/2029-07-04/
LOCATION:Chapel of the Holy Spirit
END:VEVENT
BEGIN:VEVENT
DTSTART;TZID=America/Los_Angeles:20290711T110000
DTEND;TZID=America/Los_Angeles:20290711T120000
DTSTAMP:20260424T200016
CREATED:20260325T225715Z
LAST-MODIFIED:20260325T225715Z
UID:10001359-1878462000-1878465600@www.stlukessanlucas.org
SUMMARY:Bible Study
DESCRIPTION:
URL:https://www.stlukessanlucas.org/event/bible-study-2/2029-07-11/
LOCATION:Chapel of the Holy Spirit
END:VEVENT
BEGIN:VEVENT
DTSTART;TZID=America/Los_Angeles:20290718T110000
DTEND;TZID=America/Los_Angeles:20290718T120000
DTSTAMP:20260424T200016
CREATED:20260325T225715Z
LAST-MODIFIED:20260325T225715Z
UID:10001360-1879066800-1879070400@www.stlukessanlucas.org
SUMMARY:Bible Study
DESCRIPTION:
URL:https://www.stlukessanlucas.org/event/bible-study-2/2029-07-18/
LOCATION:Chapel of the Holy Spirit
END:VEVENT
BEGIN:VEVENT
DTSTART;TZID=America/Los_Angeles:20290725T110000
DTEND;TZID=America/Los_Angeles:20290725T120000
DTSTAMP:20260424T200016
CREATED:20260325T225715Z
LAST-MODIFIED:20260325T225715Z
UID:10001361-1879671600-1879675200@www.stlukessanlucas.org
SUMMARY:Bible Study
DESCRIPTION:
URL:https://www.stlukessanlucas.org/event/bible-study-2/2029-07-25/
LOCATION:Chapel of the Holy Spirit
END:VEVENT
END:VCALENDAR