BEGIN:VCALENDAR
VERSION:2.0
PRODID:-//St. Luke&#039;s ~ San Lucas - ECPv6.15.19//NONSGML v1.0//EN
CALSCALE:GREGORIAN
METHOD:PUBLISH
X-ORIGINAL-URL:https://www.stlukessanlucas.org
X-WR-CALDESC:Events for St. Luke&#039;s ~ San Lucas
REFRESH-INTERVAL;VALUE=DURATION:PT1H
X-Robots-Tag:noindex
X-PUBLISHED-TTL:PT1H
BEGIN:VTIMEZONE
TZID:America/Los_Angeles
BEGIN:DAYLIGHT
TZOFFSETFROM:-0800
TZOFFSETTO:-0700
TZNAME:PDT
DTSTART:20240310T100000
END:DAYLIGHT
BEGIN:STANDARD
TZOFFSETFROM:-0700
TZOFFSETTO:-0800
TZNAME:PST
DTSTART:20241103T090000
END:STANDARD
BEGIN:DAYLIGHT
TZOFFSETFROM:-0800
TZOFFSETTO:-0700
TZNAME:PDT
DTSTART:20250309T100000
END:DAYLIGHT
BEGIN:STANDARD
TZOFFSETFROM:-0700
TZOFFSETTO:-0800
TZNAME:PST
DTSTART:20251102T090000
END:STANDARD
BEGIN:DAYLIGHT
TZOFFSETFROM:-0800
TZOFFSETTO:-0700
TZNAME:PDT
DTSTART:20260308T100000
END:DAYLIGHT
BEGIN:STANDARD
TZOFFSETFROM:-0700
TZOFFSETTO:-0800
TZNAME:PST
DTSTART:20261101T090000
END:STANDARD
BEGIN:DAYLIGHT
TZOFFSETFROM:-0800
TZOFFSETTO:-0700
TZNAME:PDT
DTSTART:20270314T100000
END:DAYLIGHT
BEGIN:STANDARD
TZOFFSETFROM:-0700
TZOFFSETTO:-0800
TZNAME:PST
DTSTART:20271107T090000
END:STANDARD
END:VTIMEZONE
BEGIN:VTIMEZONE
TZID:America/Los_Angeles
BEGIN:DAYLIGHT
TZOFFSETFROM:-0800
TZOFFSETTO:-0700
TZNAME:PDT
DTSTART:20240310T100000
END:DAYLIGHT
BEGIN:STANDARD
TZOFFSETFROM:-0700
TZOFFSETTO:-0800
TZNAME:PST
DTSTART:20241103T090000
END:STANDARD
BEGIN:DAYLIGHT
TZOFFSETFROM:-0800
TZOFFSETTO:-0700
TZNAME:PDT
DTSTART:20250309T100000
END:DAYLIGHT
BEGIN:STANDARD
TZOFFSETFROM:-0700
TZOFFSETTO:-0800
TZNAME:PST
DTSTART:20251102T090000
END:STANDARD
BEGIN:DAYLIGHT
TZOFFSETFROM:-0800
TZOFFSETTO:-0700
TZNAME:PDT
DTSTART:20260308T100000
END:DAYLIGHT
BEGIN:STANDARD
TZOFFSETFROM:-0700
TZOFFSETTO:-0800
TZNAME:PST
DTSTART:20261101T090000
END:STANDARD
END:VTIMEZONE
BEGIN:VEVENT
DTSTART;TZID=America/Los_Angeles:20260204T110000
DTEND;TZID=America/Los_Angeles:20260204T120000
DTSTAMP:20260424T041631
CREATED:20250304T212032Z
LAST-MODIFIED:20251205T235100Z
UID:10001180-1770202800-1770206400@www.stlukessanlucas.org
SUMMARY:Bible Study
DESCRIPTION:
URL:https://www.stlukessanlucas.org/event/bible-study/2026-02-04/
LOCATION:Chapel of the Holy Spirit
END:VEVENT
BEGIN:VEVENT
DTSTART;TZID=America/Los_Angeles:20260129T090000
DTEND;TZID=America/Los_Angeles:20260129T100000
DTSTAMP:20260424T041631
CREATED:20251215T195210Z
LAST-MODIFIED:20251215T195210Z
UID:10005320-1769677200-1769680800@www.stlukessanlucas.org
SUMMARY:Morning Prayer
DESCRIPTION:
URL:https://www.stlukessanlucas.org/event/morning-prayer-3-2/2026-01-29/
LOCATION:Chapel of the Holy Spirit
END:VEVENT
BEGIN:VEVENT
DTSTART;TZID=America/Los_Angeles:20260128T110000
DTEND;TZID=America/Los_Angeles:20260128T120000
DTSTAMP:20260424T041631
CREATED:20250304T212032Z
LAST-MODIFIED:20251205T235100Z
UID:10001179-1769598000-1769601600@www.stlukessanlucas.org
SUMMARY:Bible Study
DESCRIPTION:
URL:https://www.stlukessanlucas.org/event/bible-study/2026-01-28/
LOCATION:Chapel of the Holy Spirit
END:VEVENT
BEGIN:VEVENT
DTSTART;TZID=America/Los_Angeles:20260127T090000
DTEND;TZID=America/Los_Angeles:20260127T100000
DTSTAMP:20260424T041631
CREATED:20251215T195210Z
LAST-MODIFIED:20251215T195210Z
UID:10005578-1769504400-1769508000@www.stlukessanlucas.org
SUMMARY:Morning Prayer
DESCRIPTION:
URL:https://www.stlukessanlucas.org/event/morning-prayer-3-2/2026-01-27/
LOCATION:Chapel of the Holy Spirit
END:VEVENT
BEGIN:VEVENT
DTSTART;TZID=America/Los_Angeles:20260122T090000
DTEND;TZID=America/Los_Angeles:20260122T100000
DTSTAMP:20260424T041631
CREATED:20251215T195210Z
LAST-MODIFIED:20251215T195210Z
UID:10005319-1769072400-1769076000@www.stlukessanlucas.org
SUMMARY:Morning Prayer
DESCRIPTION:
URL:https://www.stlukessanlucas.org/event/morning-prayer-3-2/2026-01-22/
LOCATION:Chapel of the Holy Spirit
END:VEVENT
BEGIN:VEVENT
DTSTART;TZID=America/Los_Angeles:20260121T110000
DTEND;TZID=America/Los_Angeles:20260121T120000
DTSTAMP:20260424T041631
CREATED:20250304T212032Z
LAST-MODIFIED:20251205T235100Z
UID:10001178-1768993200-1768996800@www.stlukessanlucas.org
SUMMARY:Bible Study
DESCRIPTION:
URL:https://www.stlukessanlucas.org/event/bible-study/2026-01-21/
LOCATION:Chapel of the Holy Spirit
END:VEVENT
BEGIN:VEVENT
DTSTART;TZID=America/Los_Angeles:20260120T090000
DTEND;TZID=America/Los_Angeles:20260120T100000
DTSTAMP:20260424T041631
CREATED:20251215T195210Z
LAST-MODIFIED:20251215T195210Z
UID:10005577-1768899600-1768903200@www.stlukessanlucas.org
SUMMARY:Morning Prayer
DESCRIPTION:
URL:https://www.stlukessanlucas.org/event/morning-prayer-3-2/2026-01-20/
LOCATION:Chapel of the Holy Spirit
END:VEVENT
BEGIN:VEVENT
DTSTART;TZID=America/Los_Angeles:20260115T090000
DTEND;TZID=America/Los_Angeles:20260115T100000
DTSTAMP:20260424T041631
CREATED:20251215T195210Z
LAST-MODIFIED:20251215T195210Z
UID:10005318-1768467600-1768471200@www.stlukessanlucas.org
SUMMARY:Morning Prayer
DESCRIPTION:
URL:https://www.stlukessanlucas.org/event/morning-prayer-3-2/2026-01-15/
LOCATION:Chapel of the Holy Spirit
END:VEVENT
BEGIN:VEVENT
DTSTART;TZID=America/Los_Angeles:20260114T110000
DTEND;TZID=America/Los_Angeles:20260114T120000
DTSTAMP:20260424T041631
CREATED:20250304T212032Z
LAST-MODIFIED:20251205T235100Z
UID:10001177-1768388400-1768392000@www.stlukessanlucas.org
SUMMARY:Bible Study
DESCRIPTION:
URL:https://www.stlukessanlucas.org/event/bible-study/2026-01-14/
LOCATION:Chapel of the Holy Spirit
END:VEVENT
BEGIN:VEVENT
DTSTART;TZID=America/Los_Angeles:20260113T090000
DTEND;TZID=America/Los_Angeles:20260113T100000
DTSTAMP:20260424T041631
CREATED:20251215T195210Z
LAST-MODIFIED:20251215T195210Z
UID:10005576-1768294800-1768298400@www.stlukessanlucas.org
SUMMARY:Morning Prayer
DESCRIPTION:
URL:https://www.stlukessanlucas.org/event/morning-prayer-3-2/2026-01-13/
LOCATION:Chapel of the Holy Spirit
END:VEVENT
BEGIN:VEVENT
DTSTART;TZID=America/Los_Angeles:20260108T090000
DTEND;TZID=America/Los_Angeles:20260108T100000
DTSTAMP:20260424T041631
CREATED:20251215T195210Z
LAST-MODIFIED:20251215T195210Z
UID:10005317-1767862800-1767866400@www.stlukessanlucas.org
SUMMARY:Morning Prayer
DESCRIPTION:
URL:https://www.stlukessanlucas.org/event/morning-prayer-3-2/2026-01-08/
LOCATION:Chapel of the Holy Spirit
END:VEVENT
BEGIN:VEVENT
DTSTART;TZID=America/Los_Angeles:20260107T110000
DTEND;TZID=America/Los_Angeles:20260107T120000
DTSTAMP:20260424T041631
CREATED:20250304T212032Z
LAST-MODIFIED:20251205T235100Z
UID:10001176-1767783600-1767787200@www.stlukessanlucas.org
SUMMARY:Bible Study
DESCRIPTION:
URL:https://www.stlukessanlucas.org/event/bible-study/2026-01-07/
LOCATION:Chapel of the Holy Spirit
END:VEVENT
BEGIN:VEVENT
DTSTART;TZID=America/Los_Angeles:20260106T090000
DTEND;TZID=America/Los_Angeles:20260106T100000
DTSTAMP:20260424T041631
CREATED:20251215T195210Z
LAST-MODIFIED:20251215T195210Z
UID:10005575-1767690000-1767693600@www.stlukessanlucas.org
SUMMARY:Morning Prayer
DESCRIPTION:
URL:https://www.stlukessanlucas.org/event/morning-prayer-3-2/2026-01-06/
LOCATION:Chapel of the Holy Spirit
END:VEVENT
BEGIN:VEVENT
DTSTART;TZID=America/Los_Angeles:20251218T090000
DTEND;TZID=America/Los_Angeles:20251218T100000
DTSTAMP:20260424T041631
CREATED:20251215T195210Z
LAST-MODIFIED:20251215T195210Z
UID:10005316-1766048400-1766052000@www.stlukessanlucas.org
SUMMARY:Morning Prayer
DESCRIPTION:
URL:https://www.stlukessanlucas.org/event/morning-prayer-3-2/2025-12-18/
LOCATION:Chapel of the Holy Spirit
END:VEVENT
BEGIN:VEVENT
DTSTART;TZID=America/Los_Angeles:20251217T120000
DTEND;TZID=America/Los_Angeles:20251217T130000
DTSTAMP:20260424T041631
CREATED:20250304T212210Z
LAST-MODIFIED:20251205T235206Z
UID:10001434-1765972800-1765976400@www.stlukessanlucas.org
SUMMARY:Healing Service
DESCRIPTION:
URL:https://www.stlukessanlucas.org/event/healing-service/2025-12-17/
LOCATION:Chapel of the Holy Spirit
END:VEVENT
BEGIN:VEVENT
DTSTART;TZID=America/Los_Angeles:20251217T110000
DTEND;TZID=America/Los_Angeles:20251217T120000
DTSTAMP:20260424T041631
CREATED:20250304T212032Z
LAST-MODIFIED:20251205T235100Z
UID:10001173-1765969200-1765972800@www.stlukessanlucas.org
SUMMARY:Bible Study
DESCRIPTION:
URL:https://www.stlukessanlucas.org/event/bible-study/2025-12-17/
LOCATION:Chapel of the Holy Spirit
END:VEVENT
BEGIN:VEVENT
DTSTART;TZID=America/Los_Angeles:20251211T090000
DTEND;TZID=America/Los_Angeles:20251211T100000
DTSTAMP:20260424T041631
CREATED:20251215T194346Z
LAST-MODIFIED:20251215T194634Z
UID:10005315-1765443600-1765447200@www.stlukessanlucas.org
SUMMARY:Morning Prayer
DESCRIPTION:
URL:https://www.stlukessanlucas.org/event/morning-prayer-3/2025-12-11/
LOCATION:Chapel of the Holy Spirit
END:VEVENT
BEGIN:VEVENT
DTSTART;TZID=America/Los_Angeles:20251210T120000
DTEND;TZID=America/Los_Angeles:20251210T130000
DTSTAMP:20260424T041631
CREATED:20250304T212210Z
LAST-MODIFIED:20251205T235206Z
UID:10001433-1765368000-1765371600@www.stlukessanlucas.org
SUMMARY:Healing Service
DESCRIPTION:
URL:https://www.stlukessanlucas.org/event/healing-service/2025-12-10/
LOCATION:Chapel of the Holy Spirit
END:VEVENT
BEGIN:VEVENT
DTSTART;TZID=America/Los_Angeles:20251210T110000
DTEND;TZID=America/Los_Angeles:20251210T120000
DTSTAMP:20260424T041631
CREATED:20250304T212032Z
LAST-MODIFIED:20251205T235100Z
UID:10001172-1765364400-1765368000@www.stlukessanlucas.org
SUMMARY:Bible Study
DESCRIPTION:
URL:https://www.stlukessanlucas.org/event/bible-study/2025-12-10/
LOCATION:Chapel of the Holy Spirit
END:VEVENT
BEGIN:VEVENT
DTSTART;TZID=America/Los_Angeles:20251204T090000
DTEND;TZID=America/Los_Angeles:20251204T100000
DTSTAMP:20260424T041631
CREATED:20251215T194346Z
LAST-MODIFIED:20251215T194634Z
UID:10005314-1764838800-1764842400@www.stlukessanlucas.org
SUMMARY:Morning Prayer
DESCRIPTION:
URL:https://www.stlukessanlucas.org/event/morning-prayer-3/2025-12-04/
LOCATION:Chapel of the Holy Spirit
END:VEVENT
BEGIN:VEVENT
DTSTART;TZID=America/Los_Angeles:20251203T120000
DTEND;TZID=America/Los_Angeles:20251203T130000
DTSTAMP:20260424T041631
CREATED:20250304T212210Z
LAST-MODIFIED:20251205T235206Z
UID:10001432-1764763200-1764766800@www.stlukessanlucas.org
SUMMARY:Healing Service
DESCRIPTION:
URL:https://www.stlukessanlucas.org/event/healing-service/2025-12-03/
LOCATION:Chapel of the Holy Spirit
END:VEVENT
BEGIN:VEVENT
DTSTART;TZID=America/Los_Angeles:20251203T110000
DTEND;TZID=America/Los_Angeles:20251203T120000
DTSTAMP:20260424T041631
CREATED:20250304T212032Z
LAST-MODIFIED:20251205T235100Z
UID:10001171-1764759600-1764763200@www.stlukessanlucas.org
SUMMARY:Bible Study
DESCRIPTION:
URL:https://www.stlukessanlucas.org/event/bible-study/2025-12-03/
LOCATION:Chapel of the Holy Spirit
END:VEVENT
BEGIN:VEVENT
DTSTART;TZID=America/Los_Angeles:20251127T090000
DTEND;TZID=America/Los_Angeles:20251127T100000
DTSTAMP:20260424T041631
CREATED:20251215T194346Z
LAST-MODIFIED:20251215T194634Z
UID:10005313-1764234000-1764237600@www.stlukessanlucas.org
SUMMARY:Morning Prayer
DESCRIPTION:
URL:https://www.stlukessanlucas.org/event/morning-prayer-3/2025-11-27/
LOCATION:Chapel of the Holy Spirit
END:VEVENT
BEGIN:VEVENT
DTSTART;TZID=America/Los_Angeles:20251126T120000
DTEND;TZID=America/Los_Angeles:20251126T130000
DTSTAMP:20260424T041631
CREATED:20250304T212210Z
LAST-MODIFIED:20251205T235206Z
UID:10001431-1764158400-1764162000@www.stlukessanlucas.org
SUMMARY:Healing Service
DESCRIPTION:
URL:https://www.stlukessanlucas.org/event/healing-service/2025-11-26/
LOCATION:Chapel of the Holy Spirit
END:VEVENT
BEGIN:VEVENT
DTSTART;TZID=America/Los_Angeles:20251126T110000
DTEND;TZID=America/Los_Angeles:20251126T120000
DTSTAMP:20260424T041631
CREATED:20250304T212032Z
LAST-MODIFIED:20251205T235100Z
UID:10001170-1764154800-1764158400@www.stlukessanlucas.org
SUMMARY:Bible Study
DESCRIPTION:
URL:https://www.stlukessanlucas.org/event/bible-study/2025-11-26/
LOCATION:Chapel of the Holy Spirit
END:VEVENT
BEGIN:VEVENT
DTSTART;TZID=America/Los_Angeles:20251120T090000
DTEND;TZID=America/Los_Angeles:20251120T100000
DTSTAMP:20260424T041631
CREATED:20251215T194346Z
LAST-MODIFIED:20251215T194634Z
UID:10005312-1763629200-1763632800@www.stlukessanlucas.org
SUMMARY:Morning Prayer
DESCRIPTION:
URL:https://www.stlukessanlucas.org/event/morning-prayer-3/2025-11-20/
LOCATION:Chapel of the Holy Spirit
END:VEVENT
BEGIN:VEVENT
DTSTART;TZID=America/Los_Angeles:20251119T120000
DTEND;TZID=America/Los_Angeles:20251119T130000
DTSTAMP:20260424T041631
CREATED:20250304T212210Z
LAST-MODIFIED:20251205T235206Z
UID:10001430-1763553600-1763557200@www.stlukessanlucas.org
SUMMARY:Healing Service
DESCRIPTION:
URL:https://www.stlukessanlucas.org/event/healing-service/2025-11-19/
LOCATION:Chapel of the Holy Spirit
END:VEVENT
BEGIN:VEVENT
DTSTART;TZID=America/Los_Angeles:20251119T110000
DTEND;TZID=America/Los_Angeles:20251119T120000
DTSTAMP:20260424T041631
CREATED:20250304T212032Z
LAST-MODIFIED:20251205T235100Z
UID:10001169-1763550000-1763553600@www.stlukessanlucas.org
SUMMARY:Bible Study
DESCRIPTION:
URL:https://www.stlukessanlucas.org/event/bible-study/2025-11-19/
LOCATION:Chapel of the Holy Spirit
END:VEVENT
BEGIN:VEVENT
DTSTART;TZID=America/Los_Angeles:20251113T090000
DTEND;TZID=America/Los_Angeles:20251113T100000
DTSTAMP:20260424T041631
CREATED:20251215T194346Z
LAST-MODIFIED:20251215T194634Z
UID:10005311-1763024400-1763028000@www.stlukessanlucas.org
SUMMARY:Morning Prayer
DESCRIPTION:
URL:https://www.stlukessanlucas.org/event/morning-prayer-3/2025-11-13/
LOCATION:Chapel of the Holy Spirit
END:VEVENT
BEGIN:VEVENT
DTSTART;TZID=America/Los_Angeles:20251112T120000
DTEND;TZID=America/Los_Angeles:20251112T130000
DTSTAMP:20260424T041631
CREATED:20250304T212210Z
LAST-MODIFIED:20251205T235206Z
UID:10001429-1762948800-1762952400@www.stlukessanlucas.org
SUMMARY:Healing Service
DESCRIPTION:
URL:https://www.stlukessanlucas.org/event/healing-service/2025-11-12/
LOCATION:Chapel of the Holy Spirit
END:VEVENT
END:VCALENDAR