BEGIN:VCALENDAR
VERSION:2.0
PRODID:-//St. Luke&#039;s ~ San Lucas - ECPv6.15.19//NONSGML v1.0//EN
CALSCALE:GREGORIAN
METHOD:PUBLISH
X-ORIGINAL-URL:https://www.stlukessanlucas.org
X-WR-CALDESC:Events for St. Luke&#039;s ~ San Lucas
REFRESH-INTERVAL;VALUE=DURATION:PT1H
X-Robots-Tag:noindex
X-PUBLISHED-TTL:PT1H
BEGIN:VTIMEZONE
TZID:America/Los_Angeles
BEGIN:DAYLIGHT
TZOFFSETFROM:-0800
TZOFFSETTO:-0700
TZNAME:PDT
DTSTART:20290311T100000
END:DAYLIGHT
BEGIN:STANDARD
TZOFFSETFROM:-0700
TZOFFSETTO:-0800
TZNAME:PST
DTSTART:20291104T090000
END:STANDARD
BEGIN:DAYLIGHT
TZOFFSETFROM:-0800
TZOFFSETTO:-0700
TZNAME:PDT
DTSTART:20300310T100000
END:DAYLIGHT
BEGIN:STANDARD
TZOFFSETFROM:-0700
TZOFFSETTO:-0800
TZNAME:PST
DTSTART:20301103T090000
END:STANDARD
BEGIN:DAYLIGHT
TZOFFSETFROM:-0800
TZOFFSETTO:-0700
TZNAME:PDT
DTSTART:20310309T100000
END:DAYLIGHT
BEGIN:STANDARD
TZOFFSETFROM:-0700
TZOFFSETTO:-0800
TZNAME:PST
DTSTART:20311102T090000
END:STANDARD
END:VTIMEZONE
BEGIN:VEVENT
DTSTART;TZID=America/Los_Angeles:20300227T110000
DTEND;TZID=America/Los_Angeles:20300227T120000
DTSTAMP:20260425T041006
CREATED:20260325T225715Z
LAST-MODIFIED:20260325T225715Z
UID:10001392-1898420400-1898424000@www.stlukessanlucas.org
SUMMARY:Bible Study
DESCRIPTION:
URL:https://www.stlukessanlucas.org/event/bible-study-2/2030-02-27/
LOCATION:Chapel of the Holy Spirit
END:VEVENT
BEGIN:VEVENT
DTSTART;TZID=America/Los_Angeles:20300306T110000
DTEND;TZID=America/Los_Angeles:20300306T120000
DTSTAMP:20260425T041006
CREATED:20260325T225715Z
LAST-MODIFIED:20260325T225715Z
UID:10004146-1899025200-1899028800@www.stlukessanlucas.org
SUMMARY:Bible Study
DESCRIPTION:
URL:https://www.stlukessanlucas.org/event/bible-study-2/2030-03-06/
LOCATION:Chapel of the Holy Spirit
END:VEVENT
BEGIN:VEVENT
DTSTART;TZID=America/Los_Angeles:20300313T110000
DTEND;TZID=America/Los_Angeles:20300313T120000
DTSTAMP:20260425T041006
CREATED:20260325T225715Z
LAST-MODIFIED:20260325T225715Z
UID:10004147-1899630000-1899633600@www.stlukessanlucas.org
SUMMARY:Bible Study
DESCRIPTION:
URL:https://www.stlukessanlucas.org/event/bible-study-2/2030-03-13/
LOCATION:Chapel of the Holy Spirit
END:VEVENT
BEGIN:VEVENT
DTSTART;TZID=America/Los_Angeles:20300320T110000
DTEND;TZID=America/Los_Angeles:20300320T120000
DTSTAMP:20260425T041006
CREATED:20260325T225715Z
LAST-MODIFIED:20260325T225715Z
UID:10004148-1900234800-1900238400@www.stlukessanlucas.org
SUMMARY:Bible Study
DESCRIPTION:
URL:https://www.stlukessanlucas.org/event/bible-study-2/2030-03-20/
LOCATION:Chapel of the Holy Spirit
END:VEVENT
BEGIN:VEVENT
DTSTART;TZID=America/Los_Angeles:20300327T110000
DTEND;TZID=America/Los_Angeles:20300327T120000
DTSTAMP:20260425T041006
CREATED:20260325T225715Z
LAST-MODIFIED:20260325T225715Z
UID:10004149-1900839600-1900843200@www.stlukessanlucas.org
SUMMARY:Bible Study
DESCRIPTION:
URL:https://www.stlukessanlucas.org/event/bible-study-2/2030-03-27/
LOCATION:Chapel of the Holy Spirit
END:VEVENT
BEGIN:VEVENT
DTSTART;TZID=America/Los_Angeles:20300403T110000
DTEND;TZID=America/Los_Angeles:20300403T120000
DTSTAMP:20260425T041006
CREATED:20260325T225715Z
LAST-MODIFIED:20260325T225715Z
UID:10004150-1901444400-1901448000@www.stlukessanlucas.org
SUMMARY:Bible Study
DESCRIPTION:
URL:https://www.stlukessanlucas.org/event/bible-study-2/2030-04-03/
LOCATION:Chapel of the Holy Spirit
END:VEVENT
BEGIN:VEVENT
DTSTART;TZID=America/Los_Angeles:20300410T110000
DTEND;TZID=America/Los_Angeles:20300410T120000
DTSTAMP:20260425T041006
CREATED:20260325T225715Z
LAST-MODIFIED:20260325T225715Z
UID:10004151-1902049200-1902052800@www.stlukessanlucas.org
SUMMARY:Bible Study
DESCRIPTION:
URL:https://www.stlukessanlucas.org/event/bible-study-2/2030-04-10/
LOCATION:Chapel of the Holy Spirit
END:VEVENT
BEGIN:VEVENT
DTSTART;TZID=America/Los_Angeles:20300417T110000
DTEND;TZID=America/Los_Angeles:20300417T120000
DTSTAMP:20260425T041006
CREATED:20260325T225715Z
LAST-MODIFIED:20260325T225715Z
UID:10004152-1902654000-1902657600@www.stlukessanlucas.org
SUMMARY:Bible Study
DESCRIPTION:
URL:https://www.stlukessanlucas.org/event/bible-study-2/2030-04-17/
LOCATION:Chapel of the Holy Spirit
END:VEVENT
BEGIN:VEVENT
DTSTART;TZID=America/Los_Angeles:20300424T110000
DTEND;TZID=America/Los_Angeles:20300424T120000
DTSTAMP:20260425T041006
CREATED:20260325T225715Z
LAST-MODIFIED:20260325T225715Z
UID:10004153-1903258800-1903262400@www.stlukessanlucas.org
SUMMARY:Bible Study
DESCRIPTION:
URL:https://www.stlukessanlucas.org/event/bible-study-2/2030-04-24/
LOCATION:Chapel of the Holy Spirit
END:VEVENT
BEGIN:VEVENT
DTSTART;TZID=America/Los_Angeles:20300501T110000
DTEND;TZID=America/Los_Angeles:20300501T120000
DTSTAMP:20260425T041006
CREATED:20260325T225715Z
LAST-MODIFIED:20260325T225715Z
UID:10004154-1903863600-1903867200@www.stlukessanlucas.org
SUMMARY:Bible Study
DESCRIPTION:
URL:https://www.stlukessanlucas.org/event/bible-study-2/2030-05-01/
LOCATION:Chapel of the Holy Spirit
END:VEVENT
BEGIN:VEVENT
DTSTART;TZID=America/Los_Angeles:20300508T110000
DTEND;TZID=America/Los_Angeles:20300508T120000
DTSTAMP:20260425T041006
CREATED:20260325T225715Z
LAST-MODIFIED:20260325T225715Z
UID:10004155-1904468400-1904472000@www.stlukessanlucas.org
SUMMARY:Bible Study
DESCRIPTION:
URL:https://www.stlukessanlucas.org/event/bible-study-2/2030-05-08/
LOCATION:Chapel of the Holy Spirit
END:VEVENT
BEGIN:VEVENT
DTSTART;TZID=America/Los_Angeles:20300515T110000
DTEND;TZID=America/Los_Angeles:20300515T120000
DTSTAMP:20260425T041006
CREATED:20260325T225715Z
LAST-MODIFIED:20260325T225715Z
UID:10004156-1905073200-1905076800@www.stlukessanlucas.org
SUMMARY:Bible Study
DESCRIPTION:
URL:https://www.stlukessanlucas.org/event/bible-study-2/2030-05-15/
LOCATION:Chapel of the Holy Spirit
END:VEVENT
BEGIN:VEVENT
DTSTART;TZID=America/Los_Angeles:20300522T110000
DTEND;TZID=America/Los_Angeles:20300522T120000
DTSTAMP:20260425T041006
CREATED:20260325T225715Z
LAST-MODIFIED:20260325T225715Z
UID:10004157-1905678000-1905681600@www.stlukessanlucas.org
SUMMARY:Bible Study
DESCRIPTION:
URL:https://www.stlukessanlucas.org/event/bible-study-2/2030-05-22/
LOCATION:Chapel of the Holy Spirit
END:VEVENT
BEGIN:VEVENT
DTSTART;TZID=America/Los_Angeles:20300529T110000
DTEND;TZID=America/Los_Angeles:20300529T120000
DTSTAMP:20260425T041006
CREATED:20260325T225715Z
LAST-MODIFIED:20260325T225715Z
UID:10004158-1906282800-1906286400@www.stlukessanlucas.org
SUMMARY:Bible Study
DESCRIPTION:
URL:https://www.stlukessanlucas.org/event/bible-study-2/2030-05-29/
LOCATION:Chapel of the Holy Spirit
END:VEVENT
BEGIN:VEVENT
DTSTART;TZID=America/Los_Angeles:20300605T110000
DTEND;TZID=America/Los_Angeles:20300605T120000
DTSTAMP:20260425T041006
CREATED:20260325T225715Z
LAST-MODIFIED:20260325T225715Z
UID:10004159-1906887600-1906891200@www.stlukessanlucas.org
SUMMARY:Bible Study
DESCRIPTION:
URL:https://www.stlukessanlucas.org/event/bible-study-2/2030-06-05/
LOCATION:Chapel of the Holy Spirit
END:VEVENT
BEGIN:VEVENT
DTSTART;TZID=America/Los_Angeles:20300612T110000
DTEND;TZID=America/Los_Angeles:20300612T120000
DTSTAMP:20260425T041006
CREATED:20260325T225715Z
LAST-MODIFIED:20260325T225715Z
UID:10004160-1907492400-1907496000@www.stlukessanlucas.org
SUMMARY:Bible Study
DESCRIPTION:
URL:https://www.stlukessanlucas.org/event/bible-study-2/2030-06-12/
LOCATION:Chapel of the Holy Spirit
END:VEVENT
BEGIN:VEVENT
DTSTART;TZID=America/Los_Angeles:20300619T110000
DTEND;TZID=America/Los_Angeles:20300619T120000
DTSTAMP:20260425T041006
CREATED:20260325T225715Z
LAST-MODIFIED:20260325T225715Z
UID:10004161-1908097200-1908100800@www.stlukessanlucas.org
SUMMARY:Bible Study
DESCRIPTION:
URL:https://www.stlukessanlucas.org/event/bible-study-2/2030-06-19/
LOCATION:Chapel of the Holy Spirit
END:VEVENT
BEGIN:VEVENT
DTSTART;TZID=America/Los_Angeles:20300626T110000
DTEND;TZID=America/Los_Angeles:20300626T120000
DTSTAMP:20260425T041006
CREATED:20260325T225715Z
LAST-MODIFIED:20260325T225715Z
UID:10004162-1908702000-1908705600@www.stlukessanlucas.org
SUMMARY:Bible Study
DESCRIPTION:
URL:https://www.stlukessanlucas.org/event/bible-study-2/2030-06-26/
LOCATION:Chapel of the Holy Spirit
END:VEVENT
BEGIN:VEVENT
DTSTART;TZID=America/Los_Angeles:20300703T110000
DTEND;TZID=America/Los_Angeles:20300703T120000
DTSTAMP:20260425T041006
CREATED:20260325T225715Z
LAST-MODIFIED:20260325T225715Z
UID:10004163-1909306800-1909310400@www.stlukessanlucas.org
SUMMARY:Bible Study
DESCRIPTION:
URL:https://www.stlukessanlucas.org/event/bible-study-2/2030-07-03/
LOCATION:Chapel of the Holy Spirit
END:VEVENT
BEGIN:VEVENT
DTSTART;TZID=America/Los_Angeles:20300710T110000
DTEND;TZID=America/Los_Angeles:20300710T120000
DTSTAMP:20260425T041006
CREATED:20260325T225715Z
LAST-MODIFIED:20260325T225715Z
UID:10004164-1909911600-1909915200@www.stlukessanlucas.org
SUMMARY:Bible Study
DESCRIPTION:
URL:https://www.stlukessanlucas.org/event/bible-study-2/2030-07-10/
LOCATION:Chapel of the Holy Spirit
END:VEVENT
BEGIN:VEVENT
DTSTART;TZID=America/Los_Angeles:20300717T110000
DTEND;TZID=America/Los_Angeles:20300717T120000
DTSTAMP:20260425T041006
CREATED:20260325T225715Z
LAST-MODIFIED:20260325T225715Z
UID:10004165-1910516400-1910520000@www.stlukessanlucas.org
SUMMARY:Bible Study
DESCRIPTION:
URL:https://www.stlukessanlucas.org/event/bible-study-2/2030-07-17/
LOCATION:Chapel of the Holy Spirit
END:VEVENT
BEGIN:VEVENT
DTSTART;TZID=America/Los_Angeles:20300724T110000
DTEND;TZID=America/Los_Angeles:20300724T120000
DTSTAMP:20260425T041006
CREATED:20260325T225715Z
LAST-MODIFIED:20260325T225715Z
UID:10004166-1911121200-1911124800@www.stlukessanlucas.org
SUMMARY:Bible Study
DESCRIPTION:
URL:https://www.stlukessanlucas.org/event/bible-study-2/2030-07-24/
LOCATION:Chapel of the Holy Spirit
END:VEVENT
BEGIN:VEVENT
DTSTART;TZID=America/Los_Angeles:20300731T110000
DTEND;TZID=America/Los_Angeles:20300731T120000
DTSTAMP:20260425T041006
CREATED:20260325T225715Z
LAST-MODIFIED:20260325T225715Z
UID:10005256-1911726000-1911729600@www.stlukessanlucas.org
SUMMARY:Bible Study
DESCRIPTION:
URL:https://www.stlukessanlucas.org/event/bible-study-2/2030-07-31/
LOCATION:Chapel of the Holy Spirit
END:VEVENT
BEGIN:VEVENT
DTSTART;TZID=America/Los_Angeles:20300807T110000
DTEND;TZID=America/Los_Angeles:20300807T120000
DTSTAMP:20260425T041006
CREATED:20260325T225715Z
LAST-MODIFIED:20260325T225715Z
UID:10005257-1912330800-1912334400@www.stlukessanlucas.org
SUMMARY:Bible Study
DESCRIPTION:
URL:https://www.stlukessanlucas.org/event/bible-study-2/2030-08-07/
LOCATION:Chapel of the Holy Spirit
END:VEVENT
BEGIN:VEVENT
DTSTART;TZID=America/Los_Angeles:20300814T110000
DTEND;TZID=America/Los_Angeles:20300814T120000
DTSTAMP:20260425T041006
CREATED:20260325T225715Z
LAST-MODIFIED:20260325T225715Z
UID:10005258-1912935600-1912939200@www.stlukessanlucas.org
SUMMARY:Bible Study
DESCRIPTION:
URL:https://www.stlukessanlucas.org/event/bible-study-2/2030-08-14/
LOCATION:Chapel of the Holy Spirit
END:VEVENT
BEGIN:VEVENT
DTSTART;TZID=America/Los_Angeles:20300821T110000
DTEND;TZID=America/Los_Angeles:20300821T120000
DTSTAMP:20260425T041006
CREATED:20260325T225715Z
LAST-MODIFIED:20260325T225715Z
UID:10005259-1913540400-1913544000@www.stlukessanlucas.org
SUMMARY:Bible Study
DESCRIPTION:
URL:https://www.stlukessanlucas.org/event/bible-study-2/2030-08-21/
LOCATION:Chapel of the Holy Spirit
END:VEVENT
BEGIN:VEVENT
DTSTART;TZID=America/Los_Angeles:20300828T110000
DTEND;TZID=America/Los_Angeles:20300828T120000
DTSTAMP:20260425T041006
CREATED:20260325T225715Z
LAST-MODIFIED:20260325T225715Z
UID:10005260-1914145200-1914148800@www.stlukessanlucas.org
SUMMARY:Bible Study
DESCRIPTION:
URL:https://www.stlukessanlucas.org/event/bible-study-2/2030-08-28/
LOCATION:Chapel of the Holy Spirit
END:VEVENT
BEGIN:VEVENT
DTSTART;TZID=America/Los_Angeles:20300904T110000
DTEND;TZID=America/Los_Angeles:20300904T120000
DTSTAMP:20260425T041006
CREATED:20260325T225715Z
LAST-MODIFIED:20260325T225715Z
UID:10005261-1914750000-1914753600@www.stlukessanlucas.org
SUMMARY:Bible Study
DESCRIPTION:
URL:https://www.stlukessanlucas.org/event/bible-study-2/2030-09-04/
LOCATION:Chapel of the Holy Spirit
END:VEVENT
BEGIN:VEVENT
DTSTART;TZID=America/Los_Angeles:20300911T110000
DTEND;TZID=America/Los_Angeles:20300911T120000
DTSTAMP:20260425T041006
CREATED:20260325T225715Z
LAST-MODIFIED:20260325T225715Z
UID:10005262-1915354800-1915358400@www.stlukessanlucas.org
SUMMARY:Bible Study
DESCRIPTION:
URL:https://www.stlukessanlucas.org/event/bible-study-2/2030-09-11/
LOCATION:Chapel of the Holy Spirit
END:VEVENT
BEGIN:VEVENT
DTSTART;TZID=America/Los_Angeles:20300918T110000
DTEND;TZID=America/Los_Angeles:20300918T120000
DTSTAMP:20260425T041006
CREATED:20260325T225715Z
LAST-MODIFIED:20260325T225715Z
UID:10005263-1915959600-1915963200@www.stlukessanlucas.org
SUMMARY:Bible Study
DESCRIPTION:
URL:https://www.stlukessanlucas.org/event/bible-study-2/2030-09-18/
LOCATION:Chapel of the Holy Spirit
END:VEVENT
END:VCALENDAR