BEGIN:VCALENDAR
VERSION:2.0
PRODID:-//St. Luke&#039;s ~ San Lucas - ECPv6.15.19//NONSGML v1.0//EN
CALSCALE:GREGORIAN
METHOD:PUBLISH
X-ORIGINAL-URL:https://www.stlukessanlucas.org
X-WR-CALDESC:Events for St. Luke&#039;s ~ San Lucas
REFRESH-INTERVAL;VALUE=DURATION:PT1H
X-Robots-Tag:noindex
X-PUBLISHED-TTL:PT1H
BEGIN:VTIMEZONE
TZID:America/Los_Angeles
BEGIN:DAYLIGHT
TZOFFSETFROM:-0800
TZOFFSETTO:-0700
TZNAME:PDT
DTSTART:20290311T100000
END:DAYLIGHT
BEGIN:STANDARD
TZOFFSETFROM:-0700
TZOFFSETTO:-0800
TZNAME:PST
DTSTART:20291104T090000
END:STANDARD
BEGIN:DAYLIGHT
TZOFFSETFROM:-0800
TZOFFSETTO:-0700
TZNAME:PDT
DTSTART:20300310T100000
END:DAYLIGHT
BEGIN:STANDARD
TZOFFSETFROM:-0700
TZOFFSETTO:-0800
TZNAME:PST
DTSTART:20301103T090000
END:STANDARD
BEGIN:DAYLIGHT
TZOFFSETFROM:-0800
TZOFFSETTO:-0700
TZNAME:PDT
DTSTART:20310309T100000
END:DAYLIGHT
BEGIN:STANDARD
TZOFFSETFROM:-0700
TZOFFSETTO:-0800
TZNAME:PST
DTSTART:20311102T090000
END:STANDARD
BEGIN:DAYLIGHT
TZOFFSETFROM:-0800
TZOFFSETTO:-0700
TZNAME:PDT
DTSTART:20320314T100000
END:DAYLIGHT
BEGIN:STANDARD
TZOFFSETFROM:-0700
TZOFFSETTO:-0800
TZNAME:PST
DTSTART:20321107T090000
END:STANDARD
END:VTIMEZONE
BEGIN:VEVENT
DTSTART;TZID=America/Los_Angeles:20300717T110000
DTEND;TZID=America/Los_Angeles:20300717T120000
DTSTAMP:20260425T064652
CREATED:20260325T225715Z
LAST-MODIFIED:20260325T225715Z
UID:10004165-1910516400-1910520000@www.stlukessanlucas.org
SUMMARY:Bible Study
DESCRIPTION:
URL:https://www.stlukessanlucas.org/event/bible-study-2/2030-07-17/
LOCATION:Chapel of the Holy Spirit
END:VEVENT
BEGIN:VEVENT
DTSTART;TZID=America/Los_Angeles:20300724T110000
DTEND;TZID=America/Los_Angeles:20300724T120000
DTSTAMP:20260425T064652
CREATED:20260325T225715Z
LAST-MODIFIED:20260325T225715Z
UID:10004166-1911121200-1911124800@www.stlukessanlucas.org
SUMMARY:Bible Study
DESCRIPTION:
URL:https://www.stlukessanlucas.org/event/bible-study-2/2030-07-24/
LOCATION:Chapel of the Holy Spirit
END:VEVENT
BEGIN:VEVENT
DTSTART;TZID=America/Los_Angeles:20300731T110000
DTEND;TZID=America/Los_Angeles:20300731T120000
DTSTAMP:20260425T064652
CREATED:20260325T225715Z
LAST-MODIFIED:20260325T225715Z
UID:10005256-1911726000-1911729600@www.stlukessanlucas.org
SUMMARY:Bible Study
DESCRIPTION:
URL:https://www.stlukessanlucas.org/event/bible-study-2/2030-07-31/
LOCATION:Chapel of the Holy Spirit
END:VEVENT
BEGIN:VEVENT
DTSTART;TZID=America/Los_Angeles:20300807T110000
DTEND;TZID=America/Los_Angeles:20300807T120000
DTSTAMP:20260425T064652
CREATED:20260325T225715Z
LAST-MODIFIED:20260325T225715Z
UID:10005257-1912330800-1912334400@www.stlukessanlucas.org
SUMMARY:Bible Study
DESCRIPTION:
URL:https://www.stlukessanlucas.org/event/bible-study-2/2030-08-07/
LOCATION:Chapel of the Holy Spirit
END:VEVENT
BEGIN:VEVENT
DTSTART;TZID=America/Los_Angeles:20300814T110000
DTEND;TZID=America/Los_Angeles:20300814T120000
DTSTAMP:20260425T064652
CREATED:20260325T225715Z
LAST-MODIFIED:20260325T225715Z
UID:10005258-1912935600-1912939200@www.stlukessanlucas.org
SUMMARY:Bible Study
DESCRIPTION:
URL:https://www.stlukessanlucas.org/event/bible-study-2/2030-08-14/
LOCATION:Chapel of the Holy Spirit
END:VEVENT
BEGIN:VEVENT
DTSTART;TZID=America/Los_Angeles:20300821T110000
DTEND;TZID=America/Los_Angeles:20300821T120000
DTSTAMP:20260425T064652
CREATED:20260325T225715Z
LAST-MODIFIED:20260325T225715Z
UID:10005259-1913540400-1913544000@www.stlukessanlucas.org
SUMMARY:Bible Study
DESCRIPTION:
URL:https://www.stlukessanlucas.org/event/bible-study-2/2030-08-21/
LOCATION:Chapel of the Holy Spirit
END:VEVENT
BEGIN:VEVENT
DTSTART;TZID=America/Los_Angeles:20300828T110000
DTEND;TZID=America/Los_Angeles:20300828T120000
DTSTAMP:20260425T064652
CREATED:20260325T225715Z
LAST-MODIFIED:20260325T225715Z
UID:10005260-1914145200-1914148800@www.stlukessanlucas.org
SUMMARY:Bible Study
DESCRIPTION:
URL:https://www.stlukessanlucas.org/event/bible-study-2/2030-08-28/
LOCATION:Chapel of the Holy Spirit
END:VEVENT
BEGIN:VEVENT
DTSTART;TZID=America/Los_Angeles:20300904T110000
DTEND;TZID=America/Los_Angeles:20300904T120000
DTSTAMP:20260425T064652
CREATED:20260325T225715Z
LAST-MODIFIED:20260325T225715Z
UID:10005261-1914750000-1914753600@www.stlukessanlucas.org
SUMMARY:Bible Study
DESCRIPTION:
URL:https://www.stlukessanlucas.org/event/bible-study-2/2030-09-04/
LOCATION:Chapel of the Holy Spirit
END:VEVENT
BEGIN:VEVENT
DTSTART;TZID=America/Los_Angeles:20300911T110000
DTEND;TZID=America/Los_Angeles:20300911T120000
DTSTAMP:20260425T064652
CREATED:20260325T225715Z
LAST-MODIFIED:20260325T225715Z
UID:10005262-1915354800-1915358400@www.stlukessanlucas.org
SUMMARY:Bible Study
DESCRIPTION:
URL:https://www.stlukessanlucas.org/event/bible-study-2/2030-09-11/
LOCATION:Chapel of the Holy Spirit
END:VEVENT
BEGIN:VEVENT
DTSTART;TZID=America/Los_Angeles:20300918T110000
DTEND;TZID=America/Los_Angeles:20300918T120000
DTSTAMP:20260425T064652
CREATED:20260325T225715Z
LAST-MODIFIED:20260325T225715Z
UID:10005263-1915959600-1915963200@www.stlukessanlucas.org
SUMMARY:Bible Study
DESCRIPTION:
URL:https://www.stlukessanlucas.org/event/bible-study-2/2030-09-18/
LOCATION:Chapel of the Holy Spirit
END:VEVENT
BEGIN:VEVENT
DTSTART;TZID=America/Los_Angeles:20300925T110000
DTEND;TZID=America/Los_Angeles:20300925T120000
DTSTAMP:20260425T064652
CREATED:20260325T225715Z
LAST-MODIFIED:20260325T225715Z
UID:10005264-1916564400-1916568000@www.stlukessanlucas.org
SUMMARY:Bible Study
DESCRIPTION:
URL:https://www.stlukessanlucas.org/event/bible-study-2/2030-09-25/
LOCATION:Chapel of the Holy Spirit
END:VEVENT
BEGIN:VEVENT
DTSTART;TZID=America/Los_Angeles:20301002T110000
DTEND;TZID=America/Los_Angeles:20301002T120000
DTSTAMP:20260425T064652
CREATED:20260325T225715Z
LAST-MODIFIED:20260325T225715Z
UID:10005265-1917169200-1917172800@www.stlukessanlucas.org
SUMMARY:Bible Study
DESCRIPTION:
URL:https://www.stlukessanlucas.org/event/bible-study-2/2030-10-02/
LOCATION:Chapel of the Holy Spirit
END:VEVENT
BEGIN:VEVENT
DTSTART;TZID=America/Los_Angeles:20301009T110000
DTEND;TZID=America/Los_Angeles:20301009T120000
DTSTAMP:20260425T064652
CREATED:20260325T225715Z
LAST-MODIFIED:20260325T225715Z
UID:10005266-1917774000-1917777600@www.stlukessanlucas.org
SUMMARY:Bible Study
DESCRIPTION:
URL:https://www.stlukessanlucas.org/event/bible-study-2/2030-10-09/
LOCATION:Chapel of the Holy Spirit
END:VEVENT
BEGIN:VEVENT
DTSTART;TZID=America/Los_Angeles:20301016T110000
DTEND;TZID=America/Los_Angeles:20301016T120000
DTSTAMP:20260425T064652
CREATED:20260325T225715Z
LAST-MODIFIED:20260325T225715Z
UID:10005267-1918378800-1918382400@www.stlukessanlucas.org
SUMMARY:Bible Study
DESCRIPTION:
URL:https://www.stlukessanlucas.org/event/bible-study-2/2030-10-16/
LOCATION:Chapel of the Holy Spirit
END:VEVENT
BEGIN:VEVENT
DTSTART;TZID=America/Los_Angeles:20301023T110000
DTEND;TZID=America/Los_Angeles:20301023T120000
DTSTAMP:20260425T064652
CREATED:20260325T225715Z
LAST-MODIFIED:20260325T225715Z
UID:10005268-1918983600-1918987200@www.stlukessanlucas.org
SUMMARY:Bible Study
DESCRIPTION:
URL:https://www.stlukessanlucas.org/event/bible-study-2/2030-10-23/
LOCATION:Chapel of the Holy Spirit
END:VEVENT
BEGIN:VEVENT
DTSTART;TZID=America/Los_Angeles:20301030T110000
DTEND;TZID=America/Los_Angeles:20301030T120000
DTSTAMP:20260425T064652
CREATED:20260325T225715Z
LAST-MODIFIED:20260325T225715Z
UID:10005269-1919588400-1919592000@www.stlukessanlucas.org
SUMMARY:Bible Study
DESCRIPTION:
URL:https://www.stlukessanlucas.org/event/bible-study-2/2030-10-30/
LOCATION:Chapel of the Holy Spirit
END:VEVENT
BEGIN:VEVENT
DTSTART;TZID=America/Los_Angeles:20301106T110000
DTEND;TZID=America/Los_Angeles:20301106T120000
DTSTAMP:20260425T064652
CREATED:20260325T225715Z
LAST-MODIFIED:20260325T225715Z
UID:10005270-1920193200-1920196800@www.stlukessanlucas.org
SUMMARY:Bible Study
DESCRIPTION:
URL:https://www.stlukessanlucas.org/event/bible-study-2/2030-11-06/
LOCATION:Chapel of the Holy Spirit
END:VEVENT
BEGIN:VEVENT
DTSTART;TZID=America/Los_Angeles:20301113T110000
DTEND;TZID=America/Los_Angeles:20301113T120000
DTSTAMP:20260425T064652
CREATED:20260325T225715Z
LAST-MODIFIED:20260325T225715Z
UID:10005271-1920798000-1920801600@www.stlukessanlucas.org
SUMMARY:Bible Study
DESCRIPTION:
URL:https://www.stlukessanlucas.org/event/bible-study-2/2030-11-13/
LOCATION:Chapel of the Holy Spirit
END:VEVENT
BEGIN:VEVENT
DTSTART;TZID=America/Los_Angeles:20301120T110000
DTEND;TZID=America/Los_Angeles:20301120T120000
DTSTAMP:20260425T064652
CREATED:20260325T225715Z
LAST-MODIFIED:20260325T225715Z
UID:10005272-1921402800-1921406400@www.stlukessanlucas.org
SUMMARY:Bible Study
DESCRIPTION:
URL:https://www.stlukessanlucas.org/event/bible-study-2/2030-11-20/
LOCATION:Chapel of the Holy Spirit
END:VEVENT
BEGIN:VEVENT
DTSTART;TZID=America/Los_Angeles:20301127T110000
DTEND;TZID=America/Los_Angeles:20301127T120000
DTSTAMP:20260425T064652
CREATED:20260325T225715Z
LAST-MODIFIED:20260325T225715Z
UID:10005273-1922007600-1922011200@www.stlukessanlucas.org
SUMMARY:Bible Study
DESCRIPTION:
URL:https://www.stlukessanlucas.org/event/bible-study-2/2030-11-27/
LOCATION:Chapel of the Holy Spirit
END:VEVENT
BEGIN:VEVENT
DTSTART;TZID=America/Los_Angeles:20301204T110000
DTEND;TZID=America/Los_Angeles:20301204T120000
DTSTAMP:20260425T064652
CREATED:20260325T225715Z
LAST-MODIFIED:20260325T225715Z
UID:10005274-1922612400-1922616000@www.stlukessanlucas.org
SUMMARY:Bible Study
DESCRIPTION:
URL:https://www.stlukessanlucas.org/event/bible-study-2/2030-12-04/
LOCATION:Chapel of the Holy Spirit
END:VEVENT
BEGIN:VEVENT
DTSTART;TZID=America/Los_Angeles:20301211T110000
DTEND;TZID=America/Los_Angeles:20301211T120000
DTSTAMP:20260425T064652
CREATED:20260325T225715Z
LAST-MODIFIED:20260325T225715Z
UID:10007066-1923217200-1923220800@www.stlukessanlucas.org
SUMMARY:Bible Study
DESCRIPTION:
URL:https://www.stlukessanlucas.org/event/bible-study-2/2030-12-11/
LOCATION:Chapel of the Holy Spirit
END:VEVENT
BEGIN:VEVENT
DTSTART;TZID=America/Los_Angeles:20301218T110000
DTEND;TZID=America/Los_Angeles:20301218T120000
DTSTAMP:20260425T064652
CREATED:20260325T225715Z
LAST-MODIFIED:20260325T225715Z
UID:10007067-1923822000-1923825600@www.stlukessanlucas.org
SUMMARY:Bible Study
DESCRIPTION:
URL:https://www.stlukessanlucas.org/event/bible-study-2/2030-12-18/
LOCATION:Chapel of the Holy Spirit
END:VEVENT
BEGIN:VEVENT
DTSTART;TZID=America/Los_Angeles:20301225T110000
DTEND;TZID=America/Los_Angeles:20301225T120000
DTSTAMP:20260425T064652
CREATED:20260325T225715Z
LAST-MODIFIED:20260325T225715Z
UID:10007068-1924426800-1924430400@www.stlukessanlucas.org
SUMMARY:Bible Study
DESCRIPTION:
URL:https://www.stlukessanlucas.org/event/bible-study-2/2030-12-25/
LOCATION:Chapel of the Holy Spirit
END:VEVENT
BEGIN:VEVENT
DTSTART;TZID=America/Los_Angeles:20310101T110000
DTEND;TZID=America/Los_Angeles:20310101T120000
DTSTAMP:20260425T064652
CREATED:20260325T225715Z
LAST-MODIFIED:20260325T225715Z
UID:10007069-1925031600-1925035200@www.stlukessanlucas.org
SUMMARY:Bible Study
DESCRIPTION:
URL:https://www.stlukessanlucas.org/event/bible-study-2/2031-01-01/
LOCATION:Chapel of the Holy Spirit
END:VEVENT
BEGIN:VEVENT
DTSTART;TZID=America/Los_Angeles:20310108T110000
DTEND;TZID=America/Los_Angeles:20310108T120000
DTSTAMP:20260425T064652
CREATED:20260325T225715Z
LAST-MODIFIED:20260325T225715Z
UID:10007070-1925636400-1925640000@www.stlukessanlucas.org
SUMMARY:Bible Study
DESCRIPTION:
URL:https://www.stlukessanlucas.org/event/bible-study-2/2031-01-08/
LOCATION:Chapel of the Holy Spirit
END:VEVENT
BEGIN:VEVENT
DTSTART;TZID=America/Los_Angeles:20310115T110000
DTEND;TZID=America/Los_Angeles:20310115T120000
DTSTAMP:20260425T064652
CREATED:20260325T225715Z
LAST-MODIFIED:20260325T225715Z
UID:10007071-1926241200-1926244800@www.stlukessanlucas.org
SUMMARY:Bible Study
DESCRIPTION:
URL:https://www.stlukessanlucas.org/event/bible-study-2/2031-01-15/
LOCATION:Chapel of the Holy Spirit
END:VEVENT
BEGIN:VEVENT
DTSTART;TZID=America/Los_Angeles:20310122T110000
DTEND;TZID=America/Los_Angeles:20310122T120000
DTSTAMP:20260425T064652
CREATED:20260325T225715Z
LAST-MODIFIED:20260325T225715Z
UID:10007072-1926846000-1926849600@www.stlukessanlucas.org
SUMMARY:Bible Study
DESCRIPTION:
URL:https://www.stlukessanlucas.org/event/bible-study-2/2031-01-22/
LOCATION:Chapel of the Holy Spirit
END:VEVENT
BEGIN:VEVENT
DTSTART;TZID=America/Los_Angeles:20310129T110000
DTEND;TZID=America/Los_Angeles:20310129T120000
DTSTAMP:20260425T064652
CREATED:20260325T225715Z
LAST-MODIFIED:20260325T225715Z
UID:10007073-1927450800-1927454400@www.stlukessanlucas.org
SUMMARY:Bible Study
DESCRIPTION:
URL:https://www.stlukessanlucas.org/event/bible-study-2/2031-01-29/
LOCATION:Chapel of the Holy Spirit
END:VEVENT
BEGIN:VEVENT
DTSTART;TZID=America/Los_Angeles:20310205T110000
DTEND;TZID=America/Los_Angeles:20310205T120000
DTSTAMP:20260425T064652
CREATED:20260325T225715Z
LAST-MODIFIED:20260325T225715Z
UID:10007074-1928055600-1928059200@www.stlukessanlucas.org
SUMMARY:Bible Study
DESCRIPTION:
URL:https://www.stlukessanlucas.org/event/bible-study-2/2031-02-05/
LOCATION:Chapel of the Holy Spirit
END:VEVENT
END:VCALENDAR