BEGIN:VCALENDAR
VERSION:2.0
PRODID:-//St. Luke&#039;s ~ San Lucas - ECPv6.15.19//NONSGML v1.0//EN
CALSCALE:GREGORIAN
METHOD:PUBLISH
X-WR-CALNAME:St. Luke&#039;s ~ San Lucas
X-ORIGINAL-URL:https://www.stlukessanlucas.org
X-WR-CALDESC:Events for St. Luke&#039;s ~ San Lucas
REFRESH-INTERVAL;VALUE=DURATION:PT1H
X-Robots-Tag:noindex
X-PUBLISHED-TTL:PT1H
BEGIN:VTIMEZONE
TZID:America/Los_Angeles
BEGIN:DAYLIGHT
TZOFFSETFROM:-0800
TZOFFSETTO:-0700
TZNAME:PDT
DTSTART:20240310T100000
END:DAYLIGHT
BEGIN:STANDARD
TZOFFSETFROM:-0700
TZOFFSETTO:-0800
TZNAME:PST
DTSTART:20241103T090000
END:STANDARD
BEGIN:DAYLIGHT
TZOFFSETFROM:-0800
TZOFFSETTO:-0700
TZNAME:PDT
DTSTART:20250309T100000
END:DAYLIGHT
BEGIN:STANDARD
TZOFFSETFROM:-0700
TZOFFSETTO:-0800
TZNAME:PST
DTSTART:20251102T090000
END:STANDARD
BEGIN:DAYLIGHT
TZOFFSETFROM:-0800
TZOFFSETTO:-0700
TZNAME:PDT
DTSTART:20260308T100000
END:DAYLIGHT
BEGIN:STANDARD
TZOFFSETFROM:-0700
TZOFFSETTO:-0800
TZNAME:PST
DTSTART:20261101T090000
END:STANDARD
END:VTIMEZONE
BEGIN:VTIMEZONE
TZID:America/Los_Angeles
BEGIN:DAYLIGHT
TZOFFSETFROM:-0800
TZOFFSETTO:-0700
TZNAME:PDT
DTSTART:20240310T100000
END:DAYLIGHT
BEGIN:STANDARD
TZOFFSETFROM:-0700
TZOFFSETTO:-0800
TZNAME:PST
DTSTART:20241103T090000
END:STANDARD
BEGIN:DAYLIGHT
TZOFFSETFROM:-0800
TZOFFSETTO:-0700
TZNAME:PDT
DTSTART:20250309T100000
END:DAYLIGHT
BEGIN:STANDARD
TZOFFSETFROM:-0700
TZOFFSETTO:-0800
TZNAME:PST
DTSTART:20251102T090000
END:STANDARD
BEGIN:DAYLIGHT
TZOFFSETFROM:-0800
TZOFFSETTO:-0700
TZNAME:PDT
DTSTART:20260308T100000
END:DAYLIGHT
BEGIN:STANDARD
TZOFFSETFROM:-0700
TZOFFSETTO:-0800
TZNAME:PST
DTSTART:20261101T090000
END:STANDARD
END:VTIMEZONE
BEGIN:VEVENT
DTSTART;TZID=America/Los_Angeles:20251015T110000
DTEND;TZID=America/Los_Angeles:20251015T120000
DTSTAMP:20260424T095235
CREATED:20250304T212032Z
LAST-MODIFIED:20251205T235100Z
UID:10001164-1760526000-1760529600@www.stlukessanlucas.org
SUMMARY:Bible Study
DESCRIPTION:
URL:https://www.stlukessanlucas.org/event/bible-study/2025-10-15/
LOCATION:Chapel of the Holy Spirit
END:VEVENT
BEGIN:VEVENT
DTSTART;TZID=America/Los_Angeles:20251008T120000
DTEND;TZID=America/Los_Angeles:20251008T130000
DTSTAMP:20260424T095235
CREATED:20250304T212210Z
LAST-MODIFIED:20251205T235206Z
UID:10001424-1759924800-1759928400@www.stlukessanlucas.org
SUMMARY:Healing Service
DESCRIPTION:
URL:https://www.stlukessanlucas.org/event/healing-service/2025-10-08/
LOCATION:Chapel of the Holy Spirit
END:VEVENT
BEGIN:VEVENT
DTSTART;TZID=America/Los_Angeles:20251008T110000
DTEND;TZID=America/Los_Angeles:20251008T120000
DTSTAMP:20260424T095235
CREATED:20250304T212032Z
LAST-MODIFIED:20251205T235100Z
UID:10001163-1759921200-1759924800@www.stlukessanlucas.org
SUMMARY:Bible Study
DESCRIPTION:
URL:https://www.stlukessanlucas.org/event/bible-study/2025-10-08/
LOCATION:Chapel of the Holy Spirit
END:VEVENT
BEGIN:VEVENT
DTSTART;TZID=America/Los_Angeles:20251001T120000
DTEND;TZID=America/Los_Angeles:20251001T130000
DTSTAMP:20260424T095235
CREATED:20250304T212210Z
LAST-MODIFIED:20251205T235206Z
UID:10001423-1759320000-1759323600@www.stlukessanlucas.org
SUMMARY:Healing Service
DESCRIPTION:
URL:https://www.stlukessanlucas.org/event/healing-service/2025-10-01/
LOCATION:Chapel of the Holy Spirit
END:VEVENT
BEGIN:VEVENT
DTSTART;TZID=America/Los_Angeles:20251001T110000
DTEND;TZID=America/Los_Angeles:20251001T120000
DTSTAMP:20260424T095235
CREATED:20250304T212032Z
LAST-MODIFIED:20251205T235100Z
UID:10001162-1759316400-1759320000@www.stlukessanlucas.org
SUMMARY:Bible Study
DESCRIPTION:
URL:https://www.stlukessanlucas.org/event/bible-study/2025-10-01/
LOCATION:Chapel of the Holy Spirit
END:VEVENT
BEGIN:VEVENT
DTSTART;TZID=America/Los_Angeles:20250924T120000
DTEND;TZID=America/Los_Angeles:20250924T130000
DTSTAMP:20260424T095235
CREATED:20250304T212210Z
LAST-MODIFIED:20251205T235206Z
UID:10001422-1758715200-1758718800@www.stlukessanlucas.org
SUMMARY:Healing Service
DESCRIPTION:
URL:https://www.stlukessanlucas.org/event/healing-service/2025-09-24/
LOCATION:Chapel of the Holy Spirit
END:VEVENT
BEGIN:VEVENT
DTSTART;TZID=America/Los_Angeles:20250924T110000
DTEND;TZID=America/Los_Angeles:20250924T120000
DTSTAMP:20260424T095235
CREATED:20250304T212032Z
LAST-MODIFIED:20251205T235100Z
UID:10001161-1758711600-1758715200@www.stlukessanlucas.org
SUMMARY:Bible Study
DESCRIPTION:
URL:https://www.stlukessanlucas.org/event/bible-study/2025-09-24/
LOCATION:Chapel of the Holy Spirit
END:VEVENT
BEGIN:VEVENT
DTSTART;TZID=America/Los_Angeles:20250917T120000
DTEND;TZID=America/Los_Angeles:20250917T130000
DTSTAMP:20260424T095235
CREATED:20250304T212210Z
LAST-MODIFIED:20251205T235206Z
UID:10001421-1758110400-1758114000@www.stlukessanlucas.org
SUMMARY:Healing Service
DESCRIPTION:
URL:https://www.stlukessanlucas.org/event/healing-service/2025-09-17/
LOCATION:Chapel of the Holy Spirit
END:VEVENT
BEGIN:VEVENT
DTSTART;TZID=America/Los_Angeles:20250917T110000
DTEND;TZID=America/Los_Angeles:20250917T120000
DTSTAMP:20260424T095235
CREATED:20250304T212032Z
LAST-MODIFIED:20251205T235100Z
UID:10001160-1758106800-1758110400@www.stlukessanlucas.org
SUMMARY:Bible Study
DESCRIPTION:
URL:https://www.stlukessanlucas.org/event/bible-study/2025-09-17/
LOCATION:Chapel of the Holy Spirit
END:VEVENT
BEGIN:VEVENT
DTSTART;TZID=America/Los_Angeles:20250914T190000
DTEND;TZID=America/Los_Angeles:20250914T203000
DTSTAMP:20260424T095235
CREATED:20250328T122447Z
LAST-MODIFIED:20250414T224555Z
UID:10002680-1757876400-1757881800@www.stlukessanlucas.org
SUMMARY:Queer in Christ
DESCRIPTION:A safe place to connect with others.
URL:https://www.stlukessanlucas.org/event/queer-in-christ/2025-09-14/
LOCATION:Chapel of the Holy Spirit
CATEGORIES:Ministry,Social
END:VEVENT
BEGIN:VEVENT
DTSTART;TZID=America/Los_Angeles:20250910T120000
DTEND;TZID=America/Los_Angeles:20250910T130000
DTSTAMP:20260424T095235
CREATED:20250304T212210Z
LAST-MODIFIED:20251205T235206Z
UID:10001420-1757505600-1757509200@www.stlukessanlucas.org
SUMMARY:Healing Service
DESCRIPTION:
URL:https://www.stlukessanlucas.org/event/healing-service/2025-09-10/
LOCATION:Chapel of the Holy Spirit
END:VEVENT
BEGIN:VEVENT
DTSTART;TZID=America/Los_Angeles:20250910T110000
DTEND;TZID=America/Los_Angeles:20250910T120000
DTSTAMP:20260424T095235
CREATED:20250304T212032Z
LAST-MODIFIED:20251205T235100Z
UID:10001159-1757502000-1757505600@www.stlukessanlucas.org
SUMMARY:Bible Study
DESCRIPTION:
URL:https://www.stlukessanlucas.org/event/bible-study/2025-09-10/
LOCATION:Chapel of the Holy Spirit
END:VEVENT
BEGIN:VEVENT
DTSTART;TZID=America/Los_Angeles:20250903T120000
DTEND;TZID=America/Los_Angeles:20250903T130000
DTSTAMP:20260424T095235
CREATED:20250304T212210Z
LAST-MODIFIED:20251205T235206Z
UID:10001419-1756900800-1756904400@www.stlukessanlucas.org
SUMMARY:Healing Service
DESCRIPTION:
URL:https://www.stlukessanlucas.org/event/healing-service/2025-09-03/
LOCATION:Chapel of the Holy Spirit
END:VEVENT
BEGIN:VEVENT
DTSTART;TZID=America/Los_Angeles:20250810T190000
DTEND;TZID=America/Los_Angeles:20250810T203000
DTSTAMP:20260424T095235
CREATED:20250328T122447Z
LAST-MODIFIED:20250414T224555Z
UID:10002679-1754852400-1754857800@www.stlukessanlucas.org
SUMMARY:Queer in Christ
DESCRIPTION:A safe place to connect with others.
URL:https://www.stlukessanlucas.org/event/queer-in-christ/2025-08-10/
LOCATION:Chapel of the Holy Spirit
CATEGORIES:Ministry,Social
END:VEVENT
BEGIN:VEVENT
DTSTART;TZID=America/Los_Angeles:20250730T120000
DTEND;TZID=America/Los_Angeles:20250730T130000
DTSTAMP:20260424T095235
CREATED:20250304T212210Z
LAST-MODIFIED:20251205T235206Z
UID:10001414-1753876800-1753880400@www.stlukessanlucas.org
SUMMARY:Healing Service
DESCRIPTION:
URL:https://www.stlukessanlucas.org/event/healing-service/2025-07-30/
LOCATION:Chapel of the Holy Spirit
END:VEVENT
BEGIN:VEVENT
DTSTART;TZID=America/Los_Angeles:20250723T120000
DTEND;TZID=America/Los_Angeles:20250723T130000
DTSTAMP:20260424T095235
CREATED:20250304T212210Z
LAST-MODIFIED:20251205T235206Z
UID:10001413-1753272000-1753275600@www.stlukessanlucas.org
SUMMARY:Healing Service
DESCRIPTION:
URL:https://www.stlukessanlucas.org/event/healing-service/2025-07-23/
LOCATION:Chapel of the Holy Spirit
END:VEVENT
BEGIN:VEVENT
DTSTART;TZID=America/Los_Angeles:20250723T110000
DTEND;TZID=America/Los_Angeles:20250723T120000
DTSTAMP:20260424T095235
CREATED:20250304T212032Z
LAST-MODIFIED:20251205T235100Z
UID:10001152-1753268400-1753272000@www.stlukessanlucas.org
SUMMARY:Bible Study
DESCRIPTION:
URL:https://www.stlukessanlucas.org/event/bible-study/2025-07-23/
LOCATION:Chapel of the Holy Spirit
END:VEVENT
BEGIN:VEVENT
DTSTART;TZID=America/Los_Angeles:20250716T120000
DTEND;TZID=America/Los_Angeles:20250716T130000
DTSTAMP:20260424T095235
CREATED:20250304T212210Z
LAST-MODIFIED:20251205T235206Z
UID:10001412-1752667200-1752670800@www.stlukessanlucas.org
SUMMARY:Healing Service
DESCRIPTION:
URL:https://www.stlukessanlucas.org/event/healing-service/2025-07-16/
LOCATION:Chapel of the Holy Spirit
END:VEVENT
BEGIN:VEVENT
DTSTART;TZID=America/Los_Angeles:20250716T110000
DTEND;TZID=America/Los_Angeles:20250716T120000
DTSTAMP:20260424T095235
CREATED:20250304T212032Z
LAST-MODIFIED:20251205T235100Z
UID:10001151-1752663600-1752667200@www.stlukessanlucas.org
SUMMARY:Bible Study
DESCRIPTION:
URL:https://www.stlukessanlucas.org/event/bible-study/2025-07-16/
LOCATION:Chapel of the Holy Spirit
END:VEVENT
BEGIN:VEVENT
DTSTART;TZID=America/Los_Angeles:20250713T190000
DTEND;TZID=America/Los_Angeles:20250713T203000
DTSTAMP:20260424T095235
CREATED:20250328T122447Z
LAST-MODIFIED:20250414T224555Z
UID:10002678-1752433200-1752438600@www.stlukessanlucas.org
SUMMARY:Queer in Christ
DESCRIPTION:A safe place to connect with others.
URL:https://www.stlukessanlucas.org/event/queer-in-christ/2025-07-13/
LOCATION:Chapel of the Holy Spirit
CATEGORIES:Ministry,Social
END:VEVENT
BEGIN:VEVENT
DTSTART;TZID=America/Los_Angeles:20250709T120000
DTEND;TZID=America/Los_Angeles:20250709T130000
DTSTAMP:20260424T095235
CREATED:20250304T212210Z
LAST-MODIFIED:20251205T235206Z
UID:10001411-1752062400-1752066000@www.stlukessanlucas.org
SUMMARY:Healing Service
DESCRIPTION:
URL:https://www.stlukessanlucas.org/event/healing-service/2025-07-09/
LOCATION:Chapel of the Holy Spirit
END:VEVENT
BEGIN:VEVENT
DTSTART;TZID=America/Los_Angeles:20250709T110000
DTEND;TZID=America/Los_Angeles:20250709T120000
DTSTAMP:20260424T095235
CREATED:20250304T212032Z
LAST-MODIFIED:20251205T235100Z
UID:10001150-1752058800-1752062400@www.stlukessanlucas.org
SUMMARY:Bible Study
DESCRIPTION:
URL:https://www.stlukessanlucas.org/event/bible-study/2025-07-09/
LOCATION:Chapel of the Holy Spirit
END:VEVENT
BEGIN:VEVENT
DTSTART;TZID=America/Los_Angeles:20250702T120000
DTEND;TZID=America/Los_Angeles:20250702T130000
DTSTAMP:20260424T095235
CREATED:20250304T212210Z
LAST-MODIFIED:20251205T235206Z
UID:10001410-1751457600-1751461200@www.stlukessanlucas.org
SUMMARY:Healing Service
DESCRIPTION:
URL:https://www.stlukessanlucas.org/event/healing-service/2025-07-02/
LOCATION:Chapel of the Holy Spirit
END:VEVENT
BEGIN:VEVENT
DTSTART;TZID=America/Los_Angeles:20250702T110000
DTEND;TZID=America/Los_Angeles:20250702T120000
DTSTAMP:20260424T095235
CREATED:20250304T212032Z
LAST-MODIFIED:20251205T235100Z
UID:10001149-1751454000-1751457600@www.stlukessanlucas.org
SUMMARY:Bible Study
DESCRIPTION:
URL:https://www.stlukessanlucas.org/event/bible-study/2025-07-02/
LOCATION:Chapel of the Holy Spirit
END:VEVENT
BEGIN:VEVENT
DTSTART;TZID=America/Los_Angeles:20250625T120000
DTEND;TZID=America/Los_Angeles:20250625T130000
DTSTAMP:20260424T095235
CREATED:20250304T212210Z
LAST-MODIFIED:20251205T235206Z
UID:10001409-1750852800-1750856400@www.stlukessanlucas.org
SUMMARY:Healing Service
DESCRIPTION:
URL:https://www.stlukessanlucas.org/event/healing-service/2025-06-25/
LOCATION:Chapel of the Holy Spirit
END:VEVENT
BEGIN:VEVENT
DTSTART;TZID=America/Los_Angeles:20250625T110000
DTEND;TZID=America/Los_Angeles:20250625T120000
DTSTAMP:20260424T095235
CREATED:20250304T212032Z
LAST-MODIFIED:20251205T235100Z
UID:10001148-1750849200-1750852800@www.stlukessanlucas.org
SUMMARY:Bible Study
DESCRIPTION:
URL:https://www.stlukessanlucas.org/event/bible-study/2025-06-25/
LOCATION:Chapel of the Holy Spirit
END:VEVENT
BEGIN:VEVENT
DTSTART;TZID=America/Los_Angeles:20250618T120000
DTEND;TZID=America/Los_Angeles:20250618T130000
DTSTAMP:20260424T095235
CREATED:20250304T212210Z
LAST-MODIFIED:20251205T235206Z
UID:10001408-1750248000-1750251600@www.stlukessanlucas.org
SUMMARY:Healing Service
DESCRIPTION:
URL:https://www.stlukessanlucas.org/event/healing-service/2025-06-18/
LOCATION:Chapel of the Holy Spirit
END:VEVENT
BEGIN:VEVENT
DTSTART;TZID=America/Los_Angeles:20250618T110000
DTEND;TZID=America/Los_Angeles:20250618T120000
DTSTAMP:20260424T095235
CREATED:20250304T212032Z
LAST-MODIFIED:20251205T235100Z
UID:10001147-1750244400-1750248000@www.stlukessanlucas.org
SUMMARY:Bible Study
DESCRIPTION:
URL:https://www.stlukessanlucas.org/event/bible-study/2025-06-18/
LOCATION:Chapel of the Holy Spirit
END:VEVENT
BEGIN:VEVENT
DTSTART;TZID=America/Los_Angeles:20250611T120000
DTEND;TZID=America/Los_Angeles:20250611T130000
DTSTAMP:20260424T095235
CREATED:20250304T212210Z
LAST-MODIFIED:20251205T235206Z
UID:10001407-1749643200-1749646800@www.stlukessanlucas.org
SUMMARY:Healing Service
DESCRIPTION:
URL:https://www.stlukessanlucas.org/event/healing-service/2025-06-11/
LOCATION:Chapel of the Holy Spirit
END:VEVENT
BEGIN:VEVENT
DTSTART;TZID=America/Los_Angeles:20250611T110000
DTEND;TZID=America/Los_Angeles:20250611T120000
DTSTAMP:20260424T095235
CREATED:20250304T212032Z
LAST-MODIFIED:20251205T235100Z
UID:10001146-1749639600-1749643200@www.stlukessanlucas.org
SUMMARY:Bible Study
DESCRIPTION:
URL:https://www.stlukessanlucas.org/event/bible-study/2025-06-11/
LOCATION:Chapel of the Holy Spirit
END:VEVENT
END:VCALENDAR