BEGIN:VCALENDAR
VERSION:2.0
PRODID:-//St. Luke&#039;s ~ San Lucas - ECPv6.15.19//NONSGML v1.0//EN
CALSCALE:GREGORIAN
METHOD:PUBLISH
X-WR-CALNAME:St. Luke&#039;s ~ San Lucas
X-ORIGINAL-URL:https://www.stlukessanlucas.org
X-WR-CALDESC:Events for St. Luke&#039;s ~ San Lucas
REFRESH-INTERVAL;VALUE=DURATION:PT1H
X-Robots-Tag:noindex
X-PUBLISHED-TTL:PT1H
BEGIN:VTIMEZONE
TZID:America/Los_Angeles
BEGIN:DAYLIGHT
TZOFFSETFROM:-0800
TZOFFSETTO:-0700
TZNAME:PDT
DTSTART:20260308T100000
END:DAYLIGHT
BEGIN:STANDARD
TZOFFSETFROM:-0700
TZOFFSETTO:-0800
TZNAME:PST
DTSTART:20261101T090000
END:STANDARD
BEGIN:DAYLIGHT
TZOFFSETFROM:-0800
TZOFFSETTO:-0700
TZNAME:PDT
DTSTART:20270314T100000
END:DAYLIGHT
BEGIN:STANDARD
TZOFFSETFROM:-0700
TZOFFSETTO:-0800
TZNAME:PST
DTSTART:20271107T090000
END:STANDARD
BEGIN:DAYLIGHT
TZOFFSETFROM:-0800
TZOFFSETTO:-0700
TZNAME:PDT
DTSTART:20280312T100000
END:DAYLIGHT
BEGIN:STANDARD
TZOFFSETFROM:-0700
TZOFFSETTO:-0800
TZNAME:PST
DTSTART:20281105T090000
END:STANDARD
BEGIN:DAYLIGHT
TZOFFSETFROM:-0800
TZOFFSETTO:-0700
TZNAME:PDT
DTSTART:20290311T100000
END:DAYLIGHT
BEGIN:STANDARD
TZOFFSETFROM:-0700
TZOFFSETTO:-0800
TZNAME:PST
DTSTART:20291104T090000
END:STANDARD
END:VTIMEZONE
BEGIN:VEVENT
DTSTART;TZID=America/Los_Angeles:20270901T110000
DTEND;TZID=America/Los_Angeles:20270901T120000
DTSTAMP:20260424T111233
CREATED:20260325T225715Z
LAST-MODIFIED:20260325T225715Z
UID:10001262-1819796400-1819800000@www.stlukessanlucas.org
SUMMARY:Bible Study
DESCRIPTION:
URL:https://www.stlukessanlucas.org/event/bible-study-2/2027-09-01/
LOCATION:Chapel of the Holy Spirit
END:VEVENT
BEGIN:VEVENT
DTSTART;TZID=America/Los_Angeles:20270908T110000
DTEND;TZID=America/Los_Angeles:20270908T120000
DTSTAMP:20260424T111233
CREATED:20260325T225715Z
LAST-MODIFIED:20260325T225715Z
UID:10001263-1820401200-1820404800@www.stlukessanlucas.org
SUMMARY:Bible Study
DESCRIPTION:
URL:https://www.stlukessanlucas.org/event/bible-study-2/2027-09-08/
LOCATION:Chapel of the Holy Spirit
END:VEVENT
BEGIN:VEVENT
DTSTART;TZID=America/Los_Angeles:20270915T110000
DTEND;TZID=America/Los_Angeles:20270915T120000
DTSTAMP:20260424T111233
CREATED:20260325T225715Z
LAST-MODIFIED:20260325T225715Z
UID:10001264-1821006000-1821009600@www.stlukessanlucas.org
SUMMARY:Bible Study
DESCRIPTION:
URL:https://www.stlukessanlucas.org/event/bible-study-2/2027-09-15/
LOCATION:Chapel of the Holy Spirit
END:VEVENT
BEGIN:VEVENT
DTSTART;TZID=America/Los_Angeles:20270922T110000
DTEND;TZID=America/Los_Angeles:20270922T120000
DTSTAMP:20260424T111233
CREATED:20260325T225715Z
LAST-MODIFIED:20260325T225715Z
UID:10001265-1821610800-1821614400@www.stlukessanlucas.org
SUMMARY:Bible Study
DESCRIPTION:
URL:https://www.stlukessanlucas.org/event/bible-study-2/2027-09-22/
LOCATION:Chapel of the Holy Spirit
END:VEVENT
BEGIN:VEVENT
DTSTART;TZID=America/Los_Angeles:20270929T110000
DTEND;TZID=America/Los_Angeles:20270929T120000
DTSTAMP:20260424T111233
CREATED:20260325T225715Z
LAST-MODIFIED:20260325T225715Z
UID:10001266-1822215600-1822219200@www.stlukessanlucas.org
SUMMARY:Bible Study
DESCRIPTION:
URL:https://www.stlukessanlucas.org/event/bible-study-2/2027-09-29/
LOCATION:Chapel of the Holy Spirit
END:VEVENT
BEGIN:VEVENT
DTSTART;TZID=America/Los_Angeles:20271006T110000
DTEND;TZID=America/Los_Angeles:20271006T120000
DTSTAMP:20260424T111233
CREATED:20260325T225715Z
LAST-MODIFIED:20260325T225715Z
UID:10001267-1822820400-1822824000@www.stlukessanlucas.org
SUMMARY:Bible Study
DESCRIPTION:
URL:https://www.stlukessanlucas.org/event/bible-study-2/2027-10-06/
LOCATION:Chapel of the Holy Spirit
END:VEVENT
BEGIN:VEVENT
DTSTART;TZID=America/Los_Angeles:20271013T110000
DTEND;TZID=America/Los_Angeles:20271013T120000
DTSTAMP:20260424T111233
CREATED:20260325T225715Z
LAST-MODIFIED:20260325T225715Z
UID:10001268-1823425200-1823428800@www.stlukessanlucas.org
SUMMARY:Bible Study
DESCRIPTION:
URL:https://www.stlukessanlucas.org/event/bible-study-2/2027-10-13/
LOCATION:Chapel of the Holy Spirit
END:VEVENT
BEGIN:VEVENT
DTSTART;TZID=America/Los_Angeles:20271020T110000
DTEND;TZID=America/Los_Angeles:20271020T120000
DTSTAMP:20260424T111233
CREATED:20260325T225715Z
LAST-MODIFIED:20260325T225715Z
UID:10001269-1824030000-1824033600@www.stlukessanlucas.org
SUMMARY:Bible Study
DESCRIPTION:
URL:https://www.stlukessanlucas.org/event/bible-study-2/2027-10-20/
LOCATION:Chapel of the Holy Spirit
END:VEVENT
BEGIN:VEVENT
DTSTART;TZID=America/Los_Angeles:20271027T110000
DTEND;TZID=America/Los_Angeles:20271027T120000
DTSTAMP:20260424T111233
CREATED:20260325T225715Z
LAST-MODIFIED:20260325T225715Z
UID:10001270-1824634800-1824638400@www.stlukessanlucas.org
SUMMARY:Bible Study
DESCRIPTION:
URL:https://www.stlukessanlucas.org/event/bible-study-2/2027-10-27/
LOCATION:Chapel of the Holy Spirit
END:VEVENT
BEGIN:VEVENT
DTSTART;TZID=America/Los_Angeles:20271103T110000
DTEND;TZID=America/Los_Angeles:20271103T120000
DTSTAMP:20260424T111233
CREATED:20260325T225715Z
LAST-MODIFIED:20260325T225715Z
UID:10001271-1825239600-1825243200@www.stlukessanlucas.org
SUMMARY:Bible Study
DESCRIPTION:
URL:https://www.stlukessanlucas.org/event/bible-study-2/2027-11-03/
LOCATION:Chapel of the Holy Spirit
END:VEVENT
BEGIN:VEVENT
DTSTART;TZID=America/Los_Angeles:20271110T110000
DTEND;TZID=America/Los_Angeles:20271110T120000
DTSTAMP:20260424T111233
CREATED:20260325T225715Z
LAST-MODIFIED:20260325T225715Z
UID:10001272-1825844400-1825848000@www.stlukessanlucas.org
SUMMARY:Bible Study
DESCRIPTION:
URL:https://www.stlukessanlucas.org/event/bible-study-2/2027-11-10/
LOCATION:Chapel of the Holy Spirit
END:VEVENT
BEGIN:VEVENT
DTSTART;TZID=America/Los_Angeles:20271117T110000
DTEND;TZID=America/Los_Angeles:20271117T120000
DTSTAMP:20260424T111233
CREATED:20260325T225715Z
LAST-MODIFIED:20260325T225715Z
UID:10001273-1826449200-1826452800@www.stlukessanlucas.org
SUMMARY:Bible Study
DESCRIPTION:
URL:https://www.stlukessanlucas.org/event/bible-study-2/2027-11-17/
LOCATION:Chapel of the Holy Spirit
END:VEVENT
BEGIN:VEVENT
DTSTART;TZID=America/Los_Angeles:20271124T110000
DTEND;TZID=America/Los_Angeles:20271124T120000
DTSTAMP:20260424T111233
CREATED:20260325T225715Z
LAST-MODIFIED:20260325T225715Z
UID:10001274-1827054000-1827057600@www.stlukessanlucas.org
SUMMARY:Bible Study
DESCRIPTION:
URL:https://www.stlukessanlucas.org/event/bible-study-2/2027-11-24/
LOCATION:Chapel of the Holy Spirit
END:VEVENT
BEGIN:VEVENT
DTSTART;TZID=America/Los_Angeles:20271201T110000
DTEND;TZID=America/Los_Angeles:20271201T120000
DTSTAMP:20260424T111233
CREATED:20260325T225715Z
LAST-MODIFIED:20260325T225715Z
UID:10001275-1827658800-1827662400@www.stlukessanlucas.org
SUMMARY:Bible Study
DESCRIPTION:
URL:https://www.stlukessanlucas.org/event/bible-study-2/2027-12-01/
LOCATION:Chapel of the Holy Spirit
END:VEVENT
BEGIN:VEVENT
DTSTART;TZID=America/Los_Angeles:20271208T110000
DTEND;TZID=America/Los_Angeles:20271208T120000
DTSTAMP:20260424T111233
CREATED:20260325T225715Z
LAST-MODIFIED:20260325T225715Z
UID:10001276-1828263600-1828267200@www.stlukessanlucas.org
SUMMARY:Bible Study
DESCRIPTION:
URL:https://www.stlukessanlucas.org/event/bible-study-2/2027-12-08/
LOCATION:Chapel of the Holy Spirit
END:VEVENT
BEGIN:VEVENT
DTSTART;TZID=America/Los_Angeles:20271215T110000
DTEND;TZID=America/Los_Angeles:20271215T120000
DTSTAMP:20260424T111233
CREATED:20260325T225715Z
LAST-MODIFIED:20260325T225715Z
UID:10001277-1828868400-1828872000@www.stlukessanlucas.org
SUMMARY:Bible Study
DESCRIPTION:
URL:https://www.stlukessanlucas.org/event/bible-study-2/2027-12-15/
LOCATION:Chapel of the Holy Spirit
END:VEVENT
BEGIN:VEVENT
DTSTART;TZID=America/Los_Angeles:20271222T110000
DTEND;TZID=America/Los_Angeles:20271222T120000
DTSTAMP:20260424T111233
CREATED:20260325T225715Z
LAST-MODIFIED:20260325T225715Z
UID:10001278-1829473200-1829476800@www.stlukessanlucas.org
SUMMARY:Bible Study
DESCRIPTION:
URL:https://www.stlukessanlucas.org/event/bible-study-2/2027-12-22/
LOCATION:Chapel of the Holy Spirit
END:VEVENT
BEGIN:VEVENT
DTSTART;TZID=America/Los_Angeles:20271229T110000
DTEND;TZID=America/Los_Angeles:20271229T120000
DTSTAMP:20260424T111233
CREATED:20260325T225715Z
LAST-MODIFIED:20260325T225715Z
UID:10001279-1830078000-1830081600@www.stlukessanlucas.org
SUMMARY:Bible Study
DESCRIPTION:
URL:https://www.stlukessanlucas.org/event/bible-study-2/2027-12-29/
LOCATION:Chapel of the Holy Spirit
END:VEVENT
BEGIN:VEVENT
DTSTART;TZID=America/Los_Angeles:20280105T110000
DTEND;TZID=America/Los_Angeles:20280105T120000
DTSTAMP:20260424T111233
CREATED:20260325T225715Z
LAST-MODIFIED:20260325T225715Z
UID:10001280-1830682800-1830686400@www.stlukessanlucas.org
SUMMARY:Bible Study
DESCRIPTION:
URL:https://www.stlukessanlucas.org/event/bible-study-2/2028-01-05/
LOCATION:Chapel of the Holy Spirit
END:VEVENT
BEGIN:VEVENT
DTSTART;TZID=America/Los_Angeles:20280112T110000
DTEND;TZID=America/Los_Angeles:20280112T120000
DTSTAMP:20260424T111233
CREATED:20260325T225715Z
LAST-MODIFIED:20260325T225715Z
UID:10001281-1831287600-1831291200@www.stlukessanlucas.org
SUMMARY:Bible Study
DESCRIPTION:
URL:https://www.stlukessanlucas.org/event/bible-study-2/2028-01-12/
LOCATION:Chapel of the Holy Spirit
END:VEVENT
BEGIN:VEVENT
DTSTART;TZID=America/Los_Angeles:20280119T110000
DTEND;TZID=America/Los_Angeles:20280119T120000
DTSTAMP:20260424T111233
CREATED:20260325T225715Z
LAST-MODIFIED:20260325T225715Z
UID:10001282-1831892400-1831896000@www.stlukessanlucas.org
SUMMARY:Bible Study
DESCRIPTION:
URL:https://www.stlukessanlucas.org/event/bible-study-2/2028-01-19/
LOCATION:Chapel of the Holy Spirit
END:VEVENT
BEGIN:VEVENT
DTSTART;TZID=America/Los_Angeles:20280126T110000
DTEND;TZID=America/Los_Angeles:20280126T120000
DTSTAMP:20260424T111233
CREATED:20260325T225715Z
LAST-MODIFIED:20260325T225715Z
UID:10001283-1832497200-1832500800@www.stlukessanlucas.org
SUMMARY:Bible Study
DESCRIPTION:
URL:https://www.stlukessanlucas.org/event/bible-study-2/2028-01-26/
LOCATION:Chapel of the Holy Spirit
END:VEVENT
BEGIN:VEVENT
DTSTART;TZID=America/Los_Angeles:20280202T110000
DTEND;TZID=America/Los_Angeles:20280202T120000
DTSTAMP:20260424T111233
CREATED:20260325T225715Z
LAST-MODIFIED:20260325T225715Z
UID:10001284-1833102000-1833105600@www.stlukessanlucas.org
SUMMARY:Bible Study
DESCRIPTION:
URL:https://www.stlukessanlucas.org/event/bible-study-2/2028-02-02/
LOCATION:Chapel of the Holy Spirit
END:VEVENT
BEGIN:VEVENT
DTSTART;TZID=America/Los_Angeles:20280209T110000
DTEND;TZID=America/Los_Angeles:20280209T120000
DTSTAMP:20260424T111233
CREATED:20260325T225715Z
LAST-MODIFIED:20260325T225715Z
UID:10001285-1833706800-1833710400@www.stlukessanlucas.org
SUMMARY:Bible Study
DESCRIPTION:
URL:https://www.stlukessanlucas.org/event/bible-study-2/2028-02-09/
LOCATION:Chapel of the Holy Spirit
END:VEVENT
BEGIN:VEVENT
DTSTART;TZID=America/Los_Angeles:20280216T110000
DTEND;TZID=America/Los_Angeles:20280216T120000
DTSTAMP:20260424T111233
CREATED:20260325T225715Z
LAST-MODIFIED:20260325T225715Z
UID:10001286-1834311600-1834315200@www.stlukessanlucas.org
SUMMARY:Bible Study
DESCRIPTION:
URL:https://www.stlukessanlucas.org/event/bible-study-2/2028-02-16/
LOCATION:Chapel of the Holy Spirit
END:VEVENT
BEGIN:VEVENT
DTSTART;TZID=America/Los_Angeles:20280223T110000
DTEND;TZID=America/Los_Angeles:20280223T120000
DTSTAMP:20260424T111233
CREATED:20260325T225715Z
LAST-MODIFIED:20260325T225715Z
UID:10001287-1834916400-1834920000@www.stlukessanlucas.org
SUMMARY:Bible Study
DESCRIPTION:
URL:https://www.stlukessanlucas.org/event/bible-study-2/2028-02-23/
LOCATION:Chapel of the Holy Spirit
END:VEVENT
BEGIN:VEVENT
DTSTART;TZID=America/Los_Angeles:20280301T110000
DTEND;TZID=America/Los_Angeles:20280301T120000
DTSTAMP:20260424T111233
CREATED:20260325T225715Z
LAST-MODIFIED:20260325T225715Z
UID:10001288-1835521200-1835524800@www.stlukessanlucas.org
SUMMARY:Bible Study
DESCRIPTION:
URL:https://www.stlukessanlucas.org/event/bible-study-2/2028-03-01/
LOCATION:Chapel of the Holy Spirit
END:VEVENT
BEGIN:VEVENT
DTSTART;TZID=America/Los_Angeles:20280308T110000
DTEND;TZID=America/Los_Angeles:20280308T120000
DTSTAMP:20260424T111233
CREATED:20260325T225715Z
LAST-MODIFIED:20260325T225715Z
UID:10001289-1836126000-1836129600@www.stlukessanlucas.org
SUMMARY:Bible Study
DESCRIPTION:
URL:https://www.stlukessanlucas.org/event/bible-study-2/2028-03-08/
LOCATION:Chapel of the Holy Spirit
END:VEVENT
BEGIN:VEVENT
DTSTART;TZID=America/Los_Angeles:20280315T110000
DTEND;TZID=America/Los_Angeles:20280315T120000
DTSTAMP:20260424T111233
CREATED:20260325T225715Z
LAST-MODIFIED:20260325T225715Z
UID:10001290-1836730800-1836734400@www.stlukessanlucas.org
SUMMARY:Bible Study
DESCRIPTION:
URL:https://www.stlukessanlucas.org/event/bible-study-2/2028-03-15/
LOCATION:Chapel of the Holy Spirit
END:VEVENT
BEGIN:VEVENT
DTSTART;TZID=America/Los_Angeles:20280322T110000
DTEND;TZID=America/Los_Angeles:20280322T120000
DTSTAMP:20260424T111233
CREATED:20260325T225715Z
LAST-MODIFIED:20260325T225715Z
UID:10001291-1837335600-1837339200@www.stlukessanlucas.org
SUMMARY:Bible Study
DESCRIPTION:
URL:https://www.stlukessanlucas.org/event/bible-study-2/2028-03-22/
LOCATION:Chapel of the Holy Spirit
END:VEVENT
END:VCALENDAR