BEGIN:VCALENDAR
VERSION:2.0
PRODID:-//St. Luke&#039;s ~ San Lucas - ECPv6.15.19//NONSGML v1.0//EN
CALSCALE:GREGORIAN
METHOD:PUBLISH
X-ORIGINAL-URL:https://www.stlukessanlucas.org
X-WR-CALDESC:Events for St. Luke&#039;s ~ San Lucas
REFRESH-INTERVAL;VALUE=DURATION:PT1H
X-Robots-Tag:noindex
X-PUBLISHED-TTL:PT1H
BEGIN:VTIMEZONE
TZID:America/Los_Angeles
BEGIN:DAYLIGHT
TZOFFSETFROM:-0800
TZOFFSETTO:-0700
TZNAME:PDT
DTSTART:20240310T100000
END:DAYLIGHT
BEGIN:STANDARD
TZOFFSETFROM:-0700
TZOFFSETTO:-0800
TZNAME:PST
DTSTART:20241103T090000
END:STANDARD
BEGIN:DAYLIGHT
TZOFFSETFROM:-0800
TZOFFSETTO:-0700
TZNAME:PDT
DTSTART:20250309T100000
END:DAYLIGHT
BEGIN:STANDARD
TZOFFSETFROM:-0700
TZOFFSETTO:-0800
TZNAME:PST
DTSTART:20251102T090000
END:STANDARD
BEGIN:DAYLIGHT
TZOFFSETFROM:-0800
TZOFFSETTO:-0700
TZNAME:PDT
DTSTART:20260308T100000
END:DAYLIGHT
BEGIN:STANDARD
TZOFFSETFROM:-0700
TZOFFSETTO:-0800
TZNAME:PST
DTSTART:20261101T090000
END:STANDARD
END:VTIMEZONE
BEGIN:VTIMEZONE
TZID:America/Los_Angeles
BEGIN:DAYLIGHT
TZOFFSETFROM:-0800
TZOFFSETTO:-0700
TZNAME:PDT
DTSTART:20240310T100000
END:DAYLIGHT
BEGIN:STANDARD
TZOFFSETFROM:-0700
TZOFFSETTO:-0800
TZNAME:PST
DTSTART:20241103T090000
END:STANDARD
BEGIN:DAYLIGHT
TZOFFSETFROM:-0800
TZOFFSETTO:-0700
TZNAME:PDT
DTSTART:20250309T100000
END:DAYLIGHT
BEGIN:STANDARD
TZOFFSETFROM:-0700
TZOFFSETTO:-0800
TZNAME:PST
DTSTART:20251102T090000
END:STANDARD
BEGIN:DAYLIGHT
TZOFFSETFROM:-0800
TZOFFSETTO:-0700
TZNAME:PDT
DTSTART:20260308T100000
END:DAYLIGHT
BEGIN:STANDARD
TZOFFSETFROM:-0700
TZOFFSETTO:-0800
TZNAME:PST
DTSTART:20261101T090000
END:STANDARD
END:VTIMEZONE
BEGIN:VEVENT
DTSTART;TZID=America/Los_Angeles:20250608T190000
DTEND;TZID=America/Los_Angeles:20250608T203000
DTSTAMP:20260424T134709
CREATED:20250328T122447Z
LAST-MODIFIED:20250414T224555Z
UID:10002677-1749409200-1749414600@www.stlukessanlucas.org
SUMMARY:Queer in Christ
DESCRIPTION:A safe place to connect with others.
URL:https://www.stlukessanlucas.org/event/queer-in-christ/2025-06-08/
LOCATION:Chapel of the Holy Spirit
CATEGORIES:Ministry,Social
END:VEVENT
BEGIN:VEVENT
DTSTART;TZID=America/Los_Angeles:20250604T120000
DTEND;TZID=America/Los_Angeles:20250604T130000
DTSTAMP:20260424T134709
CREATED:20250304T212210Z
LAST-MODIFIED:20251205T235206Z
UID:10001406-1749038400-1749042000@www.stlukessanlucas.org
SUMMARY:Healing Service
DESCRIPTION:
URL:https://www.stlukessanlucas.org/event/healing-service/2025-06-04/
LOCATION:Chapel of the Holy Spirit
END:VEVENT
BEGIN:VEVENT
DTSTART;TZID=America/Los_Angeles:20250604T110000
DTEND;TZID=America/Los_Angeles:20250604T120000
DTSTAMP:20260424T134709
CREATED:20250304T212032Z
LAST-MODIFIED:20251205T235100Z
UID:10001145-1749034800-1749038400@www.stlukessanlucas.org
SUMMARY:Bible Study
DESCRIPTION:
URL:https://www.stlukessanlucas.org/event/bible-study/2025-06-04/
LOCATION:Chapel of the Holy Spirit
END:VEVENT
BEGIN:VEVENT
DTSTART;TZID=America/Los_Angeles:20250528T120000
DTEND;TZID=America/Los_Angeles:20250528T130000
DTSTAMP:20260424T134709
CREATED:20250304T212210Z
LAST-MODIFIED:20251205T235206Z
UID:10001405-1748433600-1748437200@www.stlukessanlucas.org
SUMMARY:Healing Service
DESCRIPTION:
URL:https://www.stlukessanlucas.org/event/healing-service/2025-05-28/
LOCATION:Chapel of the Holy Spirit
END:VEVENT
BEGIN:VEVENT
DTSTART;TZID=America/Los_Angeles:20250528T110000
DTEND;TZID=America/Los_Angeles:20250528T120000
DTSTAMP:20260424T134709
CREATED:20250304T212032Z
LAST-MODIFIED:20251205T235100Z
UID:10001144-1748430000-1748433600@www.stlukessanlucas.org
SUMMARY:Bible Study
DESCRIPTION:
URL:https://www.stlukessanlucas.org/event/bible-study/2025-05-28/
LOCATION:Chapel of the Holy Spirit
END:VEVENT
BEGIN:VEVENT
DTSTART;TZID=America/Los_Angeles:20250521T120000
DTEND;TZID=America/Los_Angeles:20250521T130000
DTSTAMP:20260424T134709
CREATED:20250304T212210Z
LAST-MODIFIED:20251205T235206Z
UID:10001404-1747828800-1747832400@www.stlukessanlucas.org
SUMMARY:Healing Service
DESCRIPTION:
URL:https://www.stlukessanlucas.org/event/healing-service/2025-05-21/
LOCATION:Chapel of the Holy Spirit
END:VEVENT
BEGIN:VEVENT
DTSTART;TZID=America/Los_Angeles:20250521T110000
DTEND;TZID=America/Los_Angeles:20250521T120000
DTSTAMP:20260424T134709
CREATED:20250304T212032Z
LAST-MODIFIED:20251205T235100Z
UID:10001143-1747825200-1747828800@www.stlukessanlucas.org
SUMMARY:Bible Study
DESCRIPTION:
URL:https://www.stlukessanlucas.org/event/bible-study/2025-05-21/
LOCATION:Chapel of the Holy Spirit
END:VEVENT
BEGIN:VEVENT
DTSTART;TZID=America/Los_Angeles:20250514T120000
DTEND;TZID=America/Los_Angeles:20250514T130000
DTSTAMP:20260424T134709
CREATED:20250304T212210Z
LAST-MODIFIED:20251205T235206Z
UID:10001403-1747224000-1747227600@www.stlukessanlucas.org
SUMMARY:Healing Service
DESCRIPTION:
URL:https://www.stlukessanlucas.org/event/healing-service/2025-05-14/
LOCATION:Chapel of the Holy Spirit
END:VEVENT
BEGIN:VEVENT
DTSTART;TZID=America/Los_Angeles:20250514T110000
DTEND;TZID=America/Los_Angeles:20250514T120000
DTSTAMP:20260424T134709
CREATED:20250304T212032Z
LAST-MODIFIED:20251205T235100Z
UID:10001142-1747220400-1747224000@www.stlukessanlucas.org
SUMMARY:Bible Study
DESCRIPTION:
URL:https://www.stlukessanlucas.org/event/bible-study/2025-05-14/
LOCATION:Chapel of the Holy Spirit
END:VEVENT
BEGIN:VEVENT
DTSTART;TZID=America/Los_Angeles:20250511T190000
DTEND;TZID=America/Los_Angeles:20250511T203000
DTSTAMP:20260424T134709
CREATED:20250328T122447Z
LAST-MODIFIED:20250414T224555Z
UID:10002676-1746990000-1746995400@www.stlukessanlucas.org
SUMMARY:Queer in Christ
DESCRIPTION:A safe place to connect with others.
URL:https://www.stlukessanlucas.org/event/queer-in-christ/2025-05-11/
LOCATION:Chapel of the Holy Spirit
CATEGORIES:Ministry,Social
END:VEVENT
BEGIN:VEVENT
DTSTART;TZID=America/Los_Angeles:20250507T120000
DTEND;TZID=America/Los_Angeles:20250507T130000
DTSTAMP:20260424T134709
CREATED:20250304T212210Z
LAST-MODIFIED:20251205T235206Z
UID:10001402-1746619200-1746622800@www.stlukessanlucas.org
SUMMARY:Healing Service
DESCRIPTION:
URL:https://www.stlukessanlucas.org/event/healing-service/2025-05-07/
LOCATION:Chapel of the Holy Spirit
END:VEVENT
BEGIN:VEVENT
DTSTART;TZID=America/Los_Angeles:20250507T110000
DTEND;TZID=America/Los_Angeles:20250507T120000
DTSTAMP:20260424T134709
CREATED:20250304T212032Z
LAST-MODIFIED:20251205T235100Z
UID:10001141-1746615600-1746619200@www.stlukessanlucas.org
SUMMARY:Bible Study
DESCRIPTION:
URL:https://www.stlukessanlucas.org/event/bible-study/2025-05-07/
LOCATION:Chapel of the Holy Spirit
END:VEVENT
BEGIN:VEVENT
DTSTART;TZID=America/Los_Angeles:20250430T120000
DTEND;TZID=America/Los_Angeles:20250430T130000
DTSTAMP:20260424T134709
CREATED:20250304T212210Z
LAST-MODIFIED:20251205T235206Z
UID:10001401-1746014400-1746018000@www.stlukessanlucas.org
SUMMARY:Healing Service
DESCRIPTION:
URL:https://www.stlukessanlucas.org/event/healing-service/2025-04-30/
LOCATION:Chapel of the Holy Spirit
END:VEVENT
BEGIN:VEVENT
DTSTART;TZID=America/Los_Angeles:20250430T110000
DTEND;TZID=America/Los_Angeles:20250430T120000
DTSTAMP:20260424T134709
CREATED:20250304T212032Z
LAST-MODIFIED:20251205T235100Z
UID:10001140-1746010800-1746014400@www.stlukessanlucas.org
SUMMARY:Bible Study
DESCRIPTION:
URL:https://www.stlukessanlucas.org/event/bible-study/2025-04-30/
LOCATION:Chapel of the Holy Spirit
END:VEVENT
BEGIN:VEVENT
DTSTART;TZID=America/Los_Angeles:20250423T120000
DTEND;TZID=America/Los_Angeles:20250423T130000
DTSTAMP:20260424T134709
CREATED:20250304T212210Z
LAST-MODIFIED:20251205T235206Z
UID:10001400-1745409600-1745413200@www.stlukessanlucas.org
SUMMARY:Healing Service
DESCRIPTION:
URL:https://www.stlukessanlucas.org/event/healing-service/2025-04-23/
LOCATION:Chapel of the Holy Spirit
END:VEVENT
BEGIN:VEVENT
DTSTART;TZID=America/Los_Angeles:20250423T110000
DTEND;TZID=America/Los_Angeles:20250423T120000
DTSTAMP:20260424T134709
CREATED:20250304T212032Z
LAST-MODIFIED:20251205T235100Z
UID:10001139-1745406000-1745409600@www.stlukessanlucas.org
SUMMARY:Bible Study
DESCRIPTION:
URL:https://www.stlukessanlucas.org/event/bible-study/2025-04-23/
LOCATION:Chapel of the Holy Spirit
END:VEVENT
BEGIN:VEVENT
DTSTART;TZID=America/Los_Angeles:20250416T120000
DTEND;TZID=America/Los_Angeles:20250416T130000
DTSTAMP:20260424T134709
CREATED:20250304T212210Z
LAST-MODIFIED:20251205T235206Z
UID:10001399-1744804800-1744808400@www.stlukessanlucas.org
SUMMARY:Healing Service
DESCRIPTION:
URL:https://www.stlukessanlucas.org/event/healing-service/2025-04-16/
LOCATION:Chapel of the Holy Spirit
END:VEVENT
BEGIN:VEVENT
DTSTART;TZID=America/Los_Angeles:20250416T110000
DTEND;TZID=America/Los_Angeles:20250416T120000
DTSTAMP:20260424T134709
CREATED:20250304T212032Z
LAST-MODIFIED:20251205T235100Z
UID:10001138-1744801200-1744804800@www.stlukessanlucas.org
SUMMARY:Bible Study
DESCRIPTION:
URL:https://www.stlukessanlucas.org/event/bible-study/2025-04-16/
LOCATION:Chapel of the Holy Spirit
END:VEVENT
BEGIN:VEVENT
DTSTART;TZID=America/Los_Angeles:20250413T190000
DTEND;TZID=America/Los_Angeles:20250413T203000
DTSTAMP:20260424T134709
CREATED:20250328T122447Z
LAST-MODIFIED:20250414T224555Z
UID:10002153-1744570800-1744576200@www.stlukessanlucas.org
SUMMARY:Queer in Christ
DESCRIPTION:A safe place to connect with others.
URL:https://www.stlukessanlucas.org/event/queer-in-christ/2025-04-13/
LOCATION:Chapel of the Holy Spirit
CATEGORIES:Ministry,Social
END:VEVENT
BEGIN:VEVENT
DTSTART;TZID=America/Los_Angeles:20250409T120000
DTEND;TZID=America/Los_Angeles:20250409T130000
DTSTAMP:20260424T134709
CREATED:20250304T212210Z
LAST-MODIFIED:20251205T235206Z
UID:10001398-1744200000-1744203600@www.stlukessanlucas.org
SUMMARY:Healing Service
DESCRIPTION:
URL:https://www.stlukessanlucas.org/event/healing-service/2025-04-09/
LOCATION:Chapel of the Holy Spirit
END:VEVENT
BEGIN:VEVENT
DTSTART;TZID=America/Los_Angeles:20250409T110000
DTEND;TZID=America/Los_Angeles:20250409T120000
DTSTAMP:20260424T134709
CREATED:20250304T212032Z
LAST-MODIFIED:20251205T235100Z
UID:10001137-1744196400-1744200000@www.stlukessanlucas.org
SUMMARY:Bible Study
DESCRIPTION:
URL:https://www.stlukessanlucas.org/event/bible-study/2025-04-09/
LOCATION:Chapel of the Holy Spirit
END:VEVENT
BEGIN:VEVENT
DTSTART;TZID=America/Los_Angeles:20250402T120000
DTEND;TZID=America/Los_Angeles:20250402T130000
DTSTAMP:20260424T134709
CREATED:20250304T212210Z
LAST-MODIFIED:20251205T235206Z
UID:10001397-1743595200-1743598800@www.stlukessanlucas.org
SUMMARY:Healing Service
DESCRIPTION:
URL:https://www.stlukessanlucas.org/event/healing-service/2025-04-02/
LOCATION:Chapel of the Holy Spirit
END:VEVENT
BEGIN:VEVENT
DTSTART;TZID=America/Los_Angeles:20250402T110000
DTEND;TZID=America/Los_Angeles:20250402T120000
DTSTAMP:20260424T134709
CREATED:20250304T212032Z
LAST-MODIFIED:20251205T235100Z
UID:10001136-1743591600-1743595200@www.stlukessanlucas.org
SUMMARY:Bible Study
DESCRIPTION:
URL:https://www.stlukessanlucas.org/event/bible-study/2025-04-02/
LOCATION:Chapel of the Holy Spirit
END:VEVENT
BEGIN:VEVENT
DTSTART;TZID=America/Los_Angeles:20250326T120000
DTEND;TZID=America/Los_Angeles:20250326T130000
DTSTAMP:20260424T134709
CREATED:20250304T212210Z
LAST-MODIFIED:20251205T235206Z
UID:10001396-1742990400-1742994000@www.stlukessanlucas.org
SUMMARY:Healing Service
DESCRIPTION:
URL:https://www.stlukessanlucas.org/event/healing-service/2025-03-26/
LOCATION:Chapel of the Holy Spirit
END:VEVENT
BEGIN:VEVENT
DTSTART;TZID=America/Los_Angeles:20250326T110000
DTEND;TZID=America/Los_Angeles:20250326T120000
DTSTAMP:20260424T134709
CREATED:20250304T212032Z
LAST-MODIFIED:20251205T235100Z
UID:10001135-1742986800-1742990400@www.stlukessanlucas.org
SUMMARY:Bible Study
DESCRIPTION:
URL:https://www.stlukessanlucas.org/event/bible-study/2025-03-26/
LOCATION:Chapel of the Holy Spirit
END:VEVENT
BEGIN:VEVENT
DTSTART;TZID=America/Los_Angeles:20250319T120000
DTEND;TZID=America/Los_Angeles:20250319T130000
DTSTAMP:20260424T134709
CREATED:20250304T212210Z
LAST-MODIFIED:20251205T235206Z
UID:10001395-1742385600-1742389200@www.stlukessanlucas.org
SUMMARY:Healing Service
DESCRIPTION:
URL:https://www.stlukessanlucas.org/event/healing-service/2025-03-19/
LOCATION:Chapel of the Holy Spirit
END:VEVENT
BEGIN:VEVENT
DTSTART;TZID=America/Los_Angeles:20250319T110000
DTEND;TZID=America/Los_Angeles:20250319T120000
DTSTAMP:20260424T134709
CREATED:20250304T212032Z
LAST-MODIFIED:20251205T235100Z
UID:10001134-1742382000-1742385600@www.stlukessanlucas.org
SUMMARY:Bible Study
DESCRIPTION:
URL:https://www.stlukessanlucas.org/event/bible-study/2025-03-19/
LOCATION:Chapel of the Holy Spirit
END:VEVENT
BEGIN:VEVENT
DTSTART;TZID=America/Los_Angeles:20250312T120000
DTEND;TZID=America/Los_Angeles:20250312T130000
DTSTAMP:20260424T134709
CREATED:20250304T212210Z
LAST-MODIFIED:20251205T235206Z
UID:10001394-1741780800-1741784400@www.stlukessanlucas.org
SUMMARY:Healing Service
DESCRIPTION:
URL:https://www.stlukessanlucas.org/event/healing-service/2025-03-12/
LOCATION:Chapel of the Holy Spirit
END:VEVENT
BEGIN:VEVENT
DTSTART;TZID=America/Los_Angeles:20250312T110000
DTEND;TZID=America/Los_Angeles:20250312T120000
DTSTAMP:20260424T134709
CREATED:20250304T212032Z
LAST-MODIFIED:20251205T235100Z
UID:10001133-1741777200-1741780800@www.stlukessanlucas.org
SUMMARY:Bible Study
DESCRIPTION:
URL:https://www.stlukessanlucas.org/event/bible-study/2025-03-12/
LOCATION:Chapel of the Holy Spirit
END:VEVENT
BEGIN:VEVENT
DTSTART;TZID=America/Los_Angeles:20250305T120000
DTEND;TZID=America/Los_Angeles:20250305T130000
DTSTAMP:20260424T134709
CREATED:20250304T212210Z
LAST-MODIFIED:20251205T235206Z
UID:10001393-1741176000-1741179600@www.stlukessanlucas.org
SUMMARY:Healing Service
DESCRIPTION:
URL:https://www.stlukessanlucas.org/event/healing-service/2025-03-05/
LOCATION:Chapel of the Holy Spirit
END:VEVENT
END:VCALENDAR