BEGIN:VCALENDAR
VERSION:2.0
PRODID:-//St. Luke&#039;s ~ San Lucas - ECPv6.15.19//NONSGML v1.0//EN
CALSCALE:GREGORIAN
METHOD:PUBLISH
X-WR-CALNAME:St. Luke&#039;s ~ San Lucas
X-ORIGINAL-URL:https://www.stlukessanlucas.org
X-WR-CALDESC:Events for St. Luke&#039;s ~ San Lucas
REFRESH-INTERVAL;VALUE=DURATION:PT1H
X-Robots-Tag:noindex
X-PUBLISHED-TTL:PT1H
BEGIN:VTIMEZONE
TZID:America/Los_Angeles
BEGIN:DAYLIGHT
TZOFFSETFROM:-0800
TZOFFSETTO:-0700
TZNAME:PDT
DTSTART:20260308T100000
END:DAYLIGHT
BEGIN:STANDARD
TZOFFSETFROM:-0700
TZOFFSETTO:-0800
TZNAME:PST
DTSTART:20261101T090000
END:STANDARD
BEGIN:DAYLIGHT
TZOFFSETFROM:-0800
TZOFFSETTO:-0700
TZNAME:PDT
DTSTART:20270314T100000
END:DAYLIGHT
BEGIN:STANDARD
TZOFFSETFROM:-0700
TZOFFSETTO:-0800
TZNAME:PST
DTSTART:20271107T090000
END:STANDARD
BEGIN:DAYLIGHT
TZOFFSETFROM:-0800
TZOFFSETTO:-0700
TZNAME:PDT
DTSTART:20280312T100000
END:DAYLIGHT
BEGIN:STANDARD
TZOFFSETFROM:-0700
TZOFFSETTO:-0800
TZNAME:PST
DTSTART:20281105T090000
END:STANDARD
BEGIN:DAYLIGHT
TZOFFSETFROM:-0800
TZOFFSETTO:-0700
TZNAME:PDT
DTSTART:20290311T100000
END:DAYLIGHT
BEGIN:STANDARD
TZOFFSETFROM:-0700
TZOFFSETTO:-0800
TZNAME:PST
DTSTART:20291104T090000
END:STANDARD
BEGIN:DAYLIGHT
TZOFFSETFROM:-0800
TZOFFSETTO:-0700
TZNAME:PDT
DTSTART:20300310T100000
END:DAYLIGHT
BEGIN:STANDARD
TZOFFSETFROM:-0700
TZOFFSETTO:-0800
TZNAME:PST
DTSTART:20301103T090000
END:STANDARD
END:VTIMEZONE
BEGIN:VEVENT
DTSTART;TZID=America/Los_Angeles:20270310T133000
DTEND;TZID=America/Los_Angeles:20270310T150000
DTSTAMP:20260424T001058
CREATED:20250616T212722Z
LAST-MODIFIED:20260325T224851Z
UID:10006424-1804685400-1804690800@www.stlukessanlucas.org
SUMMARY:Pastoral Care Meeting
DESCRIPTION:
URL:https://www.stlukessanlucas.org/event/pastoral-care-meeting-2/2027-03-10/
LOCATION:Library
END:VEVENT
BEGIN:VEVENT
DTSTART;TZID=America/Los_Angeles:20270414T133000
DTEND;TZID=America/Los_Angeles:20270414T150000
DTSTAMP:20260424T001058
CREATED:20250616T212722Z
LAST-MODIFIED:20260325T224851Z
UID:10006425-1807709400-1807714800@www.stlukessanlucas.org
SUMMARY:Pastoral Care Meeting
DESCRIPTION:
URL:https://www.stlukessanlucas.org/event/pastoral-care-meeting-2/2027-04-14/
LOCATION:Library
END:VEVENT
BEGIN:VEVENT
DTSTART;TZID=America/Los_Angeles:20270512T133000
DTEND;TZID=America/Los_Angeles:20270512T150000
DTSTAMP:20260424T001058
CREATED:20250616T212722Z
LAST-MODIFIED:20260325T224851Z
UID:10006426-1810128600-1810134000@www.stlukessanlucas.org
SUMMARY:Pastoral Care Meeting
DESCRIPTION:
URL:https://www.stlukessanlucas.org/event/pastoral-care-meeting-2/2027-05-12/
LOCATION:Library
END:VEVENT
BEGIN:VEVENT
DTSTART;TZID=America/Los_Angeles:20270609T133000
DTEND;TZID=America/Los_Angeles:20270609T150000
DTSTAMP:20260424T001058
CREATED:20250616T212722Z
LAST-MODIFIED:20260325T224851Z
UID:10006427-1812547800-1812553200@www.stlukessanlucas.org
SUMMARY:Pastoral Care Meeting
DESCRIPTION:
URL:https://www.stlukessanlucas.org/event/pastoral-care-meeting-2/2027-06-09/
LOCATION:Library
END:VEVENT
BEGIN:VEVENT
DTSTART;TZID=America/Los_Angeles:20270714T133000
DTEND;TZID=America/Los_Angeles:20270714T150000
DTSTAMP:20260424T001058
CREATED:20250616T212722Z
LAST-MODIFIED:20260325T224851Z
UID:10006428-1815571800-1815577200@www.stlukessanlucas.org
SUMMARY:Pastoral Care Meeting
DESCRIPTION:
URL:https://www.stlukessanlucas.org/event/pastoral-care-meeting-2/2027-07-14/
LOCATION:Library
END:VEVENT
BEGIN:VEVENT
DTSTART;TZID=America/Los_Angeles:20270811T133000
DTEND;TZID=America/Los_Angeles:20270811T150000
DTSTAMP:20260424T001058
CREATED:20250616T212722Z
LAST-MODIFIED:20260325T224851Z
UID:10006429-1817991000-1817996400@www.stlukessanlucas.org
SUMMARY:Pastoral Care Meeting
DESCRIPTION:
URL:https://www.stlukessanlucas.org/event/pastoral-care-meeting-2/2027-08-11/
LOCATION:Library
END:VEVENT
BEGIN:VEVENT
DTSTART;TZID=America/Los_Angeles:20270908T133000
DTEND;TZID=America/Los_Angeles:20270908T150000
DTSTAMP:20260424T001058
CREATED:20250616T212722Z
LAST-MODIFIED:20260325T224851Z
UID:10006430-1820410200-1820415600@www.stlukessanlucas.org
SUMMARY:Pastoral Care Meeting
DESCRIPTION:
URL:https://www.stlukessanlucas.org/event/pastoral-care-meeting-2/2027-09-08/
LOCATION:Library
END:VEVENT
BEGIN:VEVENT
DTSTART;TZID=America/Los_Angeles:20271013T133000
DTEND;TZID=America/Los_Angeles:20271013T150000
DTSTAMP:20260424T001058
CREATED:20250616T212722Z
LAST-MODIFIED:20260325T224851Z
UID:10006431-1823434200-1823439600@www.stlukessanlucas.org
SUMMARY:Pastoral Care Meeting
DESCRIPTION:
URL:https://www.stlukessanlucas.org/event/pastoral-care-meeting-2/2027-10-13/
LOCATION:Library
END:VEVENT
BEGIN:VEVENT
DTSTART;TZID=America/Los_Angeles:20271110T133000
DTEND;TZID=America/Los_Angeles:20271110T150000
DTSTAMP:20260424T001058
CREATED:20250616T212722Z
LAST-MODIFIED:20260325T224851Z
UID:10006432-1825853400-1825858800@www.stlukessanlucas.org
SUMMARY:Pastoral Care Meeting
DESCRIPTION:
URL:https://www.stlukessanlucas.org/event/pastoral-care-meeting-2/2027-11-10/
LOCATION:Library
END:VEVENT
BEGIN:VEVENT
DTSTART;TZID=America/Los_Angeles:20271208T133000
DTEND;TZID=America/Los_Angeles:20271208T150000
DTSTAMP:20260424T001058
CREATED:20250616T212722Z
LAST-MODIFIED:20260325T224851Z
UID:10006433-1828272600-1828278000@www.stlukessanlucas.org
SUMMARY:Pastoral Care Meeting
DESCRIPTION:
URL:https://www.stlukessanlucas.org/event/pastoral-care-meeting-2/2027-12-08/
LOCATION:Library
END:VEVENT
BEGIN:VEVENT
DTSTART;TZID=America/Los_Angeles:20280112T133000
DTEND;TZID=America/Los_Angeles:20280112T150000
DTSTAMP:20260424T001058
CREATED:20250616T212722Z
LAST-MODIFIED:20260325T224851Z
UID:10006434-1831296600-1831302000@www.stlukessanlucas.org
SUMMARY:Pastoral Care Meeting
DESCRIPTION:
URL:https://www.stlukessanlucas.org/event/pastoral-care-meeting-2/2028-01-12/
LOCATION:Library
END:VEVENT
BEGIN:VEVENT
DTSTART;TZID=America/Los_Angeles:20280209T133000
DTEND;TZID=America/Los_Angeles:20280209T150000
DTSTAMP:20260424T001058
CREATED:20250616T212722Z
LAST-MODIFIED:20260325T224851Z
UID:10006435-1833715800-1833721200@www.stlukessanlucas.org
SUMMARY:Pastoral Care Meeting
DESCRIPTION:
URL:https://www.stlukessanlucas.org/event/pastoral-care-meeting-2/2028-02-09/
LOCATION:Library
END:VEVENT
BEGIN:VEVENT
DTSTART;TZID=America/Los_Angeles:20280308T133000
DTEND;TZID=America/Los_Angeles:20280308T150000
DTSTAMP:20260424T001058
CREATED:20250616T212722Z
LAST-MODIFIED:20260325T224851Z
UID:10006436-1836135000-1836140400@www.stlukessanlucas.org
SUMMARY:Pastoral Care Meeting
DESCRIPTION:
URL:https://www.stlukessanlucas.org/event/pastoral-care-meeting-2/2028-03-08/
LOCATION:Library
END:VEVENT
BEGIN:VEVENT
DTSTART;TZID=America/Los_Angeles:20280412T133000
DTEND;TZID=America/Los_Angeles:20280412T150000
DTSTAMP:20260424T001058
CREATED:20250616T212722Z
LAST-MODIFIED:20260325T224851Z
UID:10006437-1839159000-1839164400@www.stlukessanlucas.org
SUMMARY:Pastoral Care Meeting
DESCRIPTION:
URL:https://www.stlukessanlucas.org/event/pastoral-care-meeting-2/2028-04-12/
LOCATION:Library
END:VEVENT
BEGIN:VEVENT
DTSTART;TZID=America/Los_Angeles:20280510T133000
DTEND;TZID=America/Los_Angeles:20280510T150000
DTSTAMP:20260424T001058
CREATED:20250616T212722Z
LAST-MODIFIED:20260325T224851Z
UID:10006438-1841578200-1841583600@www.stlukessanlucas.org
SUMMARY:Pastoral Care Meeting
DESCRIPTION:
URL:https://www.stlukessanlucas.org/event/pastoral-care-meeting-2/2028-05-10/
LOCATION:Library
END:VEVENT
BEGIN:VEVENT
DTSTART;TZID=America/Los_Angeles:20280614T133000
DTEND;TZID=America/Los_Angeles:20280614T150000
DTSTAMP:20260424T001058
CREATED:20250616T212722Z
LAST-MODIFIED:20260325T224851Z
UID:10006439-1844602200-1844607600@www.stlukessanlucas.org
SUMMARY:Pastoral Care Meeting
DESCRIPTION:
URL:https://www.stlukessanlucas.org/event/pastoral-care-meeting-2/2028-06-14/
LOCATION:Library
END:VEVENT
BEGIN:VEVENT
DTSTART;TZID=America/Los_Angeles:20280712T133000
DTEND;TZID=America/Los_Angeles:20280712T150000
DTSTAMP:20260424T001058
CREATED:20250616T212722Z
LAST-MODIFIED:20260325T224851Z
UID:10006440-1847021400-1847026800@www.stlukessanlucas.org
SUMMARY:Pastoral Care Meeting
DESCRIPTION:
URL:https://www.stlukessanlucas.org/event/pastoral-care-meeting-2/2028-07-12/
LOCATION:Library
END:VEVENT
BEGIN:VEVENT
DTSTART;TZID=America/Los_Angeles:20280809T133000
DTEND;TZID=America/Los_Angeles:20280809T150000
DTSTAMP:20260424T001058
CREATED:20250616T212722Z
LAST-MODIFIED:20260325T224851Z
UID:10006441-1849440600-1849446000@www.stlukessanlucas.org
SUMMARY:Pastoral Care Meeting
DESCRIPTION:
URL:https://www.stlukessanlucas.org/event/pastoral-care-meeting-2/2028-08-09/
LOCATION:Library
END:VEVENT
BEGIN:VEVENT
DTSTART;TZID=America/Los_Angeles:20280913T133000
DTEND;TZID=America/Los_Angeles:20280913T150000
DTSTAMP:20260424T001058
CREATED:20250616T212722Z
LAST-MODIFIED:20260325T224851Z
UID:10006442-1852464600-1852470000@www.stlukessanlucas.org
SUMMARY:Pastoral Care Meeting
DESCRIPTION:
URL:https://www.stlukessanlucas.org/event/pastoral-care-meeting-2/2028-09-13/
LOCATION:Library
END:VEVENT
BEGIN:VEVENT
DTSTART;TZID=America/Los_Angeles:20281011T133000
DTEND;TZID=America/Los_Angeles:20281011T150000
DTSTAMP:20260424T001058
CREATED:20250616T212722Z
LAST-MODIFIED:20260325T224851Z
UID:10006443-1854883800-1854889200@www.stlukessanlucas.org
SUMMARY:Pastoral Care Meeting
DESCRIPTION:
URL:https://www.stlukessanlucas.org/event/pastoral-care-meeting-2/2028-10-11/
LOCATION:Library
END:VEVENT
BEGIN:VEVENT
DTSTART;TZID=America/Los_Angeles:20281108T133000
DTEND;TZID=America/Los_Angeles:20281108T150000
DTSTAMP:20260424T001058
CREATED:20250616T212722Z
LAST-MODIFIED:20260325T224851Z
UID:10006444-1857303000-1857308400@www.stlukessanlucas.org
SUMMARY:Pastoral Care Meeting
DESCRIPTION:
URL:https://www.stlukessanlucas.org/event/pastoral-care-meeting-2/2028-11-08/
LOCATION:Library
END:VEVENT
BEGIN:VEVENT
DTSTART;TZID=America/Los_Angeles:20281213T133000
DTEND;TZID=America/Los_Angeles:20281213T150000
DTSTAMP:20260424T001058
CREATED:20250616T212722Z
LAST-MODIFIED:20260325T224851Z
UID:10006445-1860327000-1860332400@www.stlukessanlucas.org
SUMMARY:Pastoral Care Meeting
DESCRIPTION:
URL:https://www.stlukessanlucas.org/event/pastoral-care-meeting-2/2028-12-13/
LOCATION:Library
END:VEVENT
BEGIN:VEVENT
DTSTART;TZID=America/Los_Angeles:20290110T133000
DTEND;TZID=America/Los_Angeles:20290110T150000
DTSTAMP:20260424T001058
CREATED:20250616T212722Z
LAST-MODIFIED:20260325T224851Z
UID:10006446-1862746200-1862751600@www.stlukessanlucas.org
SUMMARY:Pastoral Care Meeting
DESCRIPTION:
URL:https://www.stlukessanlucas.org/event/pastoral-care-meeting-2/2029-01-10/
LOCATION:Library
END:VEVENT
BEGIN:VEVENT
DTSTART;TZID=America/Los_Angeles:20290214T133000
DTEND;TZID=America/Los_Angeles:20290214T150000
DTSTAMP:20260424T001058
CREATED:20250616T212722Z
LAST-MODIFIED:20260325T224851Z
UID:10006447-1865770200-1865775600@www.stlukessanlucas.org
SUMMARY:Pastoral Care Meeting
DESCRIPTION:
URL:https://www.stlukessanlucas.org/event/pastoral-care-meeting-2/2029-02-14/
LOCATION:Library
END:VEVENT
BEGIN:VEVENT
DTSTART;TZID=America/Los_Angeles:20290314T133000
DTEND;TZID=America/Los_Angeles:20290314T150000
DTSTAMP:20260424T001058
CREATED:20250616T212722Z
LAST-MODIFIED:20260325T224851Z
UID:10006448-1868189400-1868194800@www.stlukessanlucas.org
SUMMARY:Pastoral Care Meeting
DESCRIPTION:
URL:https://www.stlukessanlucas.org/event/pastoral-care-meeting-2/2029-03-14/
LOCATION:Library
END:VEVENT
BEGIN:VEVENT
DTSTART;TZID=America/Los_Angeles:20290411T133000
DTEND;TZID=America/Los_Angeles:20290411T150000
DTSTAMP:20260424T001058
CREATED:20250616T212722Z
LAST-MODIFIED:20260325T224851Z
UID:10006449-1870608600-1870614000@www.stlukessanlucas.org
SUMMARY:Pastoral Care Meeting
DESCRIPTION:
URL:https://www.stlukessanlucas.org/event/pastoral-care-meeting-2/2029-04-11/
LOCATION:Library
END:VEVENT
BEGIN:VEVENT
DTSTART;TZID=America/Los_Angeles:20290509T133000
DTEND;TZID=America/Los_Angeles:20290509T150000
DTSTAMP:20260424T001058
CREATED:20250616T212722Z
LAST-MODIFIED:20260325T224851Z
UID:10006450-1873027800-1873033200@www.stlukessanlucas.org
SUMMARY:Pastoral Care Meeting
DESCRIPTION:
URL:https://www.stlukessanlucas.org/event/pastoral-care-meeting-2/2029-05-09/
LOCATION:Library
END:VEVENT
BEGIN:VEVENT
DTSTART;TZID=America/Los_Angeles:20290613T133000
DTEND;TZID=America/Los_Angeles:20290613T150000
DTSTAMP:20260424T001058
CREATED:20250616T212722Z
LAST-MODIFIED:20260325T224851Z
UID:10006451-1876051800-1876057200@www.stlukessanlucas.org
SUMMARY:Pastoral Care Meeting
DESCRIPTION:
URL:https://www.stlukessanlucas.org/event/pastoral-care-meeting-2/2029-06-13/
LOCATION:Library
END:VEVENT
BEGIN:VEVENT
DTSTART;TZID=America/Los_Angeles:20290711T133000
DTEND;TZID=America/Los_Angeles:20290711T150000
DTSTAMP:20260424T001058
CREATED:20250616T212722Z
LAST-MODIFIED:20260325T224851Z
UID:10006452-1878471000-1878476400@www.stlukessanlucas.org
SUMMARY:Pastoral Care Meeting
DESCRIPTION:
URL:https://www.stlukessanlucas.org/event/pastoral-care-meeting-2/2029-07-11/
LOCATION:Library
END:VEVENT
BEGIN:VEVENT
DTSTART;TZID=America/Los_Angeles:20290808T133000
DTEND;TZID=America/Los_Angeles:20290808T150000
DTSTAMP:20260424T001058
CREATED:20250616T212722Z
LAST-MODIFIED:20260325T224851Z
UID:10006453-1880890200-1880895600@www.stlukessanlucas.org
SUMMARY:Pastoral Care Meeting
DESCRIPTION:
URL:https://www.stlukessanlucas.org/event/pastoral-care-meeting-2/2029-08-08/
LOCATION:Library
END:VEVENT
END:VCALENDAR