BEGIN:VCALENDAR
VERSION:2.0
PRODID:-//St. Luke&#039;s ~ San Lucas - ECPv6.15.19//NONSGML v1.0//EN
CALSCALE:GREGORIAN
METHOD:PUBLISH
X-WR-CALNAME:St. Luke&#039;s ~ San Lucas
X-ORIGINAL-URL:https://www.stlukessanlucas.org
X-WR-CALDESC:Events for St. Luke&#039;s ~ San Lucas
REFRESH-INTERVAL;VALUE=DURATION:PT1H
X-Robots-Tag:noindex
X-PUBLISHED-TTL:PT1H
BEGIN:VTIMEZONE
TZID:America/Los_Angeles
BEGIN:DAYLIGHT
TZOFFSETFROM:-0800
TZOFFSETTO:-0700
TZNAME:PDT
DTSTART:20290311T100000
END:DAYLIGHT
BEGIN:STANDARD
TZOFFSETFROM:-0700
TZOFFSETTO:-0800
TZNAME:PST
DTSTART:20291104T090000
END:STANDARD
BEGIN:DAYLIGHT
TZOFFSETFROM:-0800
TZOFFSETTO:-0700
TZNAME:PDT
DTSTART:20300310T100000
END:DAYLIGHT
BEGIN:STANDARD
TZOFFSETFROM:-0700
TZOFFSETTO:-0800
TZNAME:PST
DTSTART:20301103T090000
END:STANDARD
BEGIN:DAYLIGHT
TZOFFSETFROM:-0800
TZOFFSETTO:-0700
TZNAME:PDT
DTSTART:20310309T100000
END:DAYLIGHT
BEGIN:STANDARD
TZOFFSETFROM:-0700
TZOFFSETTO:-0800
TZNAME:PST
DTSTART:20311102T090000
END:STANDARD
BEGIN:DAYLIGHT
TZOFFSETFROM:-0800
TZOFFSETTO:-0700
TZNAME:PDT
DTSTART:20320314T100000
END:DAYLIGHT
BEGIN:STANDARD
TZOFFSETFROM:-0700
TZOFFSETTO:-0800
TZNAME:PST
DTSTART:20321107T090000
END:STANDARD
END:VTIMEZONE
BEGIN:VEVENT
DTSTART;TZID=America/Los_Angeles:20300710T133000
DTEND;TZID=America/Los_Angeles:20300710T150000
DTSTAMP:20260424T045911
CREATED:20250616T212722Z
LAST-MODIFIED:20260325T224851Z
UID:10006464-1909920600-1909926000@www.stlukessanlucas.org
SUMMARY:Pastoral Care Meeting
DESCRIPTION:
URL:https://www.stlukessanlucas.org/event/pastoral-care-meeting-2/2030-07-10/
LOCATION:Library
END:VEVENT
BEGIN:VEVENT
DTSTART;TZID=America/Los_Angeles:20300814T133000
DTEND;TZID=America/Los_Angeles:20300814T150000
DTSTAMP:20260424T045911
CREATED:20250616T212722Z
LAST-MODIFIED:20260325T224851Z
UID:10006465-1912944600-1912950000@www.stlukessanlucas.org
SUMMARY:Pastoral Care Meeting
DESCRIPTION:
URL:https://www.stlukessanlucas.org/event/pastoral-care-meeting-2/2030-08-14/
LOCATION:Library
END:VEVENT
BEGIN:VEVENT
DTSTART;TZID=America/Los_Angeles:20300911T133000
DTEND;TZID=America/Los_Angeles:20300911T150000
DTSTAMP:20260424T045911
CREATED:20250616T212722Z
LAST-MODIFIED:20260325T224851Z
UID:10006466-1915363800-1915369200@www.stlukessanlucas.org
SUMMARY:Pastoral Care Meeting
DESCRIPTION:
URL:https://www.stlukessanlucas.org/event/pastoral-care-meeting-2/2030-09-11/
LOCATION:Library
END:VEVENT
BEGIN:VEVENT
DTSTART;TZID=America/Los_Angeles:20301009T133000
DTEND;TZID=America/Los_Angeles:20301009T150000
DTSTAMP:20260424T045911
CREATED:20250616T212722Z
LAST-MODIFIED:20260325T224851Z
UID:10006467-1917783000-1917788400@www.stlukessanlucas.org
SUMMARY:Pastoral Care Meeting
DESCRIPTION:
URL:https://www.stlukessanlucas.org/event/pastoral-care-meeting-2/2030-10-09/
LOCATION:Library
END:VEVENT
BEGIN:VEVENT
DTSTART;TZID=America/Los_Angeles:20301113T133000
DTEND;TZID=America/Los_Angeles:20301113T150000
DTSTAMP:20260424T045911
CREATED:20250616T212722Z
LAST-MODIFIED:20260325T224851Z
UID:10006468-1920807000-1920812400@www.stlukessanlucas.org
SUMMARY:Pastoral Care Meeting
DESCRIPTION:
URL:https://www.stlukessanlucas.org/event/pastoral-care-meeting-2/2030-11-13/
LOCATION:Library
END:VEVENT
BEGIN:VEVENT
DTSTART;TZID=America/Los_Angeles:20301211T133000
DTEND;TZID=America/Los_Angeles:20301211T150000
DTSTAMP:20260424T045911
CREATED:20250616T212722Z
LAST-MODIFIED:20260325T224851Z
UID:10006469-1923226200-1923231600@www.stlukessanlucas.org
SUMMARY:Pastoral Care Meeting
DESCRIPTION:
URL:https://www.stlukessanlucas.org/event/pastoral-care-meeting-2/2030-12-11/
LOCATION:Library
END:VEVENT
BEGIN:VEVENT
DTSTART;TZID=America/Los_Angeles:20310108T133000
DTEND;TZID=America/Los_Angeles:20310108T150000
DTSTAMP:20260424T045911
CREATED:20250616T212722Z
LAST-MODIFIED:20260325T224851Z
UID:10007062-1925645400-1925650800@www.stlukessanlucas.org
SUMMARY:Pastoral Care Meeting
DESCRIPTION:
URL:https://www.stlukessanlucas.org/event/pastoral-care-meeting-2/2031-01-08/
LOCATION:Library
END:VEVENT
BEGIN:VEVENT
DTSTART;TZID=America/Los_Angeles:20310212T133000
DTEND;TZID=America/Los_Angeles:20310212T150000
DTSTAMP:20260424T045911
CREATED:20250616T212722Z
LAST-MODIFIED:20260325T224851Z
UID:10007063-1928669400-1928674800@www.stlukessanlucas.org
SUMMARY:Pastoral Care Meeting
DESCRIPTION:
URL:https://www.stlukessanlucas.org/event/pastoral-care-meeting-2/2031-02-12/
LOCATION:Library
END:VEVENT
BEGIN:VEVENT
DTSTART;TZID=America/Los_Angeles:20310312T133000
DTEND;TZID=America/Los_Angeles:20310312T150000
DTSTAMP:20260424T045911
CREATED:20250616T212722Z
LAST-MODIFIED:20260325T224851Z
UID:10007064-1931088600-1931094000@www.stlukessanlucas.org
SUMMARY:Pastoral Care Meeting
DESCRIPTION:
URL:https://www.stlukessanlucas.org/event/pastoral-care-meeting-2/2031-03-12/
LOCATION:Library
END:VEVENT
END:VCALENDAR