BEGIN:VCALENDAR
VERSION:2.0
PRODID:-//St. Luke&#039;s ~ San Lucas - ECPv6.15.19//NONSGML v1.0//EN
CALSCALE:GREGORIAN
METHOD:PUBLISH
X-WR-CALNAME:St. Luke&#039;s ~ San Lucas
X-ORIGINAL-URL:https://www.stlukessanlucas.org
X-WR-CALDESC:Events for St. Luke&#039;s ~ San Lucas
REFRESH-INTERVAL;VALUE=DURATION:PT1H
X-Robots-Tag:noindex
X-PUBLISHED-TTL:PT1H
BEGIN:VTIMEZONE
TZID:America/Los_Angeles
BEGIN:DAYLIGHT
TZOFFSETFROM:-0800
TZOFFSETTO:-0700
TZNAME:PDT
DTSTART:20240310T100000
END:DAYLIGHT
BEGIN:STANDARD
TZOFFSETFROM:-0700
TZOFFSETTO:-0800
TZNAME:PST
DTSTART:20241103T090000
END:STANDARD
BEGIN:DAYLIGHT
TZOFFSETFROM:-0800
TZOFFSETTO:-0700
TZNAME:PDT
DTSTART:20250309T100000
END:DAYLIGHT
BEGIN:STANDARD
TZOFFSETFROM:-0700
TZOFFSETTO:-0800
TZNAME:PST
DTSTART:20251102T090000
END:STANDARD
BEGIN:DAYLIGHT
TZOFFSETFROM:-0800
TZOFFSETTO:-0700
TZNAME:PDT
DTSTART:20260308T100000
END:DAYLIGHT
BEGIN:STANDARD
TZOFFSETFROM:-0700
TZOFFSETTO:-0800
TZNAME:PST
DTSTART:20261101T090000
END:STANDARD
BEGIN:DAYLIGHT
TZOFFSETFROM:-0800
TZOFFSETTO:-0700
TZNAME:PDT
DTSTART:20270314T100000
END:DAYLIGHT
BEGIN:STANDARD
TZOFFSETFROM:-0700
TZOFFSETTO:-0800
TZNAME:PST
DTSTART:20271107T090000
END:STANDARD
END:VTIMEZONE
BEGIN:VEVENT
DTSTART;TZID=America/Los_Angeles:20260327T173000
DTEND;TZID=America/Los_Angeles:20260327T200000
DTSTAMP:20260424T084532
CREATED:20251104T222416Z
LAST-MODIFIED:20251104T222416Z
UID:10002748-1774632600-1774641600@www.stlukessanlucas.org
SUMMARY:Friday Night Live!
DESCRIPTION:This adult-only evening is a chance for people to share a meal and conversation. Monthly hosts choose a theme and coordinate the potluck A sign up sheet is in the Parish Hall.
URL:https://www.stlukessanlucas.org/event/friday-night-live-2/2026-03-27/
LOCATION:Parish Hall
CATEGORIES:Social
END:VEVENT
BEGIN:VEVENT
DTSTART;TZID=America/Los_Angeles:20260227T173000
DTEND;TZID=America/Los_Angeles:20260227T200000
DTSTAMP:20260424T084532
CREATED:20251104T222416Z
LAST-MODIFIED:20251104T222416Z
UID:10002747-1772213400-1772222400@www.stlukessanlucas.org
SUMMARY:Friday Night Live!
DESCRIPTION:This adult-only evening is a chance for people to share a meal and conversation. Monthly hosts choose a theme and coordinate the potluck A sign up sheet is in the Parish Hall.
URL:https://www.stlukessanlucas.org/event/friday-night-live-2/2026-02-27/
LOCATION:Parish Hall
CATEGORIES:Social
END:VEVENT
BEGIN:VEVENT
DTSTART;TZID=America/Los_Angeles:20260123T173000
DTEND;TZID=America/Los_Angeles:20260123T200000
DTSTAMP:20260424T084532
CREATED:20251104T222416Z
LAST-MODIFIED:20251104T222416Z
UID:10002746-1769189400-1769198400@www.stlukessanlucas.org
SUMMARY:Friday Night Live!
DESCRIPTION:This adult-only evening is a chance for people to share a meal and conversation. Monthly hosts choose a theme and coordinate the potluck A sign up sheet is in the Parish Hall.
URL:https://www.stlukessanlucas.org/event/friday-night-live-2/2026-01-23/
LOCATION:Parish Hall
CATEGORIES:Social
END:VEVENT
BEGIN:VEVENT
DTSTART;TZID=America/Los_Angeles:20251128T173000
DTEND;TZID=America/Los_Angeles:20251128T200000
DTSTAMP:20260424T084532
CREATED:20251104T222416Z
LAST-MODIFIED:20251104T222416Z
UID:10002744-1764351000-1764360000@www.stlukessanlucas.org
SUMMARY:Friday Night Live!
DESCRIPTION:This adult-only evening is a chance for people to share a meal and conversation. Monthly hosts choose a theme and coordinate the potluck A sign up sheet is in the Parish Hall.
URL:https://www.stlukessanlucas.org/event/friday-night-live-2/2025-11-28/
LOCATION:Parish Hall
CATEGORIES:Social
END:VEVENT
BEGIN:VEVENT
DTSTART;TZID=America/Los_Angeles:20251024T173000
DTEND;TZID=America/Los_Angeles:20251024T200000
DTSTAMP:20260424T084532
CREATED:20250304T214926Z
LAST-MODIFIED:20250801T225539Z
UID:10002743-1761327000-1761336000@www.stlukessanlucas.org
SUMMARY:Friday Night Live!
DESCRIPTION:This adult-only evening is a chance for people to share a meal and conversation. Monthly hosts choose a theme and coordinate the potluck A sign up sheet is in the Parish Hall.
URL:https://www.stlukessanlucas.org/event/friday-night-live/2025-10-24/
LOCATION:Parish Hall
CATEGORIES:Social
END:VEVENT
BEGIN:VEVENT
DTSTART;TZID=America/Los_Angeles:20250926T173000
DTEND;TZID=America/Los_Angeles:20250926T200000
DTSTAMP:20260424T084532
CREATED:20250304T214926Z
LAST-MODIFIED:20250801T225539Z
UID:10002742-1758907800-1758916800@www.stlukessanlucas.org
SUMMARY:Friday Night Live!
DESCRIPTION:This adult-only evening is a chance for people to share a meal and conversation. Monthly hosts choose a theme and coordinate the potluck A sign up sheet is in the Parish Hall.
URL:https://www.stlukessanlucas.org/event/friday-night-live/2025-09-26/
LOCATION:Parish Hall
CATEGORIES:Social
END:VEVENT
BEGIN:VEVENT
DTSTART;TZID=America/Los_Angeles:20250725T173000
DTEND;TZID=America/Los_Angeles:20250725T200000
DTSTAMP:20260424T084532
CREATED:20250304T214926Z
LAST-MODIFIED:20250801T225539Z
UID:10004245-1753464600-1753473600@www.stlukessanlucas.org
SUMMARY:Friday Night Live!
DESCRIPTION:This adult-only evening is a chance for people to share a meal and conversation. Monthly hosts choose a theme and coordinate the potluck A sign up sheet is in the Parish Hall.
URL:https://www.stlukessanlucas.org/event/friday-night-live/2025-07-25/
LOCATION:Parish Hall
CATEGORIES:Social
END:VEVENT
BEGIN:VEVENT
DTSTART;TZID=America/Los_Angeles:20250627T173000
DTEND;TZID=America/Los_Angeles:20250627T200000
DTSTAMP:20260424T084532
CREATED:20250304T214926Z
LAST-MODIFIED:20250801T225539Z
UID:10002739-1751045400-1751054400@www.stlukessanlucas.org
SUMMARY:Friday Night Live!
DESCRIPTION:This adult-only evening is a chance for people to share a meal and conversation. Monthly hosts choose a theme and coordinate the potluck A sign up sheet is in the Parish Hall.
URL:https://www.stlukessanlucas.org/event/friday-night-live/2025-06-27/
LOCATION:Parish Hall
CATEGORIES:Social
END:VEVENT
BEGIN:VEVENT
DTSTART;TZID=America/Los_Angeles:20250523T173000
DTEND;TZID=America/Los_Angeles:20250523T200000
DTSTAMP:20260424T084532
CREATED:20250304T214926Z
LAST-MODIFIED:20250801T225539Z
UID:10002738-1748021400-1748030400@www.stlukessanlucas.org
SUMMARY:Friday Night Live!
DESCRIPTION:This adult-only evening is a chance for people to share a meal and conversation. Monthly hosts choose a theme and coordinate the potluck A sign up sheet is in the Parish Hall.
URL:https://www.stlukessanlucas.org/event/friday-night-live/2025-05-23/
LOCATION:Parish Hall
CATEGORIES:Social
END:VEVENT
BEGIN:VEVENT
DTSTART;TZID=America/Los_Angeles:20250425T173000
DTEND;TZID=America/Los_Angeles:20250425T200000
DTSTAMP:20260424T084532
CREATED:20250304T214926Z
LAST-MODIFIED:20250801T225539Z
UID:10002737-1745602200-1745611200@www.stlukessanlucas.org
SUMMARY:Friday Night Live!
DESCRIPTION:This adult-only evening is a chance for people to share a meal and conversation. Monthly hosts choose a theme and coordinate the potluck A sign up sheet is in the Parish Hall.
URL:https://www.stlukessanlucas.org/event/friday-night-live/2025-04-25/
LOCATION:Parish Hall
CATEGORIES:Social
END:VEVENT
BEGIN:VEVENT
DTSTART;TZID=America/Los_Angeles:20250417T183000
DTEND;TZID=America/Los_Angeles:20250417T200000
DTSTAMP:20260424T084532
CREATED:20250325T171433Z
LAST-MODIFIED:20250325T171433Z
UID:10001822-1744914600-1744920000@www.stlukessanlucas.org
SUMMARY:Maundy Thursday
DESCRIPTION:A bilingual service will be followed by a potluck.
URL:https://www.stlukessanlucas.org/event/maundy-thursday/
LOCATION:St. Luke’s Episcopal Church\, 426 E 4th Plain Blvd. (360) 696-0181\, Vancouver\, WA\, 98663\, United States
CATEGORIES:Family,Worship
END:VEVENT
BEGIN:VEVENT
DTSTART;TZID=America/Los_Angeles:20250328T173000
DTEND;TZID=America/Los_Angeles:20250328T200000
DTSTAMP:20260424T084532
CREATED:20250304T214926Z
LAST-MODIFIED:20250801T225539Z
UID:10002736-1743183000-1743192000@www.stlukessanlucas.org
SUMMARY:Friday Night Live!
DESCRIPTION:This adult-only evening is a chance for people to share a meal and conversation. Monthly hosts choose a theme and coordinate the potluck A sign up sheet is in the Parish Hall.
URL:https://www.stlukessanlucas.org/event/friday-night-live/2025-03-28/3/
LOCATION:Parish Hall
CATEGORIES:Social
END:VEVENT
BEGIN:VEVENT
DTSTART;TZID=America/Los_Angeles:20250328T080000
DTEND;TZID=America/Los_Angeles:20250328T170000
DTSTAMP:20260424T084532
CREATED:20250304T214926Z
LAST-MODIFIED:20250801T225539Z
UID:10002091-1743148800-1743181200@www.stlukessanlucas.org
SUMMARY:Friday Night Live!
DESCRIPTION:This adult-only evening is a chance for people to share a meal and conversation. Monthly hosts choose a theme and coordinate the potluck A sign up sheet is in the Parish Hall.
URL:https://www.stlukessanlucas.org/event/friday-night-live/2025-03-28/1/
LOCATION:Parish Hall
CATEGORIES:Social
END:VEVENT
END:VCALENDAR