BEGIN:VCALENDAR
VERSION:2.0
PRODID:-//St. Luke&#039;s ~ San Lucas - ECPv6.15.19//NONSGML v1.0//EN
CALSCALE:GREGORIAN
METHOD:PUBLISH
X-WR-CALNAME:St. Luke&#039;s ~ San Lucas
X-ORIGINAL-URL:https://www.stlukessanlucas.org
X-WR-CALDESC:Events for St. Luke&#039;s ~ San Lucas
REFRESH-INTERVAL;VALUE=DURATION:PT1H
X-Robots-Tag:noindex
X-PUBLISHED-TTL:PT1H
BEGIN:VTIMEZONE
TZID:America/Los_Angeles
BEGIN:DAYLIGHT
TZOFFSETFROM:-0800
TZOFFSETTO:-0700
TZNAME:PDT
DTSTART:20260308T100000
END:DAYLIGHT
BEGIN:STANDARD
TZOFFSETFROM:-0700
TZOFFSETTO:-0800
TZNAME:PST
DTSTART:20261101T090000
END:STANDARD
BEGIN:DAYLIGHT
TZOFFSETFROM:-0800
TZOFFSETTO:-0700
TZNAME:PDT
DTSTART:20270314T100000
END:DAYLIGHT
BEGIN:STANDARD
TZOFFSETFROM:-0700
TZOFFSETTO:-0800
TZNAME:PST
DTSTART:20271107T090000
END:STANDARD
BEGIN:DAYLIGHT
TZOFFSETFROM:-0800
TZOFFSETTO:-0700
TZNAME:PDT
DTSTART:20280312T100000
END:DAYLIGHT
BEGIN:STANDARD
TZOFFSETFROM:-0700
TZOFFSETTO:-0800
TZNAME:PST
DTSTART:20281105T090000
END:STANDARD
BEGIN:DAYLIGHT
TZOFFSETFROM:-0800
TZOFFSETTO:-0700
TZNAME:PDT
DTSTART:20290311T100000
END:DAYLIGHT
BEGIN:STANDARD
TZOFFSETFROM:-0700
TZOFFSETTO:-0800
TZNAME:PST
DTSTART:20291104T090000
END:STANDARD
BEGIN:DAYLIGHT
TZOFFSETFROM:-0800
TZOFFSETTO:-0700
TZNAME:PDT
DTSTART:20300310T100000
END:DAYLIGHT
BEGIN:STANDARD
TZOFFSETFROM:-0700
TZOFFSETTO:-0800
TZNAME:PST
DTSTART:20301103T090000
END:STANDARD
BEGIN:DAYLIGHT
TZOFFSETFROM:-0800
TZOFFSETTO:-0700
TZNAME:PDT
DTSTART:20310309T100000
END:DAYLIGHT
BEGIN:STANDARD
TZOFFSETFROM:-0700
TZOFFSETTO:-0800
TZNAME:PST
DTSTART:20311102T090000
END:STANDARD
END:VTIMEZONE
BEGIN:VEVENT
DTSTART;TZID=America/Los_Angeles:20270827T173000
DTEND;TZID=America/Los_Angeles:20270827T200000
DTSTAMP:20260424T100846
CREATED:20251104T222416Z
LAST-MODIFIED:20251104T222416Z
UID:10002765-1819387800-1819396800@www.stlukessanlucas.org
SUMMARY:Friday Night Live!
DESCRIPTION:This adult-only evening is a chance for people to share a meal and conversation. Monthly hosts choose a theme and coordinate the potluck A sign up sheet is in the Parish Hall.
URL:https://www.stlukessanlucas.org/event/friday-night-live-2/2027-08-27/
LOCATION:Parish Hall
CATEGORIES:Social
END:VEVENT
BEGIN:VEVENT
DTSTART;TZID=America/Los_Angeles:20270924T173000
DTEND;TZID=America/Los_Angeles:20270924T200000
DTSTAMP:20260424T100846
CREATED:20251104T222416Z
LAST-MODIFIED:20251104T222416Z
UID:10002766-1821807000-1821816000@www.stlukessanlucas.org
SUMMARY:Friday Night Live!
DESCRIPTION:This adult-only evening is a chance for people to share a meal and conversation. Monthly hosts choose a theme and coordinate the potluck A sign up sheet is in the Parish Hall.
URL:https://www.stlukessanlucas.org/event/friday-night-live-2/2027-09-24/
LOCATION:Parish Hall
CATEGORIES:Social
END:VEVENT
BEGIN:VEVENT
DTSTART;TZID=America/Los_Angeles:20271022T173000
DTEND;TZID=America/Los_Angeles:20271022T200000
DTSTAMP:20260424T100846
CREATED:20251104T222416Z
LAST-MODIFIED:20251104T222416Z
UID:10002767-1824226200-1824235200@www.stlukessanlucas.org
SUMMARY:Friday Night Live!
DESCRIPTION:This adult-only evening is a chance for people to share a meal and conversation. Monthly hosts choose a theme and coordinate the potluck A sign up sheet is in the Parish Hall.
URL:https://www.stlukessanlucas.org/event/friday-night-live-2/2027-10-22/
LOCATION:Parish Hall
CATEGORIES:Social
END:VEVENT
BEGIN:VEVENT
DTSTART;TZID=America/Los_Angeles:20271126T173000
DTEND;TZID=America/Los_Angeles:20271126T200000
DTSTAMP:20260424T100846
CREATED:20251104T222416Z
LAST-MODIFIED:20251104T222416Z
UID:10002768-1827250200-1827259200@www.stlukessanlucas.org
SUMMARY:Friday Night Live!
DESCRIPTION:This adult-only evening is a chance for people to share a meal and conversation. Monthly hosts choose a theme and coordinate the potluck A sign up sheet is in the Parish Hall.
URL:https://www.stlukessanlucas.org/event/friday-night-live-2/2027-11-26/
LOCATION:Parish Hall
CATEGORIES:Social
END:VEVENT
BEGIN:VEVENT
DTSTART;TZID=America/Los_Angeles:20271224T173000
DTEND;TZID=America/Los_Angeles:20271224T200000
DTSTAMP:20260424T100846
CREATED:20251104T222416Z
LAST-MODIFIED:20251104T222416Z
UID:10002769-1829669400-1829678400@www.stlukessanlucas.org
SUMMARY:Friday Night Live!
DESCRIPTION:This adult-only evening is a chance for people to share a meal and conversation. Monthly hosts choose a theme and coordinate the potluck A sign up sheet is in the Parish Hall.
URL:https://www.stlukessanlucas.org/event/friday-night-live-2/2027-12-24/
LOCATION:Parish Hall
CATEGORIES:Social
END:VEVENT
BEGIN:VEVENT
DTSTART;TZID=America/Los_Angeles:20280128T173000
DTEND;TZID=America/Los_Angeles:20280128T200000
DTSTAMP:20260424T100846
CREATED:20251104T222416Z
LAST-MODIFIED:20251104T222416Z
UID:10002770-1832693400-1832702400@www.stlukessanlucas.org
SUMMARY:Friday Night Live!
DESCRIPTION:This adult-only evening is a chance for people to share a meal and conversation. Monthly hosts choose a theme and coordinate the potluck A sign up sheet is in the Parish Hall.
URL:https://www.stlukessanlucas.org/event/friday-night-live-2/2028-01-28/
LOCATION:Parish Hall
CATEGORIES:Social
END:VEVENT
BEGIN:VEVENT
DTSTART;TZID=America/Los_Angeles:20280225T173000
DTEND;TZID=America/Los_Angeles:20280225T200000
DTSTAMP:20260424T100846
CREATED:20251104T222416Z
LAST-MODIFIED:20251104T222416Z
UID:10002771-1835112600-1835121600@www.stlukessanlucas.org
SUMMARY:Friday Night Live!
DESCRIPTION:This adult-only evening is a chance for people to share a meal and conversation. Monthly hosts choose a theme and coordinate the potluck A sign up sheet is in the Parish Hall.
URL:https://www.stlukessanlucas.org/event/friday-night-live-2/2028-02-25/
LOCATION:Parish Hall
CATEGORIES:Social
END:VEVENT
BEGIN:VEVENT
DTSTART;TZID=America/Los_Angeles:20280324T173000
DTEND;TZID=America/Los_Angeles:20280324T200000
DTSTAMP:20260424T100846
CREATED:20251104T222416Z
LAST-MODIFIED:20251104T222416Z
UID:10002772-1837531800-1837540800@www.stlukessanlucas.org
SUMMARY:Friday Night Live!
DESCRIPTION:This adult-only evening is a chance for people to share a meal and conversation. Monthly hosts choose a theme and coordinate the potluck A sign up sheet is in the Parish Hall.
URL:https://www.stlukessanlucas.org/event/friday-night-live-2/2028-03-24/
LOCATION:Parish Hall
CATEGORIES:Social
END:VEVENT
BEGIN:VEVENT
DTSTART;TZID=America/Los_Angeles:20280428T173000
DTEND;TZID=America/Los_Angeles:20280428T200000
DTSTAMP:20260424T100846
CREATED:20251104T222416Z
LAST-MODIFIED:20251104T222416Z
UID:10002773-1840555800-1840564800@www.stlukessanlucas.org
SUMMARY:Friday Night Live!
DESCRIPTION:This adult-only evening is a chance for people to share a meal and conversation. Monthly hosts choose a theme and coordinate the potluck A sign up sheet is in the Parish Hall.
URL:https://www.stlukessanlucas.org/event/friday-night-live-2/2028-04-28/
LOCATION:Parish Hall
CATEGORIES:Social
END:VEVENT
BEGIN:VEVENT
DTSTART;TZID=America/Los_Angeles:20280526T173000
DTEND;TZID=America/Los_Angeles:20280526T200000
DTSTAMP:20260424T100846
CREATED:20251104T222416Z
LAST-MODIFIED:20251104T222416Z
UID:10002774-1842975000-1842984000@www.stlukessanlucas.org
SUMMARY:Friday Night Live!
DESCRIPTION:This adult-only evening is a chance for people to share a meal and conversation. Monthly hosts choose a theme and coordinate the potluck A sign up sheet is in the Parish Hall.
URL:https://www.stlukessanlucas.org/event/friday-night-live-2/2028-05-26/
LOCATION:Parish Hall
CATEGORIES:Social
END:VEVENT
BEGIN:VEVENT
DTSTART;TZID=America/Los_Angeles:20280623T173000
DTEND;TZID=America/Los_Angeles:20280623T200000
DTSTAMP:20260424T100846
CREATED:20251104T222416Z
LAST-MODIFIED:20251104T222416Z
UID:10002775-1845394200-1845403200@www.stlukessanlucas.org
SUMMARY:Friday Night Live!
DESCRIPTION:This adult-only evening is a chance for people to share a meal and conversation. Monthly hosts choose a theme and coordinate the potluck A sign up sheet is in the Parish Hall.
URL:https://www.stlukessanlucas.org/event/friday-night-live-2/2028-06-23/
LOCATION:Parish Hall
CATEGORIES:Social
END:VEVENT
BEGIN:VEVENT
DTSTART;TZID=America/Los_Angeles:20280728T173000
DTEND;TZID=America/Los_Angeles:20280728T200000
DTSTAMP:20260424T100846
CREATED:20251104T222416Z
LAST-MODIFIED:20251104T222416Z
UID:10002776-1848418200-1848427200@www.stlukessanlucas.org
SUMMARY:Friday Night Live!
DESCRIPTION:This adult-only evening is a chance for people to share a meal and conversation. Monthly hosts choose a theme and coordinate the potluck A sign up sheet is in the Parish Hall.
URL:https://www.stlukessanlucas.org/event/friday-night-live-2/2028-07-28/
LOCATION:Parish Hall
CATEGORIES:Social
END:VEVENT
BEGIN:VEVENT
DTSTART;TZID=America/Los_Angeles:20280825T173000
DTEND;TZID=America/Los_Angeles:20280825T200000
DTSTAMP:20260424T100846
CREATED:20251104T222416Z
LAST-MODIFIED:20251104T222416Z
UID:10002777-1850837400-1850846400@www.stlukessanlucas.org
SUMMARY:Friday Night Live!
DESCRIPTION:This adult-only evening is a chance for people to share a meal and conversation. Monthly hosts choose a theme and coordinate the potluck A sign up sheet is in the Parish Hall.
URL:https://www.stlukessanlucas.org/event/friday-night-live-2/2028-08-25/
LOCATION:Parish Hall
CATEGORIES:Social
END:VEVENT
BEGIN:VEVENT
DTSTART;TZID=America/Los_Angeles:20280922T173000
DTEND;TZID=America/Los_Angeles:20280922T200000
DTSTAMP:20260424T100846
CREATED:20251104T222416Z
LAST-MODIFIED:20251104T222416Z
UID:10002778-1853256600-1853265600@www.stlukessanlucas.org
SUMMARY:Friday Night Live!
DESCRIPTION:This adult-only evening is a chance for people to share a meal and conversation. Monthly hosts choose a theme and coordinate the potluck A sign up sheet is in the Parish Hall.
URL:https://www.stlukessanlucas.org/event/friday-night-live-2/2028-09-22/
LOCATION:Parish Hall
CATEGORIES:Social
END:VEVENT
BEGIN:VEVENT
DTSTART;TZID=America/Los_Angeles:20281027T173000
DTEND;TZID=America/Los_Angeles:20281027T200000
DTSTAMP:20260424T100846
CREATED:20251104T222416Z
LAST-MODIFIED:20251104T222416Z
UID:10002779-1856280600-1856289600@www.stlukessanlucas.org
SUMMARY:Friday Night Live!
DESCRIPTION:This adult-only evening is a chance for people to share a meal and conversation. Monthly hosts choose a theme and coordinate the potluck A sign up sheet is in the Parish Hall.
URL:https://www.stlukessanlucas.org/event/friday-night-live-2/2028-10-27/
LOCATION:Parish Hall
CATEGORIES:Social
END:VEVENT
BEGIN:VEVENT
DTSTART;TZID=America/Los_Angeles:20281124T173000
DTEND;TZID=America/Los_Angeles:20281124T200000
DTSTAMP:20260424T100846
CREATED:20251104T222416Z
LAST-MODIFIED:20251104T222416Z
UID:10002780-1858699800-1858708800@www.stlukessanlucas.org
SUMMARY:Friday Night Live!
DESCRIPTION:This adult-only evening is a chance for people to share a meal and conversation. Monthly hosts choose a theme and coordinate the potluck A sign up sheet is in the Parish Hall.
URL:https://www.stlukessanlucas.org/event/friday-night-live-2/2028-11-24/
LOCATION:Parish Hall
CATEGORIES:Social
END:VEVENT
BEGIN:VEVENT
DTSTART;TZID=America/Los_Angeles:20281222T173000
DTEND;TZID=America/Los_Angeles:20281222T200000
DTSTAMP:20260424T100846
CREATED:20251104T222416Z
LAST-MODIFIED:20251104T222416Z
UID:10002781-1861119000-1861128000@www.stlukessanlucas.org
SUMMARY:Friday Night Live!
DESCRIPTION:This adult-only evening is a chance for people to share a meal and conversation. Monthly hosts choose a theme and coordinate the potluck A sign up sheet is in the Parish Hall.
URL:https://www.stlukessanlucas.org/event/friday-night-live-2/2028-12-22/
LOCATION:Parish Hall
CATEGORIES:Social
END:VEVENT
BEGIN:VEVENT
DTSTART;TZID=America/Los_Angeles:20290126T173000
DTEND;TZID=America/Los_Angeles:20290126T200000
DTSTAMP:20260424T100846
CREATED:20251104T222416Z
LAST-MODIFIED:20251104T222416Z
UID:10002782-1864143000-1864152000@www.stlukessanlucas.org
SUMMARY:Friday Night Live!
DESCRIPTION:This adult-only evening is a chance for people to share a meal and conversation. Monthly hosts choose a theme and coordinate the potluck A sign up sheet is in the Parish Hall.
URL:https://www.stlukessanlucas.org/event/friday-night-live-2/2029-01-26/
LOCATION:Parish Hall
CATEGORIES:Social
END:VEVENT
BEGIN:VEVENT
DTSTART;TZID=America/Los_Angeles:20290223T173000
DTEND;TZID=America/Los_Angeles:20290223T200000
DTSTAMP:20260424T100846
CREATED:20251104T222416Z
LAST-MODIFIED:20251104T222416Z
UID:10002783-1866562200-1866571200@www.stlukessanlucas.org
SUMMARY:Friday Night Live!
DESCRIPTION:This adult-only evening is a chance for people to share a meal and conversation. Monthly hosts choose a theme and coordinate the potluck A sign up sheet is in the Parish Hall.
URL:https://www.stlukessanlucas.org/event/friday-night-live-2/2029-02-23/
LOCATION:Parish Hall
CATEGORIES:Social
END:VEVENT
BEGIN:VEVENT
DTSTART;TZID=America/Los_Angeles:20290323T173000
DTEND;TZID=America/Los_Angeles:20290323T200000
DTSTAMP:20260424T100846
CREATED:20251104T222416Z
LAST-MODIFIED:20251104T222416Z
UID:10002784-1868981400-1868990400@www.stlukessanlucas.org
SUMMARY:Friday Night Live!
DESCRIPTION:This adult-only evening is a chance for people to share a meal and conversation. Monthly hosts choose a theme and coordinate the potluck A sign up sheet is in the Parish Hall.
URL:https://www.stlukessanlucas.org/event/friday-night-live-2/2029-03-23/
LOCATION:Parish Hall
CATEGORIES:Social
END:VEVENT
BEGIN:VEVENT
DTSTART;TZID=America/Los_Angeles:20290427T173000
DTEND;TZID=America/Los_Angeles:20290427T200000
DTSTAMP:20260424T100846
CREATED:20251104T222416Z
LAST-MODIFIED:20251104T222416Z
UID:10002785-1872005400-1872014400@www.stlukessanlucas.org
SUMMARY:Friday Night Live!
DESCRIPTION:This adult-only evening is a chance for people to share a meal and conversation. Monthly hosts choose a theme and coordinate the potluck A sign up sheet is in the Parish Hall.
URL:https://www.stlukessanlucas.org/event/friday-night-live-2/2029-04-27/
LOCATION:Parish Hall
CATEGORIES:Social
END:VEVENT
BEGIN:VEVENT
DTSTART;TZID=America/Los_Angeles:20290525T173000
DTEND;TZID=America/Los_Angeles:20290525T200000
DTSTAMP:20260424T100846
CREATED:20251104T222416Z
LAST-MODIFIED:20251104T222416Z
UID:10002786-1874424600-1874433600@www.stlukessanlucas.org
SUMMARY:Friday Night Live!
DESCRIPTION:This adult-only evening is a chance for people to share a meal and conversation. Monthly hosts choose a theme and coordinate the potluck A sign up sheet is in the Parish Hall.
URL:https://www.stlukessanlucas.org/event/friday-night-live-2/2029-05-25/
LOCATION:Parish Hall
CATEGORIES:Social
END:VEVENT
BEGIN:VEVENT
DTSTART;TZID=America/Los_Angeles:20290622T173000
DTEND;TZID=America/Los_Angeles:20290622T200000
DTSTAMP:20260424T100846
CREATED:20251104T222416Z
LAST-MODIFIED:20251104T222416Z
UID:10002787-1876843800-1876852800@www.stlukessanlucas.org
SUMMARY:Friday Night Live!
DESCRIPTION:This adult-only evening is a chance for people to share a meal and conversation. Monthly hosts choose a theme and coordinate the potluck A sign up sheet is in the Parish Hall.
URL:https://www.stlukessanlucas.org/event/friday-night-live-2/2029-06-22/
LOCATION:Parish Hall
CATEGORIES:Social
END:VEVENT
BEGIN:VEVENT
DTSTART;TZID=America/Los_Angeles:20290727T173000
DTEND;TZID=America/Los_Angeles:20290727T200000
DTSTAMP:20260424T100846
CREATED:20251104T222416Z
LAST-MODIFIED:20251104T222416Z
UID:10002788-1879867800-1879876800@www.stlukessanlucas.org
SUMMARY:Friday Night Live!
DESCRIPTION:This adult-only evening is a chance for people to share a meal and conversation. Monthly hosts choose a theme and coordinate the potluck A sign up sheet is in the Parish Hall.
URL:https://www.stlukessanlucas.org/event/friday-night-live-2/2029-07-27/
LOCATION:Parish Hall
CATEGORIES:Social
END:VEVENT
BEGIN:VEVENT
DTSTART;TZID=America/Los_Angeles:20290824T173000
DTEND;TZID=America/Los_Angeles:20290824T200000
DTSTAMP:20260424T100846
CREATED:20251104T222416Z
LAST-MODIFIED:20251104T222416Z
UID:10002789-1882287000-1882296000@www.stlukessanlucas.org
SUMMARY:Friday Night Live!
DESCRIPTION:This adult-only evening is a chance for people to share a meal and conversation. Monthly hosts choose a theme and coordinate the potluck A sign up sheet is in the Parish Hall.
URL:https://www.stlukessanlucas.org/event/friday-night-live-2/2029-08-24/
LOCATION:Parish Hall
CATEGORIES:Social
END:VEVENT
BEGIN:VEVENT
DTSTART;TZID=America/Los_Angeles:20290928T173000
DTEND;TZID=America/Los_Angeles:20290928T200000
DTSTAMP:20260424T100846
CREATED:20251104T222416Z
LAST-MODIFIED:20251104T222416Z
UID:10002790-1885311000-1885320000@www.stlukessanlucas.org
SUMMARY:Friday Night Live!
DESCRIPTION:This adult-only evening is a chance for people to share a meal and conversation. Monthly hosts choose a theme and coordinate the potluck A sign up sheet is in the Parish Hall.
URL:https://www.stlukessanlucas.org/event/friday-night-live-2/2029-09-28/
LOCATION:Parish Hall
CATEGORIES:Social
END:VEVENT
BEGIN:VEVENT
DTSTART;TZID=America/Los_Angeles:20291026T173000
DTEND;TZID=America/Los_Angeles:20291026T200000
DTSTAMP:20260424T100846
CREATED:20251104T222416Z
LAST-MODIFIED:20251104T222416Z
UID:10002791-1887730200-1887739200@www.stlukessanlucas.org
SUMMARY:Friday Night Live!
DESCRIPTION:This adult-only evening is a chance for people to share a meal and conversation. Monthly hosts choose a theme and coordinate the potluck A sign up sheet is in the Parish Hall.
URL:https://www.stlukessanlucas.org/event/friday-night-live-2/2029-10-26/
LOCATION:Parish Hall
CATEGORIES:Social
END:VEVENT
BEGIN:VEVENT
DTSTART;TZID=America/Los_Angeles:20291123T173000
DTEND;TZID=America/Los_Angeles:20291123T200000
DTSTAMP:20260424T100846
CREATED:20251104T222416Z
LAST-MODIFIED:20251104T222416Z
UID:10002792-1890149400-1890158400@www.stlukessanlucas.org
SUMMARY:Friday Night Live!
DESCRIPTION:This adult-only evening is a chance for people to share a meal and conversation. Monthly hosts choose a theme and coordinate the potluck A sign up sheet is in the Parish Hall.
URL:https://www.stlukessanlucas.org/event/friday-night-live-2/2029-11-23/
LOCATION:Parish Hall
CATEGORIES:Social
END:VEVENT
BEGIN:VEVENT
DTSTART;TZID=America/Los_Angeles:20291228T173000
DTEND;TZID=America/Los_Angeles:20291228T200000
DTSTAMP:20260424T100846
CREATED:20251104T222416Z
LAST-MODIFIED:20251104T222416Z
UID:10002793-1893173400-1893182400@www.stlukessanlucas.org
SUMMARY:Friday Night Live!
DESCRIPTION:This adult-only evening is a chance for people to share a meal and conversation. Monthly hosts choose a theme and coordinate the potluck A sign up sheet is in the Parish Hall.
URL:https://www.stlukessanlucas.org/event/friday-night-live-2/2029-12-28/
LOCATION:Parish Hall
CATEGORIES:Social
END:VEVENT
BEGIN:VEVENT
DTSTART;TZID=America/Los_Angeles:20300125T173000
DTEND;TZID=America/Los_Angeles:20300125T200000
DTSTAMP:20260424T100846
CREATED:20251104T222416Z
LAST-MODIFIED:20251104T222416Z
UID:10002794-1895592600-1895601600@www.stlukessanlucas.org
SUMMARY:Friday Night Live!
DESCRIPTION:This adult-only evening is a chance for people to share a meal and conversation. Monthly hosts choose a theme and coordinate the potluck A sign up sheet is in the Parish Hall.
URL:https://www.stlukessanlucas.org/event/friday-night-live-2/2030-01-25/
LOCATION:Parish Hall
CATEGORIES:Social
END:VEVENT
END:VCALENDAR