BEGIN:VCALENDAR
VERSION:2.0
PRODID:-//St. Luke&#039;s ~ San Lucas - ECPv6.15.19//NONSGML v1.0//EN
CALSCALE:GREGORIAN
METHOD:PUBLISH
X-ORIGINAL-URL:https://www.stlukessanlucas.org
X-WR-CALDESC:Events for St. Luke&#039;s ~ San Lucas
REFRESH-INTERVAL;VALUE=DURATION:PT1H
X-Robots-Tag:noindex
X-PUBLISHED-TTL:PT1H
BEGIN:VTIMEZONE
TZID:America/Los_Angeles
BEGIN:DAYLIGHT
TZOFFSETFROM:-0800
TZOFFSETTO:-0700
TZNAME:PDT
DTSTART:20240310T100000
END:DAYLIGHT
BEGIN:STANDARD
TZOFFSETFROM:-0700
TZOFFSETTO:-0800
TZNAME:PST
DTSTART:20241103T090000
END:STANDARD
BEGIN:DAYLIGHT
TZOFFSETFROM:-0800
TZOFFSETTO:-0700
TZNAME:PDT
DTSTART:20250309T100000
END:DAYLIGHT
BEGIN:STANDARD
TZOFFSETFROM:-0700
TZOFFSETTO:-0800
TZNAME:PST
DTSTART:20251102T090000
END:STANDARD
BEGIN:DAYLIGHT
TZOFFSETFROM:-0800
TZOFFSETTO:-0700
TZNAME:PDT
DTSTART:20260308T100000
END:DAYLIGHT
BEGIN:STANDARD
TZOFFSETFROM:-0700
TZOFFSETTO:-0800
TZNAME:PST
DTSTART:20261101T090000
END:STANDARD
END:VTIMEZONE
BEGIN:VEVENT
DTSTART;TZID=America/Los_Angeles:20251217T083000
DTEND;TZID=America/Los_Angeles:20251217T103000
DTSTAMP:20260424T073236
CREATED:20250912T232148Z
LAST-MODIFIED:20250912T232148Z
UID:10001587-1765960200-1765967400@www.stlukessanlucas.org
SUMMARY:R & R Retirees Breakfast
DESCRIPTION:The Peachtree Restaurant
URL:https://www.stlukessanlucas.org/event/r-r-retirees-breakfast-2-2/2025-12-17/
LOCATION:Paul’s Restaurant
END:VEVENT
BEGIN:VEVENT
DTSTART;TZID=America/Los_Angeles:20251119T083000
DTEND;TZID=America/Los_Angeles:20251119T103000
DTSTAMP:20260424T073236
CREATED:20250912T232148Z
LAST-MODIFIED:20250912T232148Z
UID:10001586-1763541000-1763548200@www.stlukessanlucas.org
SUMMARY:R & R Retirees Breakfast
DESCRIPTION:The Peachtree Restaurant
URL:https://www.stlukessanlucas.org/event/r-r-retirees-breakfast-2-2/2025-11-19/
LOCATION:Paul’s Restaurant
END:VEVENT
BEGIN:VEVENT
DTSTART;TZID=America/Los_Angeles:20251015T083000
DTEND;TZID=America/Los_Angeles:20251015T103000
DTSTAMP:20260424T073236
CREATED:20250912T232148Z
LAST-MODIFIED:20250912T232148Z
UID:10001585-1760517000-1760524200@www.stlukessanlucas.org
SUMMARY:R & R Retirees Breakfast
DESCRIPTION:The Peachtree Restaurant
URL:https://www.stlukessanlucas.org/event/r-r-retirees-breakfast-2-2/2025-10-15/
LOCATION:Paul’s Restaurant
END:VEVENT
BEGIN:VEVENT
DTSTART;TZID=America/Los_Angeles:20250917T083000
DTEND;TZID=America/Los_Angeles:20250917T103000
DTSTAMP:20260424T073236
CREATED:20250912T232148Z
LAST-MODIFIED:20250912T232148Z
UID:10001584-1758097800-1758105000@www.stlukessanlucas.org
SUMMARY:R & R Retirees Breakfast
DESCRIPTION:The Peachtree Restaurant
URL:https://www.stlukessanlucas.org/event/r-r-retirees-breakfast-2-2/2025-09-17/
LOCATION:Paul’s Restaurant
END:VEVENT
BEGIN:VEVENT
DTSTART;TZID=America/Los_Angeles:20250820T083000
DTEND;TZID=America/Los_Angeles:20250820T103000
DTSTAMP:20260424T073236
CREATED:20250616T213354Z
LAST-MODIFIED:20250912T232030Z
UID:10001583-1755678600-1755685800@www.stlukessanlucas.org
SUMMARY:R & R Retirees Breakfast
DESCRIPTION:The Peachtree Restaurant
URL:https://www.stlukessanlucas.org/event/r-r-retirees-breakfast-2/2025-08-20/
LOCATION:Paul’s Restaurant
END:VEVENT
BEGIN:VEVENT
DTSTART;TZID=America/Los_Angeles:20250716T083000
DTEND;TZID=America/Los_Angeles:20250716T103000
DTSTAMP:20260424T073236
CREATED:20250616T213354Z
LAST-MODIFIED:20250912T232030Z
UID:10001582-1752654600-1752661800@www.stlukessanlucas.org
SUMMARY:R & R Retirees Breakfast
DESCRIPTION:The Peachtree Restaurant
URL:https://www.stlukessanlucas.org/event/r-r-retirees-breakfast-2/2025-07-16/
LOCATION:Paul’s Restaurant
END:VEVENT
BEGIN:VEVENT
DTSTART;TZID=America/Los_Angeles:20250618T083000
DTEND;TZID=America/Los_Angeles:20250618T103000
DTSTAMP:20260424T073236
CREATED:20250616T213354Z
LAST-MODIFIED:20250912T232030Z
UID:10001581-1750235400-1750242600@www.stlukessanlucas.org
SUMMARY:R & R Retirees Breakfast
DESCRIPTION:The Peachtree Restaurant
URL:https://www.stlukessanlucas.org/event/r-r-retirees-breakfast-2/2025-06-18/
LOCATION:Paul’s Restaurant
END:VEVENT
BEGIN:VEVENT
DTSTART;TZID=America/Los_Angeles:20250521T083000
DTEND;TZID=America/Los_Angeles:20250521T103000
DTSTAMP:20260424T073236
CREATED:20250304T213958Z
LAST-MODIFIED:20250304T214029Z
UID:10001580-1747816200-1747823400@www.stlukessanlucas.org
SUMMARY:R & R Retirees Breakfast
DESCRIPTION:
URL:https://www.stlukessanlucas.org/event/r-r-retirees-breakfast/2025-05-21/
LOCATION:Paul’s Restaurant
END:VEVENT
BEGIN:VEVENT
DTSTART;TZID=America/Los_Angeles:20250416T083000
DTEND;TZID=America/Los_Angeles:20250416T103000
DTSTAMP:20260424T073236
CREATED:20250304T213958Z
LAST-MODIFIED:20250304T214029Z
UID:10001579-1744792200-1744799400@www.stlukessanlucas.org
SUMMARY:R & R Retirees Breakfast
DESCRIPTION:
URL:https://www.stlukessanlucas.org/event/r-r-retirees-breakfast/2025-04-16/
LOCATION:Paul’s Restaurant
END:VEVENT
BEGIN:VEVENT
DTSTART;TZID=America/Los_Angeles:20250319T083000
DTEND;TZID=America/Los_Angeles:20250319T103000
DTSTAMP:20260424T073236
CREATED:20250304T213958Z
LAST-MODIFIED:20250304T214029Z
UID:10001578-1742373000-1742380200@www.stlukessanlucas.org
SUMMARY:R & R Retirees Breakfast
DESCRIPTION:
URL:https://www.stlukessanlucas.org/event/r-r-retirees-breakfast/2025-03-19/
LOCATION:Paul’s Restaurant
END:VEVENT
END:VCALENDAR